Shooting information for this photo
| Camera: | NIKON CORPORATION NIKON D700 |
| Exposure: | 0.001 sec. (1/1000) |
| Aperture: | f/3.3 |
| Focal Length: | 105.0 mm (35 mm equivalent: 105.0 mm) |
| Flash: | No Flash |
| Exposure mode: | Aperture-priority AE |
| Max Aperture: | 3.4 |
| Resolution: | 240 x 240 dpi |
| Dimension: | 4256 x 2832 pixels |
| Original Date: | 2009:08:08 18:55:43.42 |
| Digitized Date: | 2009:08:08 18:55:43.42+02:00 |
| Created on: | 2009:08:08 18:55:43.42 |
| Modified on: | 2009:09:25 20:37:49 |
| Software: | Ver.1.01 |
| Copyright: | Thore Siebrands |
| Already Applied | True |
| Artist | Thore Siebrands |
| Blue Hue | 0 |
| Blue Saturation | 0 |
| Brightness | +3 |
| CFA Pattern | [Red,Green][Green,Blue] |
| Camera Profile | Adobe Standard |
| Chromatic Aberration B | 0 |
| Chromatic Aberration R | 0 |
| Circle Of Confusion | 0.030 mm |
| Clarity | +30 |
| Color Mode | RGB |
| Color Noise Reduction | 25 |
| Color Space | sRGB |
| Color Temperature | 6750 |
| Contrast | +50 |
| Convert To Grayscale | False |
| Creator | Thore Siebrands |
| Custom Rendered | Normal |
| Defringe | 0 |
| Digital Zoom Ratio | 1 |
| Exposure | +0.45 |
| Exposure Compensation | 0 |
| Exposure Mode | Auto |
| Field Of View | 19.5 deg |
| Fill Light | 0 |
| Flash Fired | False |
| Flash Function | False |
| Flash Mode | Unknown |
| Flash Red Eye Mode | False |
| Flash Return | No return detection |
| Focal Length In 35mm Format | 105 mm |
| Gain Control | Low gain up |
| Green Hue | 0 |
| Green Saturation | 0 |
| Has Crop | False |
| Has Settings | True |
| Hierarchical Subject | Kamera|D700, Kamera|AF Micro 105 mm/2.8D |
| Highlight Recovery | 0 |
| Hue Adjustment Aqua | 0 |
| Hue Adjustment Blue | 0 |
| Hue Adjustment Green | 0 |
| Hue Adjustment Magenta | 0 |
| Hue Adjustment Orange | 0 |
| Hue Adjustment Purple | 0 |
| Hue Adjustment Red | 0 |
| Hue Adjustment Yellow | 0 |
| Hyperfocal Distance | 111.19 m |
| ICC Profile Name | sRGB IEC61966-2.1 |
| ISO | 400 |
| Image Number | 12897 |
| Image Size | 4256x2832 |
| Label | gelb |
| Lens | 105.0 mm f/2.8 |
| Lens Info | 105mm f/2.8 |
| Light Source | Unknown |
| Light Value | 11.4 |
| Luminance Adjustment Aqua | 0 |
| Luminance Adjustment Blue | 0 |
| Luminance Adjustment Green | 0 |
| Luminance Adjustment Magenta | 0 |
| Luminance Adjustment Orange | 0 |
| Luminance Adjustment Purple | 0 |
| Luminance Adjustment Red | 0 |
| Luminance Adjustment Yellow | 0 |
| Luminance Smoothing | 0 |
| Metering Mode | Multi-segment |
| Parametric Darks | 0 |
| Parametric Highlight Split | 75 |
| Parametric Highlights | 0 |
| Parametric Lights | 0 |
| Parametric Midtone Split | 50 |
| Parametric Shadow Split | 25 |
| Parametric Shadows | 0 |
| Photometric Interpretation | RGB |
| Post Crop Vignette Amount | 0 |
| Rating | 0 |
| Raw File Name | D7H_2191.NEF |
| Red Hue | 0 |
| Red Saturation | 0 |
| Rights | Thore Siebrands |
| Samples Per Pixel | 3 |
| Saturation | 0 |
| Saturation Adjustment Aqua | 0 |
| Saturation Adjustment Blue | 0 |
| Saturation Adjustment Green | 0 |
| Saturation Adjustment Magenta | 0 |
| Saturation Adjustment Orange | 0 |
| Saturation Adjustment Purple | 0 |
| Saturation Adjustment Red | 0 |
| Saturation Adjustment Yellow | 0 |
| Scale Factor To 35 mm Equivalent | 1.0 |
| Scene Capture Type | Standard |
| Scene Type | Directly photographed |
| Sensing Method | One-chip color area |
| Shadow Tint | 0 |
| Shadows | 4 |
| Sharpen Detail | 25 |
| Sharpen Edge Masking | 0 |
| Sharpen Radius | +1.0 |
| Sharpness | 70 |
| Split Toning Balance | 0 |
| Split Toning Highlight Hue | 0 |
| Split Toning Highlight Saturation | 0 |
| Split Toning Shadow Hue | 0 |
| Split Toning Shadow Saturation | 0 |
| Subject | AF Micro 105 mm/2.8D, D700 |
| Subject Distance Range | Unknown |
| Tint | 0 |
| Tone Curve | 0, 0, 32, 22, 64, 56, 128, 128, 192, 196, 255, 255 |
| Tone Curve Name | Medium Contrast |
| Version | 5.2 |
| Vibrance | +15 |
| Vignette Amount | 0 |
| White Balance | Auto |
X