Shooting information for this photo
| Camera: | FUJIFILM X-E4 |
| Exposure: | 0.00063 sec. (1/1600) |
| Aperture: | f/8.0 |
| Focal Length: | 50.0 mm (35 mm equivalent: 75.0 mm) |
| Flash: | No Flash |
| Exposure mode: | Aperture-priority AE |
| Max Aperture: | 2.0 |
| Resolution: | 240 x 240 dpi |
| Original Date: | 2024:04:22 17:18:06 |
| Created on: | 2024:04:22 17:18:06 |
| Modified on: | 2026:04:13 22:33:15 |
| Software: | Adobe Photoshop Lightroom Classic 15.2.1 (Macintosh) |
| Copyright: | Thore Siebrands |
| Already Applied | True |
| Artist | Thore Siebrands |
| Auto Lateral CA | 1 |
| Blacks 2012 | 0 |
| Blue Hue | 0 |
| Blue Saturation | 0 |
| Brightness Value | 10.14 |
| Camera Profile | Adobe Standard |
| Camera Profiles Aperture Value | 6 |
| Camera Profiles Author | Adobe |
| Camera Profiles Auto Scale | False |
| Camera Profiles Camera Pretty Name | Fujifilm X-E4 |
| Camera Profiles Camera Raw Profile | True |
| Camera Profiles Focal Length | 50 |
| Camera Profiles Focus Distance | 10000 |
| Camera Profiles Lens | XF50mmF2 R WR |
| Camera Profiles Lens Pretty Name | XF50mmF2 R WR |
| Camera Profiles Make | FUJIFILM |
| Camera Profiles Model | X-E4 |
| Camera Profiles Perspective Model Radial Distort Param 1 | 0.134137 |
| Camera Profiles Perspective Model Radial Distort Param 2 | 0.268869 |
| Camera Profiles Perspective Model Radial Distort Param 3 | -5.000428 |
| Camera Profiles Perspective Model Scale Factor | 0.990187 |
| Camera Profiles Perspective Model Version | 2 |
| Camera Profiles Profile Name | Camera Settings |
| Camera Profiles Sensor Format Factor | 1.531929 |
| Camera Profiles Unique Camera Model | Fujifilm X-E4 |
| Circle Of Confusion | 0.020 mm |
| City | Kiel |
| Clarity 2012 | +33 |
| Color Grade Blending | 50 |
| Color Grade Global Hue | 0 |
| Color Grade Global Lum | 0 |
| Color Grade Global Sat | 0 |
| Color Grade Highlight Lum | 0 |
| Color Grade Midtone Hue | 0 |
| Color Grade Midtone Lum | 0 |
| Color Grade Midtone Sat | 0 |
| Color Grade Shadow Lum | 0 |
| Color Noise Reduction | 25 |
| Color Noise Reduction Detail | 50 |
| Color Noise Reduction Smoothness | 50 |
| Color Space | sRGB |
| Color Temperature | 5100 |
| Color Variance | -50.000000 |
| Contrast 2012 | +34 |
| Country | Deutschland |
| Country Code | DE |
| Creator | Thore Siebrands |
| Crop Angle | 0 |
| Crop Bottom | 0.99321 |
| Crop Constrain To Unit Square | 1 |
| Crop Constrain To Warp | 0 |
| Crop Left | 0.056626 |
| Crop Right | 0.854289 |
| Crop Top | 0.195547 |
| Custom Rendered | Normal |
| Date Created | 2024:04:22 17:18:06+01:00 |
| Defringe Green Amount | 0 |
| Defringe Green Hue Hi | 60 |
| Defringe Green Hue Lo | 40 |
| Defringe Purple Amount | 0 |
| Defringe Purple Hue Hi | 70 |
| Defringe Purple Hue Lo | 30 |
| Dehaze | +35 |
| Distortion Correction Already Applied | True |
| Exposure 2012 | +1.85 |
| Exposure Compensation | 0 |
| Exposure Mode | Auto |
| Field Of View | 27.0 deg |
| Focal Length In 35mm Format | 75 mm |
| Format | image/jpeg |
| Fuji Rating Already Applied | True |
| Grain Amount | 0 |
| Green Hue | 0 |
| Green Saturation | 0 |
| HDR Edit Mode | 0 |
| HDR Max Value | +4.00 |
| Has Crop | True |
| Has Settings | True |
| Highlights 2012 | 0 |
| Hue Adjustment Aqua | 0 |
| Hue Adjustment Blue | 0 |
| Hue Adjustment Green | 0 |
| Hue Adjustment Magenta | 0 |
| Hue Adjustment Orange | 0 |
| Hue Adjustment Purple | 0 |
| Hue Adjustment Red | 0 |
| Hue Adjustment Yellow | 0 |
| Hyperfocal Distance | 15.60 m |
| ISO | 320 |
| Image Size | 3000x2000 |
| Label | gelb |
| Label Color | yellow |
| Lateral Chromatic Aberration Correction Already Applied | True |
| Lens | XF50mmF2 R WR |
| Lens Info | 50mm f/2 |
| Lens Make | FUJIFILM |
| Lens Manual Distortion Amount | 0 |
| Lens Model | XF50mmF2 R WR |
| Lens Profile Distortion Scale | 100 |
| Lens Profile Enable | 1 |
| Lens Profile Is Embedded | True |
| Lens Profile Name | Camera Settings |
| Lens Profile Setup | LensDefaults |
| Lens Profile Vignetting Scale | 100 |
| Light Source | Unknown |
| Light Value | 15.0 |
| Location | Damperhof |
| Look Amount | 1 |
| Look Group | Profiles |
| Look Name | Adobe Color |
| Look Parameters Camera Profile | Adobe Standard |
| Look Parameters Convert To Grayscale | False |
| Look Parameters Look Table | E1095149FDB39D7A057BAB208837E2 E1 |
| Look Parameters Process Version | 15.4 |
| Look Parameters Tone Curve PV2012 | 0, 0, 22, 16, 40, 35, 127, 127, 224, 230, 240, 246, 255, 255 |
| Look Parameters Tone Curve PV2012 Blue | 0, 0, 255, 255 |
| Look Parameters Tone Curve PV2012 Green | 0, 0, 255, 255 |
| Look Parameters Tone Curve PV2012 Red | 0, 0, 255, 255 |
| Look Parameters Version | 18.2.2 |
| Look Supports Amount | false |
| Look Supports Monochrome | false |
| Look Supports Output Referred | false |
| Luminance Adjustment Aqua | 0 |
| Luminance Adjustment Blue | 0 |
| Luminance Adjustment Green | 0 |
| Luminance Adjustment Magenta | 0 |
| Luminance Adjustment Orange | 0 |
| Luminance Adjustment Purple | 0 |
| Luminance Adjustment Red | 0 |
| Luminance Adjustment Yellow | 0 |
| Luminance Smoothing | 0 |
| Metering Mode | Average |
| Override Look Vignette | False |
| Parametric Darks | 0 |
| Parametric Highlight Split | 75 |
| Parametric Highlights | 0 |
| Parametric Lights | 0 |
| Parametric Midtone Split | 50 |
| Parametric Shadow Split | 25 |
| Parametric Shadows | 0 |
| Perspective Aspect | 0 |
| Perspective Horizontal | 0 |
| Perspective Rotate | 0.0 |
| Perspective Scale | 100 |
| Perspective Upright | 5 |
| Perspective Vertical | 0 |
| Perspective X | 0.00 |
| Perspective Y | 0.00 |
| Pick | 0 |
| Point Colors | -1.000000, -1.000000, -1.000000, -1.000000, -1.000000, -1.000000, -1.000000, -1.000000, -1.000000, -1.000000, -1.000000, -1.000000, -1.000000, -1.000000, -1.000000, -1.000000, -1.000000, -1.000000, -1.000000 |
| Post Crop Vignette Amount | 0 |
| Preserved File Name | DSCF6713.RAF |
| Process Version | 15.4 |
| Rating | 3 |
| Raw File Name | DSCF6713.dng |
| Red Hue | 0 |
| Red Saturation | 0 |
| Rights | Thore Siebrands |
| Saturation | 0 |
| Saturation Adjustment Aqua | 0 |
| Saturation Adjustment Blue | 0 |
| Saturation Adjustment Green | 0 |
| Saturation Adjustment Magenta | 0 |
| Saturation Adjustment Orange | 0 |
| Saturation Adjustment Purple | 0 |
| Saturation Adjustment Red | 0 |
| Saturation Adjustment Yellow | 0 |
| Scale Factor To 35 mm Equivalent | 1.5 |
| Scene Capture Type | Standard |
| Scene Type | Directly photographed |
| Sensing Method | One-chip color area |
| Sensitivity Type | Standard Output Sensitivity |
| Shadow Tint | 0 |
| Shadows 2012 | -32 |
| Sharpen Detail | 25 |
| Sharpen Edge Masking | 0 |
| Sharpen Radius | +1.0 |
| Sharpness | Normal |
| Split Toning Balance | 0 |
| Split Toning Highlight Hue | 0 |
| Split Toning Highlight Saturation | 0 |
| Split Toning Shadow Hue | 0 |
| Split Toning Shadow Saturation | 0 |
| State | Schleswig-Holstein |
| Subject | Architektur, Fenster, Person |
| Subject Distance Range | Unknown |
| Texture | 0 |
| Tint | +22 |
| Tone Curve Name 2012 | Linear |
| Tone Curve PV2012 | 0, 0, 255, 255 |
| Tone Curve PV2012 Blue | 0, 0, 255, 255 |
| Tone Curve PV2012 Green | 0, 0, 255, 255 |
| Tone Curve PV2012 Red | 0, 0, 255, 255 |
| Version | 18.2.2 |
| Vibrance | -9 |
| Vignette Amount | 0 |
| Weighted Flat Subject | Person, Architektur, Fenster |
| White Balance | Auto |
| Whites 2012 | 0 |
GPS Information |
| GPS Latitude | 54 deg 19' 35.18" N |
| GPS Latitude Ref | North |
| GPS Longitude | 10 deg 7' 58.12" E |
| GPS Longitude Ref | East |
| GPS Position | 54 deg 19' 35.18" N, 10 deg 7' 58.12" E |
| GPS Version ID | 2.2.0.0 |
X