Shooting information for this photo
| Camera: | LEICA CAMERA AG LEICA Q2 |
| Exposure: | 0.0004 sec. (1/2500) |
| Aperture: | f/1.7 |
| Focal Length: | 28.0 mm (35 mm equivalent: 28.0 mm) |
| Flash: | Off, Did not fire |
| Exposure mode: | Aperture-priority AE |
| Max Aperture: | 1.7 |
| Resolution: | 240 x 240 dpi |
| Original Date: | 2025:10:27 15:21:52 |
| Created on: | 2025:10:27 15:21:52 |
| Modified on: | 2025:10:27 20:52:17 |
| Software: | Adobe Photoshop Lightroom Classic 14.5.1 (Macintosh) |
| Already Applied | True |
| Auto Lateral CA | 0 |
| Blacks 2012 | -22 |
| Blue Hue | 0 |
| Blue Saturation | 0 |
| Camera Profile | Adobe Standard |
| Circle Of Confusion | 0.030 mm |
| City | Kiel |
| Clarity 2012 | +9 |
| Color Grade Blending | 50 |
| Color Grade Global Hue | 0 |
| Color Grade Global Lum | 0 |
| Color Grade Global Sat | 0 |
| Color Grade Highlight Lum | 0 |
| Color Grade Midtone Hue | 0 |
| Color Grade Midtone Lum | 0 |
| Color Grade Midtone Sat | 0 |
| Color Grade Shadow Lum | 0 |
| Color Noise Reduction | 25 |
| Color Noise Reduction Detail | 50 |
| Color Noise Reduction Smoothness | 50 |
| Color Space | sRGB |
| Color Temperature | 5272 |
| Color Variance | -50.000000 |
| Compatible Version | 251854848 |
| Contrast | Normal |
| Contrast 2012 | +6 |
| Convert To Grayscale | False |
| Country | Deutschland |
| Country Code | DE |
| Crop Angle | -1.11 |
| Crop Bottom | 0.972972 |
| Crop Constrain To Unit Square | 1 |
| Crop Constrain To Warp | 0 |
| Crop Left | 0.034972 |
| Crop Right | 0.977847 |
| Crop Top | 0.069159 |
| Custom Rendered | Normal |
| Date Created | 2025:10:27 15:21:52+01:00 |
| Defringe Green Amount | 0 |
| Defringe Green Hue Hi | 60 |
| Defringe Green Hue Lo | 40 |
| Defringe Purple Amount | 0 |
| Defringe Purple Hue Hi | 70 |
| Defringe Purple Hue Lo | 30 |
| Dehaze | +10 |
| Digital Zoom Ratio | 1 |
| Distortion Correction Already Applied | True |
| Exposure 2012 | +0.20 |
| Exposure Compensation | 0 |
| Field Of View | 65.5 deg |
| Focal Length In 35mm Format | 28 mm |
| Format | image/jpeg |
| Grain Amount | 0 |
| Green Hue | 0 |
| Green Saturation | 0 |
| HDR Edit Mode | 0 |
| Has Crop | True |
| Has Settings | True |
| Highlights 2012 | -64 |
| Hue Adjustment Aqua | 0 |
| Hue Adjustment Blue | 0 |
| Hue Adjustment Green | 0 |
| Hue Adjustment Magenta | 0 |
| Hue Adjustment Orange | 0 |
| Hue Adjustment Purple | 0 |
| Hue Adjustment Red | 0 |
| Hue Adjustment Yellow | -10 |
| Hyperfocal Distance | 15.35 m |
| ISO | 100 |
| Image Size | 3000x2002 |
| Label | gelb |
| Lateral Chromatic Aberration Correction Already Applied | True |
| Lens | SUMMILUX 1:1.7/28 ASPH. |
| Lens Info | 28mm f/1.53125-2.97265625 |
| Lens Manual Distortion Amount | 0 |
| Lens Model | SUMMILUX 1:1.7/28 ASPH. |
| Lens Profile Enable | 0 |
| Light Source | Unknown |
| Light Value | 12.8 |
| Luminance Adjustment Aqua | 0 |
| Luminance Adjustment Blue | 0 |
| Luminance Adjustment Green | 0 |
| Luminance Adjustment Magenta | 0 |
| Luminance Adjustment Orange | 0 |
| Luminance Adjustment Purple | 0 |
| Luminance Adjustment Red | 0 |
| Luminance Adjustment Yellow | -15 |
| Luminance Smoothing | 0 |
| Metering Mode | Multi-segment |
| Override Look Vignette | False |
| Parametric Darks | 0 |
| Parametric Highlight Split | 75 |
| Parametric Highlights | 0 |
| Parametric Lights | 0 |
| Parametric Midtone Split | 50 |
| Parametric Shadow Split | 25 |
| Parametric Shadows | 0 |
| Perspective Aspect | 0 |
| Perspective Horizontal | 0 |
| Perspective Rotate | 0.0 |
| Perspective Scale | 100 |
| Perspective Upright | 1 |
| Perspective Vertical | 0 |
| Perspective X | 0.00 |
| Perspective Y | 0.00 |
| Pick | 0 |
| Point Colors | -1.000000, -1.000000, -1.000000, -1.000000, -1.000000, -1.000000, -1.000000, -1.000000, -1.000000, -1.000000, -1.000000, -1.000000, -1.000000, -1.000000, -1.000000, -1.000000, -1.000000, -1.000000, -1.000000 |
| Post Crop Vignette Amount | 0 |
| Preserved File Name | Q1004704.DNG |
| Process Version | 15.4 |
| Rating | 3 |
| Raw File Name | Q1004704.DNG |
| Red Hue | 0 |
| Red Saturation | 0 |
| Saturation | Normal |
| Saturation Adjustment Aqua | 0 |
| Saturation Adjustment Blue | 0 |
| Saturation Adjustment Green | 0 |
| Saturation Adjustment Magenta | 0 |
| Saturation Adjustment Orange | +11 |
| Saturation Adjustment Purple | 0 |
| Saturation Adjustment Red | 0 |
| Saturation Adjustment Yellow | +28 |
| Scale Factor To 35 mm Equivalent | 1.0 |
| Scene Capture Type | Standard |
| Sensing Method | One-chip color area |
| Sensitivity Type | Standard Output Sensitivity |
| Shadow Tint | 0 |
| Shadows 2012 | +54 |
| Sharpen Detail | 25 |
| Sharpen Edge Masking | 35 |
| Sharpen Radius | +1.0 |
| Sharpness | Normal |
| Split Toning Balance | 0 |
| Split Toning Highlight Hue | 0 |
| Split Toning Highlight Saturation | 0 |
| Split Toning Shadow Hue | 0 |
| Split Toning Shadow Saturation | 0 |
| Standard Output Sensitivity | 100 |
| State | Schleswig-Holstein |
| Subject | gelbe Jacke |
| Texture | 0 |
| Tint | +22 |
| Title | Everywhere |
| Tone Curve Name 2012 | Linear |
| Tone Curve PV2012 | 0, 0, 255, 255 |
| Tone Curve PV2012 Blue | 0, 0, 255, 255 |
| Tone Curve PV2012 Green | 0, 0, 255, 255 |
| Tone Curve PV2012 Red | 0, 0, 255, 255 |
| Version | 17.5 |
| Vibrance | 0 |
| Vignette Amount | 0 |
| Weighted Flat Subject | gelbe Jacke |
| White Balance | Auto |
| Whites 2012 | -2 |
GPS Information |
| GPS Latitude | 54 deg 22' 3.28" N |
| GPS Latitude Ref | North |
| GPS Longitude | 10 deg 7' 59.06" E |
| GPS Longitude Ref | East |
| GPS Position | 54 deg 22' 3.28" N, 10 deg 7' 59.06" E |
| GPS Version ID | 2.2.0.0 |
X