Shooting information for this photo
| Camera: | NIKON CORPORATION NIKON Z 8 |
| Exposure: | 0.06667 sec. (1/15) |
| Aperture: | f/1.2 |
| Focal Length: | 85.0 mm (35 mm equivalent: 85.0 mm) |
| Flash: | No Flash |
| Exposure mode: | Manual |
| Resolution: | 240 x 240 dpi |
| Original Date: | 2023:12:13 18:16:33.30 |
| Created on: | 2023:12:13 18:16:33.30 |
| Modified on: | 2025:10:20 20:33:33 |
| Software: | Adobe Photoshop Lightroom Classic 14.5.1 (Macintosh) |
| Already Applied | True |
| Artist | THORE SIEBRANDS |
| Auto Lateral CA | 1 |
| Blacks 2012 | -5 |
| Blue Hue | 0 |
| Blue Saturation | 0 |
| CFA Pattern | [Red,Green][Green,Blue] |
| Camera Profile | Camera Neutral |
| Camera Profiles Aperture Value | 0.526069 |
| Camera Profiles Author | Adobe |
| Camera Profiles Auto Scale | False |
| Camera Profiles Camera Pretty Name | Nikon Z 8 |
| Camera Profiles Camera Raw Profile | True |
| Camera Profiles Focal Length | 85 |
| Camera Profiles Focus Distance | 10000 |
| Camera Profiles Lens | NIKKOR Z 85mm f/1.2 S |
| Camera Profiles Lens Pretty Name | NIKKOR Z 85mm f/1.2 S |
| Camera Profiles Make | NIKON CORPORATION |
| Camera Profiles Model | NIKON Z 8 |
| Camera Profiles Perspective Model Image X Center | 0.505581 |
| Camera Profiles Perspective Model Image Y Center | 0.499279 |
| Camera Profiles Perspective Model Radial Distort Param 1 | 0.138048 |
| Camera Profiles Perspective Model Radial Distort Param 2 | 0.562757 |
| Camera Profiles Perspective Model Radial Distort Param 3 | 11.578202 |
| Camera Profiles Perspective Model Scale Factor | 0.983843 |
| Camera Profiles Perspective Model Version | 2 |
| Camera Profiles Perspective Model Vignette Model Image X Center | 0.505581 |
| Camera Profiles Perspective Model Vignette Model Image Y Center | 0.499279 |
| Camera Profiles Perspective Model Vignette Model Vignette Model Param 1 | 1 |
| Camera Profiles Profile Name | Camera Settings |
| Camera Profiles Sensor Format Factor | 1.003485 |
| Camera Profiles Unique Camera Model | Nikon Z 8 |
| Circle Of Confusion | 0.030 mm |
| City | Kiel |
| Clarity 2012 | +35 |
| Color Grade Blending | 50 |
| Color Grade Global Hue | 0 |
| Color Grade Global Lum | 0 |
| Color Grade Global Sat | 0 |
| Color Grade Highlight Lum | 0 |
| Color Grade Midtone Hue | 0 |
| Color Grade Midtone Lum | 0 |
| Color Grade Midtone Sat | 0 |
| Color Grade Shadow Lum | 0 |
| Color Noise Reduction | 25 |
| Color Noise Reduction Detail | 50 |
| Color Noise Reduction Smoothness | 50 |
| Color Space | sRGB |
| Color Temperature | 2692 |
| Color Variance | -50.000000 |
| Contrast | Normal |
| Contrast 2012 | +34 |
| Convert To Grayscale | False |
| Country | Deutschland |
| Country Code | DE |
| Creator | THORE SIEBRANDS |
| Crop Angle | 0 |
| Crop Bottom | 0.86512 |
| Crop Constrain To Unit Square | 1 |
| Crop Constrain To Warp | 1 |
| Crop Left | 0.00075 |
| Crop Right | 0.769746 |
| Crop Top | 0 |
| Custom Rendered | Custom |
| Date Created | 2023:12:13 18:16:33.30+01:00 |
| Defringe Green Amount | 0 |
| Defringe Green Hue Hi | 60 |
| Defringe Green Hue Lo | 40 |
| Defringe Purple Amount | 0 |
| Defringe Purple Hue Hi | 70 |
| Defringe Purple Hue Lo | 30 |
| Dehaze | +26 |
| Distortion Correction Already Applied | True |
| Exposure 2012 | +3.10 |
| Exposure Compensation | -1 |
| Exposure Mode | Manual |
| Field Of View | 23.9 deg |
| Focal Length In 35mm Format | 85 mm |
| Format | image/jpeg |
| Gain Control | None |
| Grain Amount | 0 |
| Green Hue | 0 |
| Green Saturation | 0 |
| HDR Edit Mode | 0 |
| Has Crop | True |
| Has Settings | True |
| Highlights 2012 | -34 |
| Hue Adjustment Aqua | 0 |
| Hue Adjustment Blue | 0 |
| Hue Adjustment Green | 0 |
| Hue Adjustment Magenta | 0 |
| Hue Adjustment Orange | 0 |
| Hue Adjustment Purple | 0 |
| Hue Adjustment Red | 0 |
| Hue Adjustment Yellow | 0 |
| Hyperfocal Distance | 200.39 m |
| ISO | 64 |
| Image Number | 5171 |
| Image Size | 2250x3000 |
| Label | gelb |
| Lateral Chromatic Aberration Correction Already Applied | True |
| Lens | NIKKOR Z 85mm f/1.2 S |
| Lens Info | 85mm f/1.2 |
| Lens Make | NIKON |
| Lens Manual Distortion Amount | 0 |
| Lens Model | NIKKOR Z 85mm f/1.2 S |
| Lens Profile Distortion Scale | 100 |
| Lens Profile Enable | 1 |
| Lens Profile Is Embedded | True |
| Lens Profile Name | Camera Settings |
| Lens Profile Setup | LensDefaults |
| Lens Profile Vignetting Scale | 100 |
| Light Source | Unknown |
| Light Value | 5.1 |
| Location | Blücherplatz |
| Luminance Adjustment Aqua | 0 |
| Luminance Adjustment Blue | 0 |
| Luminance Adjustment Green | 0 |
| Luminance Adjustment Magenta | 0 |
| Luminance Adjustment Orange | 0 |
| Luminance Adjustment Purple | 0 |
| Luminance Adjustment Red | 0 |
| Luminance Adjustment Yellow | 0 |
| Luminance Noise Reduction Contrast | 0 |
| Luminance Noise Reduction Detail | 75 |
| Luminance Smoothing | 45 |
| Metering Mode | Multi-segment |
| Override Look Vignette | False |
| Parametric Darks | 0 |
| Parametric Highlight Split | 75 |
| Parametric Highlights | 0 |
| Parametric Lights | 0 |
| Parametric Midtone Split | 50 |
| Parametric Shadow Split | 25 |
| Parametric Shadows | 0 |
| Perspective Aspect | 0 |
| Perspective Horizontal | 0 |
| Perspective Rotate | 0.0 |
| Perspective Scale | 100 |
| Perspective Upright | 1 |
| Perspective Vertical | 0 |
| Perspective X | 0.00 |
| Perspective Y | 0.00 |
| Pick | 0 |
| Point Colors | -1.000000, -1.000000, -1.000000, -1.000000, -1.000000, -1.000000, -1.000000, -1.000000, -1.000000, -1.000000, -1.000000, -1.000000, -1.000000, -1.000000, -1.000000, -1.000000, -1.000000, -1.000000, -1.000000 |
| Post Crop Vignette Amount | 0 |
| Preserved File Name | NZ8_5171.NEF |
| Process Version | 15.4 |
| Rating | 3 |
| Raw File Name | NZ8_5171.dng |
| Recommended Exposure Index | 64 |
| Red Hue | 0 |
| Red Saturation | 0 |
| Saturation | Normal |
| Saturation Adjustment Aqua | 0 |
| Saturation Adjustment Blue | 0 |
| Saturation Adjustment Green | 0 |
| Saturation Adjustment Magenta | 0 |
| Saturation Adjustment Orange | 0 |
| Saturation Adjustment Purple | 0 |
| Saturation Adjustment Red | 0 |
| Saturation Adjustment Yellow | 0 |
| Scale Factor To 35 mm Equivalent | 1.0 |
| Scene Capture Type | Standard |
| Scene Type | Directly photographed |
| Sensing Method | One-chip color area |
| Sensitivity Type | Recommended Exposure Index |
| Shadow Tint | 0 |
| Shadows 2012 | +60 |
| Sharpen Detail | 25 |
| Sharpen Edge Masking | 0 |
| Sharpen Radius | +2.0 |
| Sharpness | Normal |
| Split Toning Balance | 0 |
| Split Toning Highlight Hue | 0 |
| Split Toning Highlight Saturation | 0 |
| Split Toning Shadow Hue | 0 |
| Split Toning Shadow Saturation | 0 |
| State | Schleswig-Holstein |
| Subject | Dunkel |
| Subject Distance Range | Unknown |
| Texture | +4 |
| Tint | +14 |
| Tone Curve Name 2012 | Linear |
| Tone Curve PV2012 | 0, 0, 255, 255 |
| Tone Curve PV2012 Blue | 0, 0, 255, 255 |
| Tone Curve PV2012 Green | 0, 0, 255, 255 |
| Tone Curve PV2012 Red | 0, 0, 255, 255 |
| Version | 17.5 |
| Vibrance | +20 |
| Vignette Amount | 0 |
| Vignette Correction Already Applied | True |
| Weighted Flat Subject | Dunkel |
| White Balance | Auto |
| Whites 2012 | -6 |
| GPS Information | |
| GPS Latitude | 54 deg 20' 21.00" N |
| GPS Latitude Ref | North |
| GPS Longitude | 10 deg 8' 1.09" E |
| GPS Longitude Ref | East |
| GPS Position | 54 deg 20' 21.00" N, 10 deg 8' 1.09" E |
| GPS Version ID | 2.2.0.0 |
 X