Shooting information for this photo
| Camera: | FUJIFILM X-E4 |
| Exposure: | 0.00011 sec. (1/9000) |
| Aperture: | f/2.0 |
| Focal Length: | 50.0 mm (35 mm equivalent: 75.0 mm) |
| Flash: | No Flash |
| Exposure mode: | Aperture-priority AE |
| Max Aperture: | 2.0 |
| Resolution: | 240 x 240 dpi |
| Original Date: | 2024:08:30 17:55:25 |
| Created on: | 2024:08:30 17:55:25 |
| Modified on: | 2024:08:30 21:21:50 |
| Software: | Adobe Photoshop Lightroom Classic 13.5 (Macintosh) |
| Copyright: | Thore Siebrands |
| Already Applied | True |
| Artist | Thore Siebrands |
| Auto Lateral CA | 1 |
| Blacks 2012 | -21 |
| Blue Hue | 0 |
| Blue Saturation | 0 |
| Brightness Value | 8.68 |
| Camera Profile | Adobe Standard |
| Camera Profiles Aperture Value | 2 |
| Camera Profiles Author | Adobe |
| Camera Profiles Auto Scale | False |
| Camera Profiles Camera Pretty Name | Fujifilm X-E4 |
| Camera Profiles Camera Raw Profile | True |
| Camera Profiles Focal Length | 50 |
| Camera Profiles Focus Distance | 10000 |
| Camera Profiles Lens | XF50mmF2 R WR |
| Camera Profiles Lens Pretty Name | XF50mmF2 R WR |
| Camera Profiles Make | FUJIFILM |
| Camera Profiles Model | X-E4 |
| Camera Profiles Perspective Model Radial Distort Param 1 | 0.134137 |
| Camera Profiles Perspective Model Radial Distort Param 2 | 0.268869 |
| Camera Profiles Perspective Model Radial Distort Param 3 | -5.000428 |
| Camera Profiles Perspective Model Scale Factor | 0.990187 |
| Camera Profiles Perspective Model Version | 2 |
| Camera Profiles Perspective Model Vignette Model Vignette Model Param 1 | 1 |
| Camera Profiles Perspective Model Vignette Model Vignette Model Piecewise Param | 0.000000, 1.000000, 0.099825, 0.866694, 0.141187, 0.800000, 0.173004, 0.745269, 0.199650, 0.702090, 0.223314, 0.666665, 0.244592, 0.635430, 0.264079, 0.600059, 0.282374, 0.553062, 0.299476, 0.512896 |
| Camera Profiles Profile Name | Camera Settings |
| Camera Profiles Sensor Format Factor | 1.531929 |
| Camera Profiles Unique Camera Model | Fujifilm X-E4 |
| Circle Of Confusion | 0.020 mm |
| City | Kiel |
| Clarity 2012 | +16 |
| Color Grade Blending | 50 |
| Color Grade Global Hue | 0 |
| Color Grade Global Lum | 0 |
| Color Grade Global Sat | 0 |
| Color Grade Highlight Lum | 0 |
| Color Grade Midtone Hue | 0 |
| Color Grade Midtone Lum | 0 |
| Color Grade Midtone Sat | 0 |
| Color Grade Shadow Lum | 0 |
| Color Noise Reduction | 25 |
| Color Noise Reduction Detail | 50 |
| Color Noise Reduction Smoothness | 50 |
| Color Space | sRGB |
| Color Temperature | 6082 |
| Compatible Version | 268435456 |
| Contrast 2012 | +6 |
| Convert To Grayscale | False |
| Country | Deutschland |
| Country Code | DE |
| Creator | Thore Siebrands |
| Crop Angle | 0.32 |
| Crop Bottom | 0.996357 |
| Crop Constrain To Warp | 0 |
| Crop Left | 0.284952 |
| Crop Right | 0.777358 |
| Crop Top | 0 |
| Custom Rendered | Normal |
| Date Created | 2024:08:30 17:55:25+02:00 |
| Defringe Green Amount | 0 |
| Defringe Green Hue Hi | 60 |
| Defringe Green Hue Lo | 40 |
| Defringe Purple Amount | 0 |
| Defringe Purple Hue Hi | 70 |
| Defringe Purple Hue Lo | 30 |
| Dehaze | +15 |
| Depth Based Corrections Correction Active | true |
| Depth Based Corrections Correction Amount | 1 |
| Depth Based Corrections Correction Masks Mask Active | true |
| Depth Based Corrections Correction Masks Mask Blend Mode | 0 |
| Depth Based Corrections Correction Masks Mask Inverted | false |
| Depth Based Corrections Correction Masks Mask Sync ID | D18830221F1144B782FB8300BF2E26 6A |
| Depth Based Corrections Correction Masks Mask Value | 1 |
| Depth Based Corrections Correction Masks Masks Center Weight | 0.000853 |
| Depth Based Corrections Correction Masks Masks Flow | 1 |
| Depth Based Corrections Correction Masks Masks Mask Active | true |
| Depth Based Corrections Correction Masks Masks Mask Blend Mode | 0 |
| Depth Based Corrections Correction Masks Masks Mask Inverted | false |
| Depth Based Corrections Correction Masks Masks Mask Sync ID | E6613A0A5FA34E0AAC75D8B729F028 46 |
| Depth Based Corrections Correction Masks Masks Mask Value | 1 |
| Depth Based Corrections Correction Masks Masks Radius | 0.062744 |
| Depth Based Corrections Correction Masks Masks What | Mask/Paint |
| Depth Based Corrections Correction Masks What | Mask/Aggregate |
| Depth Based Corrections Correction Sync ID | 84711623680E4145A874C3EBE1306F 0F |
| Depth Based Corrections Local Corrected Depth | 1 |
| Depth Based Corrections Local Curve Refine Saturation | 100 |
| Depth Based Corrections What | Correction |
| Depth Map Info Base Highlight Guide Table | 5BC3F9AB40BC1A336E0149AAE7590B 68 |
| Depth Map Info Base Highlight Guide Version | 1 |
| Depth Map Info Base Layered Depth Table | D701732E5757619DF96447CF3A72A8 D3 |
| Depth Map Info Base Layered Depth Version | 1 |
| Depth Map Info Base Raw Depth Table | 382A8A9DE85A220CE394F2B8CFB923 7B |
| Depth Map Info Base Raw Depth Version | 12 |
| Depth Map Info Depth Source | 2 |
| Distortion Correction Already Applied | True |
| Exposure 2012 | +1.60 |
| Exposure Compensation | -1 |
| Exposure Mode | Auto |
| Field Of View | 27.0 deg |
| Focal Length In 35mm Format | 75 mm |
| Format | image/jpeg |
| Fuji Rating Already Applied | True |
| Grain Amount | 0 |
| Green Hue | 0 |
| Green Saturation | 0 |
| HDR Edit Mode | 0 |
| Has Crop | True |
| Has Settings | True |
| Highlights 2012 | -56 |
| Hue Adjustment Aqua | 0 |
| Hue Adjustment Blue | 0 |
| Hue Adjustment Green | 0 |
| Hue Adjustment Magenta | 0 |
| Hue Adjustment Orange | 0 |
| Hue Adjustment Purple | 0 |
| Hue Adjustment Red | 0 |
| Hue Adjustment Yellow | 0 |
| Hyperfocal Distance | 62.40 m |
| ISO | 160 |
| Image Size | 2250x3000 |
| Label | gelb |
| Lateral Chromatic Aberration Correction Already Applied | True |
| Lens | XF50mmF2 R WR |
| Lens Blur Active | true |
| Lens Blur Blur Amount | 50 |
| Lens Blur Bokeh Aspect | 0 |
| Lens Blur Bokeh Rotation | 0 |
| Lens Blur Bokeh Shape | 0 |
| Lens Blur Bokeh Shape Detail | 0 |
| Lens Blur Cat Eye Amount | 0 |
| Lens Blur Cat Eye Scale | 100 |
| Lens Blur Focal Range | -66 14 50 130 |
| Lens Blur Focal Range Source | 1 |
| Lens Blur Highlights Boost | 50 |
| Lens Blur Highlights Threshold | 50 |
| Lens Blur Sampled Area | -0.214403 -0.588819 1.785597 1.411181 |
| Lens Blur Sampled Range | 14 50 |
| Lens Blur Spherical Aberration | 0 |
| Lens Blur Subject Range | 14 50 |
| Lens Blur Version | 1 |
| Lens Info | 50mm f/2 |
| Lens Make | FUJIFILM |
| Lens Manual Distortion Amount | 0 |
| Lens Model | XF50mmF2 R WR |
| Lens Profile Distortion Scale | 100 |
| Lens Profile Enable | 1 |
| Lens Profile Is Embedded | True |
| Lens Profile Name | Camera Settings |
| Lens Profile Setup | LensDefaults |
| Lens Profile Vignetting Scale | 100 |
| Light Source | Unknown |
| Light Value | 14.5 |
| Location | Düsternbrook |
| Luminance Adjustment Aqua | 0 |
| Luminance Adjustment Blue | 0 |
| Luminance Adjustment Green | 0 |
| Luminance Adjustment Magenta | 0 |
| Luminance Adjustment Orange | 0 |
| Luminance Adjustment Purple | 0 |
| Luminance Adjustment Red | 0 |
| Luminance Adjustment Yellow | 0 |
| Luminance Smoothing | 0 |
| Metering Mode | Average |
| Override Look Vignette | False |
| Parametric Darks | 0 |
| Parametric Highlight Split | 75 |
| Parametric Highlights | 0 |
| Parametric Lights | 0 |
| Parametric Midtone Split | 50 |
| Parametric Shadow Split | 25 |
| Parametric Shadows | 0 |
| Perspective Aspect | 0 |
| Perspective Horizontal | 0 |
| Perspective Rotate | 0.0 |
| Perspective Scale | 100 |
| Perspective Upright | 0 |
| Perspective Vertical | 0 |
| Perspective X | 0.00 |
| Perspective Y | 0.00 |
| Pick | 0 |
| Point Colors | -1.000000, -1.000000, -1.000000, -1.000000, -1.000000, -1.000000, -1.000000, -1.000000, -1.000000, -1.000000, -1.000000, -1.000000, -1.000000, -1.000000, -1.000000, -1.000000, -1.000000, -1.000000, -1.000000 |
| Post Crop Vignette Amount | 0 |
| Preserved File Name | DSCF8290.RAF |
| Process Version | 15.4 |
| Rating | 3 |
| Raw File Name | DSCF8290.dng |
| Red Hue | 0 |
| Red Saturation | 0 |
| Rights | Thore Siebrands |
| Saturation | 0 |
| Saturation Adjustment Aqua | 0 |
| Saturation Adjustment Blue | 0 |
| Saturation Adjustment Green | 0 |
| Saturation Adjustment Magenta | 0 |
| Saturation Adjustment Orange | 0 |
| Saturation Adjustment Purple | 0 |
| Saturation Adjustment Red | 0 |
| Saturation Adjustment Yellow | 0 |
| Scale Factor To 35 mm Equivalent | 1.5 |
| Scene Capture Type | Standard |
| Scene Type | Directly photographed |
| Sensing Method | One-chip color area |
| Sensitivity Type | Standard Output Sensitivity |
| Shadow Tint | 0 |
| Shadows 2012 | +64 |
| Sharpen Detail | 25 |
| Sharpen Edge Masking | 62 |
| Sharpen Radius | +1.0 |
| Sharpness | Normal |
| Split Toning Balance | 0 |
| Split Toning Highlight Hue | 0 |
| Split Toning Highlight Saturation | 0 |
| Split Toning Shadow Hue | 0 |
| Split Toning Shadow Saturation | 0 |
| State | Schleswig-Holstein |
| Subject | Boot, Fahrzeug, Person |
| Subject Distance Range | Unknown |
| Texture | 0 |
| Tint | +24 |
| Tone Curve Name 2012 | Linear |
| Tone Curve PV2012 | 0, 0, 255, 255 |
| Tone Curve PV2012 Blue | 0, 0, 255, 255 |
| Tone Curve PV2012 Green | 0, 0, 255, 255 |
| Tone Curve PV2012 Red | 0, 0, 255, 255 |
| Version | 16.5 |
| Vibrance | +7 |
| Vignette Amount | 0 |
| Vignette Correction Already Applied | True |
| Weighted Flat Subject | Person, Fahrzeug, Boot |
| White Balance | Auto |
| Whites 2012 | +11 |
GPS Information |
| GPS Latitude | 54 deg 19' 50.78" N |
| GPS Latitude Ref | North |
| GPS Longitude | 10 deg 9' 1.04" E |
| GPS Longitude Ref | East |
| GPS Position | 54 deg 19' 50.78" N, 10 deg 9' 1.04" E |
| GPS Version ID | 2.2.0.0 |
X