Shooting information for this photo
Camera: | Leica Camera AG LEICA M10 |
Exposure: | 0.00133 sec. (1/750) |
Aperture: | f/2.4 |
Focal Length: | 50.0 mm (35 mm equivalent: 95.4 mm) |
Flash: | No Flash |
Exposure mode: | Aperture-priority AE |
Max Aperture: | 1.4 |
Resolution: | 240 x 240 dpi |
Original Date: | 2023:07:16 16:11:12 |
Created on: | 2023:07:16 16:11:12 |
Modified on: | 2023:07:16 22:44:25 |
Software: | Adobe Photoshop Lightroom Classic 12.4 (Macintosh) |
Copyright: | Thore Siebrands |
Already Applied | True |
Approximate Focus Distance | 2.43 |
Artist | Thore Siebrands |
Auto Lateral CA | 1 |
Blacks 2012 | -24 |
Blue Hue | 0 |
Blue Saturation | 0 |
Camera Profile | LEICA M10 |
Circle Of Confusion | 0.016 mm |
City | Kiel |
Clarity 2012 | +22 |
Color Grade Blending | 50 |
Color Grade Global Hue | 0 |
Color Grade Global Lum | 0 |
Color Grade Global Sat | 0 |
Color Grade Highlight Lum | 0 |
Color Grade Midtone Hue | 0 |
Color Grade Midtone Lum | 0 |
Color Grade Midtone Sat | 0 |
Color Grade Shadow Lum | 0 |
Color Noise Reduction | 25 |
Color Noise Reduction Detail | 50 |
Color Noise Reduction Smoothness | 50 |
Color Space | sRGB |
Color Temperature | 4850 |
Contrast | Normal |
Contrast 2012 | +6 |
Convert To Grayscale | False |
Country | Deutschland |
Country Code | DE |
Creator | Thore Siebrands |
Crop Angle | 0 |
Crop Bottom | 0.726898 |
Crop Constrain To Warp | 0 |
Crop Left | 0.312329 |
Crop Right | 0.675778 |
Crop Top | 0 |
Custom Rendered | Normal |
Date Created | 2023:07:16 16:11:12 |
Defringe Green Amount | 0 |
Defringe Green Hue Hi | 60 |
Defringe Green Hue Lo | 40 |
Defringe Purple Amount | 0 |
Defringe Purple Hue Hi | 70 |
Defringe Purple Hue Lo | 30 |
Dehaze | +14 |
Digital Zoom Ratio | 0 |
Distortion Correction Already Applied | True |
Exposure 2012 | +0.65 |
Exposure Compensation | 0 |
Exposure Mode | Auto |
Field Of View | 21.4 deg |
Format | image/jpeg |
Grain Amount | 0 |
Green Hue | 0 |
Green Saturation | 0 |
Has Crop | True |
Has Settings | True |
Highlights 2012 | -56 |
Hue Adjustment Aqua | 0 |
Hue Adjustment Blue | 0 |
Hue Adjustment Green | 0 |
Hue Adjustment Magenta | 0 |
Hue Adjustment Orange | 0 |
Hue Adjustment Purple | 0 |
Hue Adjustment Red | 0 |
Hue Adjustment Yellow | 0 |
Hyperfocal Distance | 66.13 m |
ISO | 200 |
Image Size | 2250x3000 |
Label | gelb |
Lateral Chromatic Aberration Correction Already Applied | True |
Lens | Summilux-M 1:1.4/50 ASPH. |
Lens Info | 50mm f/1.4 |
Lens Make | Leica Camera AG |
Lens Manual Distortion Amount | 0 |
Lens Model | Summilux-M 1:1.4/50 ASPH. |
Lens Profile Distortion Scale | 100 |
Lens Profile Enable | 1 |
Lens Profile Filename | Leica Camera AG (Leica SUMMILUX-M 50 mm f1.4 ASPH.) - RAW.lcp |
Lens Profile Is Embedded | False |
Lens Profile Name | Adobe (Leica SUMMILUX-M 50 mm f/1.4 ASPH.) |
Lens Profile Setup | LensDefaults |
Lens Profile Vignetting Scale | 100 |
Light Source | Unknown |
Light Value | 11.1 |
Location | Blücherplatz |
Luminance Adjustment Aqua | 0 |
Luminance Adjustment Blue | 0 |
Luminance Adjustment Green | 0 |
Luminance Adjustment Magenta | 0 |
Luminance Adjustment Orange | 0 |
Luminance Adjustment Purple | 0 |
Luminance Adjustment Red | 0 |
Luminance Adjustment Yellow | 0 |
Luminance Noise Reduction Contrast | 0 |
Luminance Noise Reduction Detail | 50 |
Luminance Smoothing | 5 |
Metering Mode | Multi-spot |
Override Look Vignette | False |
Parametric Darks | 0 |
Parametric Highlight Split | 75 |
Parametric Highlights | 0 |
Parametric Lights | 0 |
Parametric Midtone Split | 50 |
Parametric Shadow Split | 25 |
Parametric Shadows | 0 |
Perspective Aspect | 0 |
Perspective Horizontal | 0 |
Perspective Rotate | 0.0 |
Perspective Scale | 100 |
Perspective Upright | 1 |
Perspective Vertical | 0 |
Perspective X | 0.00 |
Perspective Y | 0.00 |
Post Crop Vignette Amount | 0 |
Preserved File Name | L1001891.DNG |
Process Version | 15.4 |
Rating | 3 |
Raw File Name | L1001891.DNG |
Red Hue | 0 |
Red Saturation | 0 |
Rights | Thore Siebrands |
Saturation | Low |
Saturation Adjustment Aqua | 0 |
Saturation Adjustment Blue | 0 |
Saturation Adjustment Green | 0 |
Saturation Adjustment Magenta | 0 |
Saturation Adjustment Orange | 0 |
Saturation Adjustment Purple | 0 |
Saturation Adjustment Red | -28 |
Saturation Adjustment Yellow | 0 |
Scale Factor To 35 mm Equivalent | 1.9 |
Scene Capture Type | Standard |
Scene Type | Directly photographed |
Shadow Tint | 0 |
Shadows 2012 | +29 |
Sharpen Detail | 25 |
Sharpen Edge Masking | 54 |
Sharpen Radius | +2.1 |
Sharpness | Normal |
Split Toning Balance | 0 |
Split Toning Highlight Hue | 0 |
Split Toning Highlight Saturation | 0 |
Split Toning Shadow Hue | 0 |
Split Toning Shadow Saturation | 0 |
State | Schleswig-Holstein |
Texture | 0 |
Tint | +10 |
Tone Curve Name 2012 | Linear |
Tone Curve PV2012 | 0, 0, 255, 255 |
Tone Curve PV2012 Blue | 0, 0, 255, 255 |
Tone Curve PV2012 Green | 0, 0, 255, 255 |
Tone Curve PV2012 Red | 0, 0, 255, 255 |
Version | 15.4 |
Vibrance | -10 |
Vignette Amount | 0 |
White Balance | Auto |
Whites 2012 | +8 |
GPS Information |
GPS Latitude | 54 deg 20' 16.27" N |
GPS Latitude Ref | North |
GPS Longitude | 10 deg 8' 1.77" E |
GPS Longitude Ref | East |
GPS Position | 54 deg 20' 16.27" N, 10 deg 8' 1.77" E |
GPS Version ID | 2.2.0.0 |