Shooting information for this photo
| Camera: | NIKON CORPORATION NIKON Z 7 |
| Exposure: | 0.002 sec. (1/500) |
| Aperture: | f/8.0 |
| Focal Length: | 85.0 mm (35 mm equivalent: 85.0 mm) |
| Flash: | No Flash |
| Exposure mode: | Manual |
| Resolution: | 240 x 240 dpi |
| Original Date: | 2023:04:18 18:18:54.59 |
| Created on: | 2023:04:18 18:18:54.59 |
| Modified on: | 2023:04:18 22:34:18 |
| Software: | Adobe Photoshop Lightroom Classic 12.2.1 (Macintosh) |
| Copyright: | Thore Siebrands |
| Already Applied | True |
| Artist | Thore Siebrands |
| Auto Lateral CA | 1 |
| Blacks 2012 | -3 |
| Blue Hue | 0 |
| Blue Saturation | 0 |
| CFA Pattern | [Red,Green][Green,Blue] |
| Camera Profile | Camera Standard v2 |
| Circle Of Confusion | 0.030 mm |
| City | Kiel |
| Clarity 2012 | +26 |
| Color Grade Blending | 50 |
| Color Grade Global Hue | 0 |
| Color Grade Global Lum | 0 |
| Color Grade Global Sat | 0 |
| Color Grade Highlight Lum | 0 |
| Color Grade Midtone Hue | 0 |
| Color Grade Midtone Lum | 0 |
| Color Grade Midtone Sat | 0 |
| Color Grade Shadow Lum | 0 |
| Color Noise Reduction | 10 |
| Color Noise Reduction Detail | 50 |
| Color Noise Reduction Smoothness | 50 |
| Color Space | sRGB |
| Color Temperature | 5486 |
| Compatible Version | 234881024 |
| Contrast | Normal |
| Contrast 2012 | +37 |
| Convert To Grayscale | False |
| Country | Deutschland |
| Country Code | DE |
| Creator | Thore Siebrands |
| Crop Angle | 0 |
| Crop Bottom | 0.838903 |
| Crop Constrain To Warp | 0 |
| Crop Left | 0.153338 |
| Crop Right | 0.94635 |
| Crop Top | 0.045891 |
| Custom Rendered | Custom |
| Date Created | 2023:04:18 18:18:54.59+02:00 |
| Defringe Green Amount | 0 |
| Defringe Green Hue Hi | 60 |
| Defringe Green Hue Lo | 40 |
| Defringe Purple Amount | 0 |
| Defringe Purple Hue Hi | 70 |
| Defringe Purple Hue Lo | 30 |
| Dehaze | +35 |
| Distortion Correction Already Applied | True |
| Exposure 2012 | +2.35 |
| Exposure Compensation | -1 |
| Exposure Mode | Manual |
| Field Of View | 23.9 deg |
| Focal Length In 35mm Format | 85 mm |
| Format | image/jpeg |
| Gain Control | None |
| Grain Amount | 0 |
| Green Hue | 0 |
| Green Saturation | 0 |
| Has Crop | True |
| Has Settings | True |
| Highlights 2012 | -72 |
| Hue Adjustment Aqua | 0 |
| Hue Adjustment Blue | 0 |
| Hue Adjustment Green | 0 |
| Hue Adjustment Magenta | 0 |
| Hue Adjustment Orange | 0 |
| Hue Adjustment Purple | 0 |
| Hue Adjustment Red | 0 |
| Hue Adjustment Yellow | 0 |
| Hyperfocal Distance | 30.06 m |
| ISO | 180 |
| Image Number | 34346 |
| Image Size | 3000x2000 |
| Label | gelb |
| Lateral Chromatic Aberration Correction Already Applied | True |
| Lens | NIKKOR Z 85mm f/1.2 S |
| Lens Info | 85mm f/1.2 |
| Lens Make | NIKON |
| Lens Manual Distortion Amount | 0 |
| Lens Model | NIKKOR Z 85mm f/1.2 S |
| Lens Profile Enable | 0 |
| Light Source | Unknown |
| Light Value | 14.1 |
| Location | Vorstadt |
| Luminance Adjustment Aqua | 0 |
| Luminance Adjustment Blue | 0 |
| Luminance Adjustment Green | 0 |
| Luminance Adjustment Magenta | 0 |
| Luminance Adjustment Orange | 0 |
| Luminance Adjustment Purple | 0 |
| Luminance Adjustment Red | 0 |
| Luminance Adjustment Yellow | 0 |
| Luminance Noise Reduction Contrast | 0 |
| Luminance Noise Reduction Detail | 75 |
| Luminance Smoothing | 29 |
| Metering Mode | Multi-segment |
| Override Look Vignette | False |
| Parametric Darks | 0 |
| Parametric Highlight Split | 75 |
| Parametric Highlights | 0 |
| Parametric Lights | 0 |
| Parametric Midtone Split | 50 |
| Parametric Shadow Split | 25 |
| Parametric Shadows | 0 |
| Perspective Aspect | 0 |
| Perspective Horizontal | 0 |
| Perspective Rotate | 0.0 |
| Perspective Scale | 100 |
| Perspective Upright | 1 |
| Perspective Vertical | 0 |
| Perspective X | 0.00 |
| Perspective Y | 0.00 |
| Post Crop Vignette Amount | 0 |
| Preserved File Name | _NZ74329.NEF |
| Process Version | 11.0 |
| Rating | 3 |
| Raw File Name | _NZ74329.dng |
| Recommended Exposure Index | 180 |
| Red Hue | 0 |
| Red Saturation | 0 |
| Rights | Thore Siebrands |
| Saturation | Normal |
| Saturation Adjustment Aqua | 0 |
| Saturation Adjustment Blue | 0 |
| Saturation Adjustment Green | 0 |
| Saturation Adjustment Magenta | 0 |
| Saturation Adjustment Orange | 0 |
| Saturation Adjustment Purple | 0 |
| Saturation Adjustment Red | 0 |
| Saturation Adjustment Yellow | 0 |
| Scale Factor To 35 mm Equivalent | 1.0 |
| Scene Capture Type | Standard |
| Scene Type | Directly photographed |
| Sensing Method | One-chip color area |
| Sensitivity Type | Recommended Exposure Index |
| Shadow Tint | 0 |
| Shadows 2012 | -45 |
| Sharpen Detail | 25 |
| Sharpen Edge Masking | 0 |
| Sharpen Radius | +2.0 |
| Sharpness | Normal |
| Split Toning Balance | 0 |
| Split Toning Highlight Hue | 0 |
| Split Toning Highlight Saturation | 0 |
| Split Toning Shadow Hue | 0 |
| Split Toning Shadow Saturation | 0 |
| State | Schleswig-Holstein |
| Subject Distance Range | Unknown |
| Texture | 0 |
| Tint | +20 |
| Tone Curve Name 2012 | Linear |
| Tone Curve PV2012 | 0, 0, 255, 255 |
| Tone Curve PV2012 Blue | 0, 0, 255, 255 |
| Tone Curve PV2012 Green | 0, 0, 255, 255 |
| Tone Curve PV2012 Red | 0, 0, 255, 255 |
| Version | 15.2 |
| Vibrance | -47 |
| Vignette Amount | 0 |
| Vignette Correction Already Applied | True |
| White Balance | Auto |
| Whites 2012 | +14 |
GPS Information |
| GPS Latitude | 54 deg 19' 20.02" N |
| GPS Latitude Ref | North |
| GPS Longitude | 10 deg 8' 10.64" E |
| GPS Longitude Ref | East |
| GPS Position | 54 deg 19' 20.02" N, 10 deg 8' 10.64" E |
| GPS Version ID | 2.2.0.0 |
X