Shooting information for this photo
| Camera: | NIKON CORPORATION NIKON Z 7 |
| Exposure: | 0.004 sec. (1/250) |
| Aperture: | f/1.8 |
| Focal Length: | 85.0 mm (35 mm equivalent: 85.0 mm) |
| Flash: | No Flash |
| Exposure mode: | Aperture-priority AE |
| Resolution: | 240 x 240 dpi |
| Original Date: | 2023:02:06 17:13:24.73 |
| Created on: | 2023:02:06 17:13:24.73 |
| Modified on: | 2023:02:06 22:39:56 |
| Software: | Adobe Photoshop Lightroom Classic 12.1 (Macintosh) |
| Copyright: | Thore Siebrands |
| Already Applied | True |
| Artist | Thore Siebrands |
| Auto Lateral CA | 1 |
| Blacks 2012 | -17 |
| Blue Hue | 0 |
| Blue Saturation | 0 |
| CFA Pattern | [Red,Green][Green,Blue] |
| Camera Profile | Camera Standard v2 |
| Circle Of Confusion | 0.030 mm |
| City | Kiel |
| Clarity 2012 | +37 |
| Color Grade Blending | 50 |
| Color Grade Global Hue | 0 |
| Color Grade Global Lum | 0 |
| Color Grade Global Sat | 0 |
| Color Grade Highlight Lum | 0 |
| Color Grade Midtone Hue | 0 |
| Color Grade Midtone Lum | 0 |
| Color Grade Midtone Sat | 0 |
| Color Grade Shadow Lum | 0 |
| Color Noise Reduction | 10 |
| Color Noise Reduction Detail | 50 |
| Color Noise Reduction Smoothness | 50 |
| Color Space | sRGB |
| Color Temperature | 3450 |
| Contrast | Normal |
| Contrast 2012 | +5 |
| Convert To Grayscale | False |
| Country | Deutschland |
| Country Code | DE |
| Creator | Thore Siebrands |
| Crop Angle | 0 |
| Crop Bottom | 0.70903 |
| Crop Constrain To Warp | 0 |
| Crop Left | 0.289825 |
| Crop Right | 0.998855 |
| Crop Top | 0 |
| Custom Rendered | Custom |
| Date Created | 2023:02:06 17:13:24.73+01:00 |
| Defringe Green Amount | 0 |
| Defringe Green Hue Hi | 60 |
| Defringe Green Hue Lo | 40 |
| Defringe Purple Amount | 0 |
| Defringe Purple Hue Hi | 70 |
| Defringe Purple Hue Lo | 30 |
| Dehaze | +52 |
| Distortion Correction Already Applied | True |
| Exposure 2012 | +1.30 |
| Exposure Compensation | -1 |
| Exposure Mode | Auto |
| Field Of View | 23.9 deg |
| Focal Length In 35mm Format | 85 mm |
| Format | image/jpeg |
| Gain Control | None |
| Grain Amount | 0 |
| Green Hue | 0 |
| Green Saturation | 0 |
| Has Crop | True |
| Has Settings | True |
| Highlights 2012 | -100 |
| Hue Adjustment Aqua | 0 |
| Hue Adjustment Blue | 0 |
| Hue Adjustment Green | 0 |
| Hue Adjustment Magenta | 0 |
| Hue Adjustment Orange | 0 |
| Hue Adjustment Purple | 0 |
| Hue Adjustment Red | 0 |
| Hue Adjustment Yellow | 0 |
| Hyperfocal Distance | 133.59 m |
| ISO | 720 |
| Image Number | 33630 |
| Image Size | 2000x3000 |
| Label | gelb |
| Lateral Chromatic Aberration Correction Already Applied | True |
| Lens | NIKKOR Z 85mm f/1.8 S |
| Lens Info | 85mm f/1.8 |
| Lens Make | NIKON |
| Lens Manual Distortion Amount | 0 |
| Lens Model | NIKKOR Z 85mm f/1.8 S |
| Lens Profile Enable | 0 |
| Light Source | Unknown |
| Light Value | 6.8 |
| Location | Blücherplatz |
| Luminance Adjustment Aqua | 0 |
| Luminance Adjustment Blue | 0 |
| Luminance Adjustment Green | 0 |
| Luminance Adjustment Magenta | 0 |
| Luminance Adjustment Orange | 0 |
| Luminance Adjustment Purple | 0 |
| Luminance Adjustment Red | 0 |
| Luminance Adjustment Yellow | 0 |
| Luminance Noise Reduction Contrast | 0 |
| Luminance Noise Reduction Detail | 75 |
| Luminance Smoothing | 34 |
| Metering Mode | Center-weighted average |
| Override Look Vignette | False |
| Parametric Darks | 0 |
| Parametric Highlight Split | 75 |
| Parametric Highlights | 0 |
| Parametric Lights | 0 |
| Parametric Midtone Split | 50 |
| Parametric Shadow Split | 25 |
| Parametric Shadows | 0 |
| Perspective Aspect | 0 |
| Perspective Horizontal | 0 |
| Perspective Rotate | 0.0 |
| Perspective Scale | 100 |
| Perspective Upright | 1 |
| Perspective Vertical | 0 |
| Perspective X | 0.00 |
| Perspective Y | 0.00 |
| Post Crop Vignette Amount | 0 |
| Preserved File Name | NZ7_3613.NEF |
| Process Version | 11.0 |
| Rating | 3 |
| Raw File Name | NZ7_3613.dng |
| Recommended Exposure Index | 720 |
| Red Hue | 0 |
| Red Saturation | 0 |
| Rights | Thore Siebrands |
| Saturation | Normal |
| Saturation Adjustment Aqua | 0 |
| Saturation Adjustment Blue | 0 |
| Saturation Adjustment Green | 0 |
| Saturation Adjustment Magenta | 0 |
| Saturation Adjustment Orange | 0 |
| Saturation Adjustment Purple | 0 |
| Saturation Adjustment Red | 0 |
| Saturation Adjustment Yellow | 0 |
| Scale Factor To 35 mm Equivalent | 1.0 |
| Scene Capture Type | Standard |
| Scene Type | Directly photographed |
| Sensing Method | One-chip color area |
| Sensitivity Type | Recommended Exposure Index |
| Shadow Tint | 0 |
| Shadows 2012 | +47 |
| Sharpen Detail | 25 |
| Sharpen Edge Masking | 65 |
| Sharpen Radius | +2.0 |
| Sharpness | Normal |
| Split Toning Balance | 0 |
| Split Toning Highlight Hue | 0 |
| Split Toning Highlight Saturation | 0 |
| Split Toning Shadow Hue | 0 |
| Split Toning Shadow Saturation | 0 |
| State | Schleswig-Holstein |
| Subject Distance Range | Unknown |
| Texture | +34 |
| Tint | -5 |
| Tone Curve Name 2012 | Linear |
| Tone Curve PV2012 | 0, 0, 255, 255 |
| Tone Curve PV2012 Blue | 0, 0, 255, 255 |
| Tone Curve PV2012 Green | 0, 0, 255, 255 |
| Tone Curve PV2012 Red | 0, 0, 255, 255 |
| Version | 15.1 |
| Vibrance | -3 |
| Vignette Amount | 0 |
| Vignette Correction Already Applied | True |
| White Balance | Auto |
| Whites 2012 | -13 |
GPS Information |
| GPS Latitude | 54 deg 20' 12.10" N |
| GPS Latitude Ref | North |
| GPS Longitude | 10 deg 8' 1.38" E |
| GPS Longitude Ref | East |
| GPS Position | 54 deg 20' 12.10" N, 10 deg 8' 1.38" E |
| GPS Version ID | 2.2.0.0 |
X