Shooting information for this photo
| Camera: | LEICA CAMERA AG LEICA SL2-S |
| Exposure: | 0.03333 sec. (1/30) |
| Aperture: | f/2.0 |
| Focal Length: | 50.0 mm (35 mm equivalent: 50.0 mm) |
| Flash: | Off, Did not fire |
| Exposure mode: | Manual |
| Max Aperture: | 2.0 |
| Resolution: | 240 x 240 dpi |
| Original Date: | 2023:01:30 18:00:15 |
| Created on: | 2023:01:30 18:00:15 |
| Modified on: | 2023:01:30 21:37:50 |
| Software: | Adobe Photoshop Lightroom Classic 12.1 (Macintosh) |
| Already Applied | True |
| Apply Automatically | True |
| Auto Lateral CA | 1 |
| Blacks 2012 | -16 |
| Blue Hue | 0 |
| Blue Saturation | 0 |
| Camera Profile | Adobe Standard |
| Circle Of Confusion | 0.030 mm |
| City | Kiel |
| Clarity 2012 | +40 |
| Color Grade Blending | 50 |
| Color Grade Global Hue | 0 |
| Color Grade Global Lum | 0 |
| Color Grade Global Sat | 0 |
| Color Grade Highlight Lum | 0 |
| Color Grade Midtone Hue | 0 |
| Color Grade Midtone Lum | 0 |
| Color Grade Midtone Sat | 0 |
| Color Grade Shadow Lum | 0 |
| Color Noise Reduction | 25 |
| Color Noise Reduction Detail | 50 |
| Color Noise Reduction Smoothness | 50 |
| Color Space | sRGB |
| Color Temperature | 2454 |
| Compatible Version | 251658240 |
| Contrast | Normal |
| Contrast 2012 | +6 |
| Correction Already Applied | True |
| Country | Deutschland |
| Country Code | DE |
| Crop Angle | 0 |
| Crop Bottom | 0.823815 |
| Crop Constrain To Warp | 0 |
| Crop Left | 0.161777 |
| Crop Right | 0.912497 |
| Crop Top | 0.073095 |
| Custom Rendered | Normal |
| Date Created | 2023:01:30 18:00:15+01:00 |
| Defringe Green Amount | 0 |
| Defringe Green Hue Hi | 60 |
| Defringe Green Hue Lo | 40 |
| Defringe Purple Amount | 0 |
| Defringe Purple Hue Hi | 70 |
| Defringe Purple Hue Lo | 30 |
| Dehaze | +20 |
| Exposure 2012 | +0.40 |
| Exposure Compensation | -1.3 |
| Field Of View | 39.6 deg |
| Focal Length 35mm | 52.0000000000 |
| Focal Length In 35mm Format | 50 mm |
| Format | image/jpeg |
| Grain Amount | 0 |
| Green Hue | 0 |
| Green Saturation | 0 |
| Has Crop | True |
| Has Settings | True |
| Highlights 2012 | -55 |
| Hue Adjustment Aqua | 0 |
| Hue Adjustment Blue | 0 |
| Hue Adjustment Green | 0 |
| Hue Adjustment Magenta | 0 |
| Hue Adjustment Orange | 0 |
| Hue Adjustment Purple | 0 |
| Hue Adjustment Red | 0 |
| Hue Adjustment Yellow | 0 |
| Hyperfocal Distance | 41.60 m |
| ISO | 1250 |
| Image Size | 3000x2000 |
| Label | gelb |
| Lateral Chromatic Aberration Correction Already Applied | True |
| Lens | APO-SUMMICRON-SL 1:2/50 ASPH. |
| Lens Info | 50mm f/2 |
| Lens Make | LEICA CAMERA AG |
| Lens Manual Distortion Amount | 0 |
| Lens Model | APO-SUMMICRON-SL 1:2/50 ASPH. |
| Lens Profile Enable | 0 |
| Light Source | Unknown |
| Light Value | 3.3 |
| Location | Vorstadt |
| Look Amount | 1 |
| Look Group | Profiles |
| Look Name | Adobe Color |
| Look Parameters Camera Profile | Adobe Standard |
| Look Parameters Convert To Grayscale | False |
| Look Parameters Look Table | E1095149FDB39D7A057BAB208837E2 E1 |
| Look Parameters Process Version | 11.0 |
| Look Parameters Tone Curve PV2012 | 0, 0, 22, 16, 40, 35, 127, 127, 224, 230, 240, 246, 255, 255 |
| Look Parameters Tone Curve PV2012 Blue | 0, 0, 255, 255 |
| Look Parameters Tone Curve PV2012 Green | 0, 0, 255, 255 |
| Look Parameters Tone Curve PV2012 Red | 0, 0, 255, 255 |
| Look Parameters Version | 15.1 |
| Look Supports Amount | false |
| Look Supports Monochrome | false |
| Look Supports Output Referred | false |
| Luminance Adjustment Aqua | 0 |
| Luminance Adjustment Blue | 0 |
| Luminance Adjustment Green | 0 |
| Luminance Adjustment Magenta | 0 |
| Luminance Adjustment Orange | 0 |
| Luminance Adjustment Purple | 0 |
| Luminance Adjustment Red | 0 |
| Luminance Adjustment Yellow | 0 |
| Luminance Noise Reduction Contrast | 0 |
| Luminance Noise Reduction Detail | 50 |
| Luminance Smoothing | 10 |
| Metering Mode | Spot |
| Normalized Crop Corners | 0.0213910937, 0.0000000000, 0.9921476245, 0.0305016786, 0.9767274857, 0.9992687702, 0.0097525222, 0.9688858986 |
| Override Look Vignette | False |
| Parametric Darks | 0 |
| Parametric Highlight Split | 75 |
| Parametric Highlights | 0 |
| Parametric Lights | 0 |
| Parametric Midtone Split | 50 |
| Parametric Shadow Split | 25 |
| Parametric Shadows | 0 |
| Perspective Aspect | 0 |
| Perspective Horizontal | 0 |
| Perspective Rotate | 0.0 |
| Perspective Scale | 100 |
| Perspective Upright | 5 |
| Perspective Vertical | 0 |
| Perspective X | 0.00 |
| Perspective Y | 0.00 |
| Pitch Angle | -0.5000000000 |
| Post Crop Vignette Amount | 0 |
| Preserved File Name | S1030729.DNG |
| Process Version | 11.0 |
| Rating | 3 |
| Raw File Name | S1030729.DNG |
| Red Hue | 0 |
| Red Saturation | 0 |
| Roll Angle | -1.2000000477 |
| Saturation | Normal |
| Saturation Adjustment Aqua | 0 |
| Saturation Adjustment Blue | 0 |
| Saturation Adjustment Green | 0 |
| Saturation Adjustment Magenta | 0 |
| Saturation Adjustment Orange | 0 |
| Saturation Adjustment Purple | 0 |
| Saturation Adjustment Red | 0 |
| Saturation Adjustment Yellow | 0 |
| Scale Factor To 35 mm Equivalent | 1.0 |
| Scaling Factor Height | 0.9690769911 |
| Scene Capture Type | Standard |
| Sensing Method | One-chip color area |
| Sensitivity Type | Standard Output Sensitivity |
| Shadow Tint | 0 |
| Shadows 2012 | +53 |
| Sharpen Detail | 25 |
| Sharpen Edge Masking | 0 |
| Sharpen Radius | +1.0 |
| Sharpness | Normal |
| Split Toning Balance | 0 |
| Split Toning Highlight Hue | 0 |
| Split Toning Highlight Saturation | 0 |
| Split Toning Shadow Hue | 0 |
| Split Toning Shadow Saturation | 0 |
| Standard Output Sensitivity | 1250 |
| State | Schleswig-Holstein |
| Target Aspect Ratio | 1.5000000000 |
| Texture | 0 |
| Tint | +3 |
| Tone Curve Name 2012 | Linear |
| Tone Curve PV2012 | 0, 0, 255, 255 |
| Tone Curve PV2012 Blue | 0, 0, 255, 255 |
| Tone Curve PV2012 Green | 0, 0, 255, 255 |
| Tone Curve PV2012 Red | 0, 0, 255, 255 |
| Valid Crop Corners | True |
| Version | 15.1 |
| Vibrance | +15 |
| Vignette Amount | 0 |
| White Balance | Auto |
| Whites 2012 | +27 |
GPS Information |
| GPS Latitude | 54 deg 19' 7.91" N |
| GPS Latitude Ref | North |
| GPS Longitude | 10 deg 7' 56.10" E |
| GPS Longitude Ref | East |
| GPS Position | 54 deg 19' 7.91" N, 10 deg 7' 56.10" E |
| GPS Version ID | 2.2.0.0 |
X