Shooting information for this photo
Camera: | Apple iPhone 12 Pro Max |
Exposure: | 0.01818 sec. (1/55) |
Aperture: | f/2.2 |
Focal Length: | 7.5 mm (35 mm equivalent: 64.0 mm) |
Flash: | Off, Did not fire |
Exposure mode: | Program AE |
Resolution: | 240 x 240 dpi |
Original Date: | 2023:01:14 09:11:43.189 |
Created on: | 2023:01:14 09:11:43.189 |
Modified on: | 2023:01:14 21:32:29 |
Software: | Adobe Photoshop Lightroom Classic 12.1 (Macintosh) |
Already Applied | True |
Auto Lateral CA | 0 |
Blacks 2012 | 0 |
Blue Hue | 0 |
Blue Saturation | 0 |
Brightness Value | 2.553591671 |
Camera Profile | Apple Embedded Color Profile |
Circle Of Confusion | 0.004 mm |
City | Kiel |
Clarity 2012 | +52 |
Color Grade Blending | 50 |
Color Grade Global Hue | 0 |
Color Grade Global Lum | 0 |
Color Grade Global Sat | 0 |
Color Grade Highlight Lum | 0 |
Color Grade Midtone Hue | 0 |
Color Grade Midtone Lum | 0 |
Color Grade Midtone Sat | 0 |
Color Grade Shadow Lum | 0 |
Color Noise Reduction | 25 |
Color Noise Reduction Detail | 50 |
Color Noise Reduction Smoothness | 50 |
Color Space | sRGB |
Color Temperature | 5211 |
Contrast 2012 | +24 |
Country | Deutschland |
Country Code | DE |
Crop Angle | 0 |
Crop Bottom | 0.94339 |
Crop Constrain To Warp | 1 |
Crop Left | 0.006738 |
Crop Right | 0.994882 |
Crop Top | 0.06504 |
Date Created | 2023:01:14 09:11:43.189+01:00 |
Defringe Green Amount | 0 |
Defringe Green Hue Hi | 60 |
Defringe Green Hue Lo | 40 |
Defringe Purple Amount | 0 |
Defringe Purple Hue Hi | 70 |
Defringe Purple Hue Lo | 30 |
Dehaze | +43 |
Exposure 2012 | 0.00 |
Exposure Compensation | 0 |
Exposure Mode | Auto |
Field Of View | 31.4 deg |
Focal Length In 35mm Format | 64 mm |
Format | image/jpeg |
Grain Amount | 0 |
Green Hue | 0 |
Green Saturation | 0 |
Has Crop | True |
Has Settings | True |
Highlights 2012 | -24 |
Hue Adjustment Aqua | 0 |
Hue Adjustment Blue | 0 |
Hue Adjustment Green | 0 |
Hue Adjustment Magenta | 0 |
Hue Adjustment Orange | 0 |
Hue Adjustment Purple | 0 |
Hue Adjustment Red | 0 |
Hue Adjustment Yellow | 0 |
Hyperfocal Distance | 7.26 m |
ISO | 200 |
Image Size | 3000x2000 |
Label | grün |
Lens | iPhone 12 Pro Max back triple camera 7.5mm f/2.2 |
Lens Info | 1.53999996185121-7.5mm f/1.6-2.4 |
Lens Make | Apple |
Lens Manual Distortion Amount | 0 |
Lens Model | iPhone 12 Pro Max back triple camera 7.5mm f/2.2 |
Lens Profile Enable | 0 |
Light Value | 7.1 |
Location | Suchsdorf |
Look Amount | 1 |
Look Group | Profiles |
Look Name | Apple ProRaw |
Look Parameters Camera Profile | Apple Embedded Color Profile |
Look Parameters Convert To Grayscale | False |
Look Parameters Process Version | 11.0 |
Look Parameters Profile Gain Table Map | 100 |
Look Parameters Version | 15.1 |
Look Supports Monochrome | false |
Look Supports Output Referred | false |
Luminance Adjustment Aqua | 0 |
Luminance Adjustment Blue | 0 |
Luminance Adjustment Green | 0 |
Luminance Adjustment Magenta | 0 |
Luminance Adjustment Orange | 0 |
Luminance Adjustment Purple | 0 |
Luminance Adjustment Red | 0 |
Luminance Adjustment Yellow | 0 |
Luminance Smoothing | 0 |
Metering Mode | Multi-segment |
Override Look Vignette | False |
Parametric Darks | 0 |
Parametric Highlight Split | 75 |
Parametric Highlights | 0 |
Parametric Lights | 0 |
Parametric Midtone Split | 50 |
Parametric Shadow Split | 25 |
Parametric Shadows | 0 |
Perspective Aspect | 0 |
Perspective Horizontal | +3 |
Perspective Rotate | 0.0 |
Perspective Scale | 100 |
Perspective Upright | 1 |
Perspective Vertical | 0 |
Perspective X | 0.00 |
Perspective Y | 0.00 |
Post Crop Vignette Amount | 0 |
Preserved File Name | IMG_2528.DNG |
Process Version | 11.0 |
Rating | 3 |
Raw File Name | IMG_2528.DNG |
Red Hue | 0 |
Red Saturation | 0 |
Saturation | 0 |
Saturation Adjustment Aqua | 0 |
Saturation Adjustment Blue | 0 |
Saturation Adjustment Green | 0 |
Saturation Adjustment Magenta | 0 |
Saturation Adjustment Orange | 0 |
Saturation Adjustment Purple | 0 |
Saturation Adjustment Red | 0 |
Saturation Adjustment Yellow | 0 |
Scale Factor To 35 mm Equivalent | 8.5 |
Scene Type | Directly photographed |
Sensing Method | One-chip color area |
Shadow Tint | 0 |
Shadows 2012 | -18 |
Sharpen Detail | 25 |
Sharpen Edge Masking | 50 |
Sharpen Radius | +1.4 |
Sharpness | 50 |
Split Toning Balance | 0 |
Split Toning Highlight Hue | 0 |
Split Toning Highlight Saturation | 0 |
Split Toning Shadow Hue | 0 |
Split Toning Shadow Saturation | 0 |
State | Schleswig-Holstein |
Subject Area | 1812 1837 481 483 |
Texture | +20 |
Tint | +2 |
Tone Curve Name 2012 | Linear |
Tone Curve PV2012 | 0, 0, 255, 255 |
Tone Curve PV2012 Blue | 0, 0, 255, 255 |
Tone Curve PV2012 Green | 0, 0, 255, 255 |
Tone Curve PV2012 Red | 0, 0, 255, 255 |
Version | 15.1 |
Vibrance | -21 |
Vignette Amount | 0 |
White Balance | Auto |
Whites 2012 | 0 |
GPS Information |
GPS Altitude | 21.6 m Above Sea Level |
GPS Altitude Ref | Above Sea Level |
GPS Dest Bearing | 147.5931663 |
GPS Dest Bearing Ref | Magnetic North |
GPS Horizontal Positioning Error | 35 m |
GPS Img Direction | 147.5931663 |
GPS Img Direction Ref | Magnetic North |
GPS Latitude | 54 deg 21' 8.35" N |
GPS Latitude Ref | North |
GPS Longitude | 10 deg 5' 20.09" E |
GPS Longitude Ref | East |
GPS Position | 54 deg 21' 8.35" N, 10 deg 5' 20.09" E |
GPS Speed | 0 |
GPS Speed Ref | km/h |