Shooting information for this photo
Camera: | Apple iPhone 12 Pro Max |
Exposure: | 0.00023 sec. (1/4300) |
Aperture: | f/1.6 |
Focal Length: | 5.1 mm (35 mm equivalent: 26.0 mm) |
Flash: | Off, Did not fire |
Exposure mode: | Program AE |
Resolution: | 240 x 240 dpi |
Original Date: | 2022:02:27 12:32:51.784 |
Created on: | 2022:02:27 12:32:51.784 |
Modified on: | 2022:02:27 22:24:19 |
Software: | Adobe Photoshop Lightroom Classic 11.2 (Macintosh) |
Already Applied | True |
Auto Lateral CA | 1 |
Blacks 2012 | -26 |
Blue Hue | 0 |
Blue Saturation | 0 |
Brightness Value | 10.1849792 |
Camera Profile | Apple Embedded Color Profile |
Circle Of Confusion | 0.006 mm |
City | Kiel |
Clarity 2012 | +32 |
Color Grade Blending | 50 |
Color Grade Global Hue | 0 |
Color Grade Global Lum | 0 |
Color Grade Global Sat | 0 |
Color Grade Highlight Lum | 0 |
Color Grade Midtone Hue | 0 |
Color Grade Midtone Lum | 0 |
Color Grade Midtone Sat | 0 |
Color Grade Shadow Lum | 0 |
Color Noise Reduction | 25 |
Color Noise Reduction Detail | 50 |
Color Noise Reduction Smoothness | 50 |
Color Space | sRGB |
Color Temperature | 5686 |
Contrast 2012 | +6 |
Country | Deutschland |
Country Code | DE |
Crop Angle | 0 |
Crop Bottom | 1 |
Crop Constrain To Warp | 0 |
Crop Left | 0.166592 |
Crop Right | 0.911231 |
Crop Top | 0.338099 |
Date Created | 2022:02:27 12:32:51+01:00 |
Defringe Green Amount | 0 |
Defringe Green Hue Hi | 60 |
Defringe Green Hue Lo | 40 |
Defringe Purple Amount | 0 |
Defringe Purple Hue Hi | 70 |
Defringe Purple Hue Lo | 30 |
Dehaze | +13 |
Distortion Correction Already Applied | True |
Exposure 2012 | +0.08 |
Exposure Compensation | 0 |
Exposure Mode | Auto |
Field Of View | 69.4 deg |
Focal Length In 35mm Format | 26 mm |
Format | image/jpeg |
Grain Amount | 0 |
Green Hue | 0 |
Green Saturation | 0 |
Has Crop | True |
Has Settings | True |
Highlights 2012 | -5 |
Hue Adjustment Aqua | 0 |
Hue Adjustment Blue | 0 |
Hue Adjustment Green | 0 |
Hue Adjustment Magenta | 0 |
Hue Adjustment Orange | 0 |
Hue Adjustment Purple | 0 |
Hue Adjustment Red | 0 |
Hue Adjustment Yellow | 0 |
Hyperfocal Distance | 2.76 m |
ISO | 32 |
Image Size | 3000x2000 |
Lateral Chromatic Aberration Correction Already Applied | True |
Lens | iPhone 12 Pro Max back triple camera 5.1mm f/1.6 |
Lens Info | 1.53999996185121-7.5mm f/1.6-2.4 |
Lens Make | Apple |
Lens Manual Distortion Amount | 0 |
Lens Model | iPhone 12 Pro Max back triple camera 5.1mm f/1.6 |
Lens Profile Distortion Scale | 100 |
Lens Profile Enable | 1 |
Lens Profile Filename | Apple iPhone (Apple iPhone 12 Pro Max back camera 5.1mm f1.6) - RAW.lcp |
Lens Profile Is Embedded | False |
Lens Profile Name | Adobe (Apple iPhone 12 Pro Max back camera 5.1mm f/1.6) |
Lens Profile Setup | LensDefaults |
Lens Profile Vignetting Scale | 100 |
Light Value | 15.1 |
Location | Suchsdorf |
Look Amount | 1 |
Look Group | Profiles |
Look Name | Apple ProRaw |
Look Parameters Camera Profile | Apple Embedded Color Profile |
Look Parameters Convert To Grayscale | False |
Look Parameters Process Version | 11.0 |
Look Parameters Profile Gain Table Map | 100 |
Look Parameters Version | 14.2 |
Look Supports Monochrome | false |
Look Supports Output Referred | false |
Luminance Adjustment Aqua | 0 |
Luminance Adjustment Blue | 0 |
Luminance Adjustment Green | 0 |
Luminance Adjustment Magenta | 0 |
Luminance Adjustment Orange | 0 |
Luminance Adjustment Purple | 0 |
Luminance Adjustment Red | 0 |
Luminance Adjustment Yellow | 0 |
Luminance Smoothing | 0 |
Metering Mode | Multi-segment |
Override Look Vignette | False |
Parametric Darks | 0 |
Parametric Highlight Split | 75 |
Parametric Highlights | 0 |
Parametric Lights | 0 |
Parametric Midtone Split | 50 |
Parametric Shadow Split | 25 |
Parametric Shadows | 0 |
Perspective Aspect | 0 |
Perspective Horizontal | 0 |
Perspective Rotate | 0.0 |
Perspective Scale | 100 |
Perspective Upright | 1 |
Perspective Vertical | 0 |
Perspective X | 0.00 |
Perspective Y | 0.00 |
Post Crop Vignette Amount | 0 |
Preserved File Name | IMG_8679.DNG |
Process Version | 11.0 |
Red Hue | 0 |
Red Saturation | 0 |
Saturation | 0 |
Saturation Adjustment Aqua | +36 |
Saturation Adjustment Blue | -42 |
Saturation Adjustment Green | 0 |
Saturation Adjustment Magenta | 0 |
Saturation Adjustment Orange | 0 |
Saturation Adjustment Purple | 0 |
Saturation Adjustment Red | 0 |
Saturation Adjustment Yellow | 0 |
Scale Factor To 35 mm Equivalent | 5.1 |
Scene Type | Directly photographed |
Sensing Method | One-chip color area |
Shadow Tint | 0 |
Shadows 2012 | +6 |
Sharpen Detail | 25 |
Sharpen Edge Masking | 0 |
Sharpen Radius | +1.4 |
Sharpness | 50 |
Split Toning Balance | 0 |
Split Toning Highlight Hue | 0 |
Split Toning Highlight Saturation | 0 |
Split Toning Shadow Hue | 0 |
Split Toning Shadow Saturation | 0 |
State | Schleswig-Holstein |
Subject Area | 2008 1513 2317 1331 |
Texture | 0 |
Tint | +12 |
Tone Curve Name 2012 | Linear |
Tone Curve PV2012 | 0, 0, 255, 255 |
Tone Curve PV2012 Blue | 0, 0, 255, 255 |
Tone Curve PV2012 Green | 0, 0, 255, 255 |
Tone Curve PV2012 Red | 0, 0, 255, 255 |
Version | 14.2 |
Vibrance | +85 |
Vignette Amount | 0 |
White Balance | Auto |
Whites 2012 | -16 |
GPS Information |
GPS Altitude Ref | Above Sea Level |
GPS Date Stamp | 2022:02:27 |
GPS Date/Time | 2022:02:27 11:32:51Z |
GPS Img Direction Ref | True North |
GPS Latitude Ref | N |
GPS Longitude Ref | E |
GPS Speed Ref | km/h |
GPS Time Stamp | 11:32:51 |