Shooting information for this photo
| Camera: | NIKON CORPORATION NIKON Z 7 |
| Exposure: | 0.00625 sec. (1/160) |
| Aperture: | f/1.8 |
| Focal Length: | 50.0 mm (35 mm equivalent: 50.0 mm) |
| Flash: | No Flash |
| Exposure mode: | Aperture-priority AE |
| Resolution: | 240 x 240 dpi |
| Dimension: | 2250 x 3000 pixels |
| Original Date: | 2021:03:04 16:43:50 |
| Created on: | 2021:03:04 16:43:50.83 |
| Modified on: | 2021:03:05 21:18:59 |
| Software: | Adobe Photoshop 22.2 (Macintosh) |
| Copyright: | Thore Siebrands |
| Already Applied | True |
| Artist | Thore Siebrands |
| Auto Lateral CA | 1 |
| Blacks 2012 | -50 |
| Blue Hue | 0 |
| Blue Saturation | 0 |
| CFA Pattern | [Red,Green][Green,Blue] |
| Camera Profile | Adobe Standard v2 |
| Circle Of Confusion | 0.030 mm |
| Clarity 2012 | +5 |
| Color Grade Blending | 50 |
| Color Grade Global Hue | 0 |
| Color Grade Global Lum | 0 |
| Color Grade Global Sat | 0 |
| Color Grade Highlight Lum | 0 |
| Color Grade Midtone Hue | 0 |
| Color Grade Midtone Lum | 0 |
| Color Grade Midtone Sat | 0 |
| Color Grade Shadow Lum | 0 |
| Color Mode | RGB |
| Color Noise Reduction | 10 |
| Color Noise Reduction Detail | 50 |
| Color Noise Reduction Smoothness | 50 |
| Color Space | sRGB |
| Color Temperature | 4692 |
| Contrast | Normal |
| Contrast 2012 | +7 |
| Convert To Grayscale | False |
| Creator | Thore Siebrands |
| Crop Angle | 2.33242 |
| Crop Bottom | 0.628022 |
| Crop Constrain To Warp | 0 |
| Crop Left | 0.456007 |
| Crop Right | 0.744162 |
| Crop Top | 0 |
| Custom Rendered | Custom |
| Date Created | 2021:03:04 16:43:50+01:00 |
| Defringe Green Amount | 0 |
| Defringe Green Hue Hi | 60 |
| Defringe Green Hue Lo | 40 |
| Defringe Purple Amount | 0 |
| Defringe Purple Hue Hi | 70 |
| Defringe Purple Hue Lo | 30 |
| Dehaze | +20 |
| Distortion Correction Already Applied | True |
| Exposure 2012 | -0.55 |
| Exposure Compensation | 0 |
| Exposure Mode | Auto |
| Field Of View | 39.6 deg |
| Focal Length In 35mm Format | 50 mm |
| Format | image/jpeg |
| Gain Control | None |
| Grain Amount | 0 |
| Green Hue | 0 |
| Green Saturation | 0 |
| Has Crop | True |
| Has Settings | True |
| Highlights 2012 | -39 |
| Hue Adjustment Aqua | 0 |
| Hue Adjustment Blue | 0 |
| Hue Adjustment Green | 0 |
| Hue Adjustment Magenta | 0 |
| Hue Adjustment Orange | 0 |
| Hue Adjustment Purple | 0 |
| Hue Adjustment Red | 0 |
| Hue Adjustment Yellow | 0 |
| Hyperfocal Distance | 46.23 m |
| ICC Profile Name | sRGB IEC61966-2.1 |
| ISO | 64 |
| Image Number | 9565 |
| Image Size | 2250x3000 |
| Label | gelb |
| Lateral Chromatic Aberration Correction Already Applied | True |
| Lens | NIKKOR Z 50mm f/1.2 S |
| Lens Info | 50mm f/1.2 |
| Lens Make | NIKON |
| Lens Manual Distortion Amount | 0 |
| Lens Model | NIKKOR Z 50mm f/1.2 S |
| Lens Profile Enable | 0 |
| Light Source | Unknown |
| Light Value | 9.7 |
| Luminance Adjustment Aqua | 0 |
| Luminance Adjustment Blue | 0 |
| Luminance Adjustment Green | 0 |
| Luminance Adjustment Magenta | 0 |
| Luminance Adjustment Orange | 0 |
| Luminance Adjustment Purple | 0 |
| Luminance Adjustment Red | 0 |
| Luminance Adjustment Yellow | 0 |
| Luminance Noise Reduction Contrast | 0 |
| Luminance Noise Reduction Detail | 75 |
| Luminance Smoothing | 25 |
| Metering Mode | Multi-segment |
| Override Look Vignette | False |
| Parametric Darks | 0 |
| Parametric Highlight Split | 75 |
| Parametric Highlights | 0 |
| Parametric Lights | 0 |
| Parametric Midtone Split | 50 |
| Parametric Shadow Split | 25 |
| Parametric Shadows | 0 |
| Perspective Aspect | 0 |
| Perspective Horizontal | 0 |
| Perspective Rotate | 0.0 |
| Perspective Scale | 100 |
| Perspective Upright | 0 |
| Perspective Vertical | 0 |
| Perspective X | 0.00 |
| Perspective Y | 0.00 |
| Photometric Interpretation | RGB |
| Post Crop Vignette Amount | 0 |
| Preserved File Name | NZ7_9562.NEF |
| Process Version | 11.0 |
| Rating | 3 |
| Raw File Name | NZ7_9562.NEF |
| Recommended Exposure Index | 64 |
| Red Hue | 0 |
| Red Saturation | 0 |
| Rights | Thore Siebrands |
| Samples Per Pixel | 3 |
| Saturation | Normal |
| Saturation Adjustment Aqua | 0 |
| Saturation Adjustment Blue | 0 |
| Saturation Adjustment Green | 0 |
| Saturation Adjustment Magenta | 0 |
| Saturation Adjustment Orange | 0 |
| Saturation Adjustment Purple | 0 |
| Saturation Adjustment Red | 0 |
| Saturation Adjustment Yellow | 0 |
| Scale Factor To 35 mm Equivalent | 1.0 |
| Scene Capture Type | Standard |
| Scene Type | Directly photographed |
| Sensing Method | One-chip color area |
| Sensitivity Type | Recommended Exposure Index |
| Shadow Tint | 0 |
| Shadows 2012 | +33 |
| Sharpen Detail | 25 |
| Sharpen Edge Masking | 0 |
| Sharpen Radius | +2.0 |
| Sharpness | Normal |
| Split Toning Balance | 0 |
| Split Toning Highlight Hue | 0 |
| Split Toning Highlight Saturation | 0 |
| Split Toning Shadow Hue | 0 |
| Split Toning Shadow Saturation | 0 |
| Subject Distance Range | Unknown |
| Texture | +16 |
| Tint | -15 |
| Tone Curve Name 2012 | Linear |
| Tone Curve PV2012 | 0, 0, 255, 255 |
| Tone Curve PV2012 Blue | 0, 0, 255, 255 |
| Tone Curve PV2012 Green | 0, 0, 255, 255 |
| Tone Curve PV2012 Red | 0, 0, 255, 255 |
| Version | 13.1 |
| Vibrance | -16 |
| Vignette Amount | 0 |
| Vignette Correction Already Applied | True |
| White Balance | Auto |
| Whites 2012 | +46 |
X