Shooting information for this photo
| Camera: | NIKON CORPORATION NIKON Z 7 |
| Exposure: | 10 sec. |
| Aperture: | f/8.0 |
| Focal Length: | 26.5 mm (35 mm equivalent: 26.0 mm) |
| Flash: | No Flash |
| Exposure mode: | Manual |
| Resolution: | 240 x 240 dpi |
| Original Date: | 2020:10:14 19:45:10.96 |
| Created on: | 2020:10:14 19:45:10.96 |
| Modified on: | 2020:10:22 21:42:59 |
| Software: | Adobe Photoshop Lightroom Classic 10.0 (Macintosh) |
| Copyright: | Thore Siebrands |
| Already Applied | True |
| Artist | Thore Siebrands |
| Auto Lateral CA | 1 |
| Blacks 2012 | -20 |
| Blue Hue | 0 |
| Blue Saturation | 0 |
| CFA Pattern | [Red,Green][Green,Blue] |
| Camera Profile | Adobe Standard v2 |
| Circle Of Confusion | 0.031 mm |
| Clarity 2012 | +58 |
| Color Grade Blending | 50 |
| Color Grade Global Hue | 0 |
| Color Grade Global Lum | 0 |
| Color Grade Global Sat | 0 |
| Color Grade Highlight Lum | 0 |
| Color Grade Midtone Hue | 0 |
| Color Grade Midtone Lum | 0 |
| Color Grade Midtone Sat | 0 |
| Color Grade Shadow Lum | 0 |
| Color Noise Reduction | 25 |
| Color Noise Reduction Detail | 50 |
| Color Noise Reduction Smoothness | 50 |
| Color Space | sRGB |
| Color Temperature | 4150 |
| Contrast | Normal |
| Contrast 2012 | +6 |
| Creator | Thore Siebrands |
| Crop Angle | 0.990049 |
| Crop Bottom | 0.830643 |
| Crop Constrain To Warp | 0 |
| Crop Left | 0.190345 |
| Crop Right | 0.990672 |
| Crop Top | 0 |
| Custom Rendered | Custom |
| Date Created | 2020:10:14 19:45:10.96+02:00 |
| Defringe Green Amount | 0 |
| Defringe Green Hue Hi | 60 |
| Defringe Green Hue Lo | 40 |
| Defringe Purple Amount | 0 |
| Defringe Purple Hue Hi | 70 |
| Defringe Purple Hue Lo | 30 |
| Dehaze | +37 |
| Distortion Correction Already Applied | True |
| Exposure 2012 | +1.00 |
| Exposure Compensation | 0 |
| Exposure Mode | Manual |
| Field Of View | 69.4 deg |
| Focal Length In 35mm Format | 26 mm |
| Format | image/jpeg |
| Gain Control | None |
| Grain Amount | 0 |
| Green Hue | 0 |
| Green Saturation | 0 |
| Has Crop | True |
| Has Settings | True |
| Highlights 2012 | -89 |
| Hue Adjustment Aqua | 0 |
| Hue Adjustment Blue | 0 |
| Hue Adjustment Green | 0 |
| Hue Adjustment Magenta | 0 |
| Hue Adjustment Orange | 0 |
| Hue Adjustment Purple | 0 |
| Hue Adjustment Red | 0 |
| Hue Adjustment Yellow | 0 |
| Hyperfocal Distance | 2.87 m |
| ISO | 640 |
| Image Number | 8041 |
| Image Size | 3000x2000 |
| Label | gelb |
| Lateral Chromatic Aberration Correction Already Applied | True |
| Lens | NIKKOR Z 24-70mm f/2.8 S |
| Lens Info | 24-70mm f/2.8 |
| Lens Make | NIKON |
| Lens Manual Distortion Amount | 0 |
| Lens Model | NIKKOR Z 24-70mm f/2.8 S |
| Lens Profile Enable | 1 |
| Lens Profile Setup | LensDefaults |
| Light Source | Unknown |
| Light Value | -0.0 |
| Look Amount | 1.000000 |
| Look Group | Profiles |
| Look Name | Adobe Color |
| Look Parameters Camera Profile | Adobe Standard |
| Look Parameters Convert To Grayscale | False |
| Look Parameters Look Table | E1095149FDB39D7A057BAB208837E2 E1 |
| Look Parameters Process Version | 11.0 |
| Look Parameters Tone Curve PV2012 | 0, 0, 22, 16, 40, 35, 127, 127, 224, 230, 240, 246, 255, 255 |
| Look Parameters Tone Curve PV2012 Blue | 0, 0, 255, 255 |
| Look Parameters Tone Curve PV2012 Green | 0, 0, 255, 255 |
| Look Parameters Tone Curve PV2012 Red | 0, 0, 255, 255 |
| Look Parameters Version | 13.0 |
| Look Supports Amount | false |
| Look Supports Monochrome | false |
| Look Supports Output Referred | false |
| Luminance Adjustment Aqua | 0 |
| Luminance Adjustment Blue | 0 |
| Luminance Adjustment Green | 0 |
| Luminance Adjustment Magenta | 0 |
| Luminance Adjustment Orange | 0 |
| Luminance Adjustment Purple | 0 |
| Luminance Adjustment Red | 0 |
| Luminance Adjustment Yellow | 0 |
| Luminance Noise Reduction Contrast | 0 |
| Luminance Noise Reduction Detail | 50 |
| Luminance Smoothing | 69 |
| Metering Mode | Multi-segment |
| Override Look Vignette | False |
| Paint Correction Active | true |
| Paint Correction Amount | 1.000000 |
| Paint Correction Brightness | 0.000000 |
| Paint Correction Clarity 2012 | 0.000000 |
| Paint Correction Contrast 2012 | 0.000000 |
| Paint Correction Correction Range Mask Color Amount | 0.500000 |
| Paint Correction Correction Range Mask Depth Feather | 0.500000 |
| Paint Correction Correction Range Mask Depth Max | 1.000000 |
| Paint Correction Correction Range Mask Depth Min | 0.000000 |
| Paint Correction Correction Range Mask Lum Feather | 0.500000 |
| Paint Correction Correction Range Mask Lum Max | 1.000000 |
| Paint Correction Correction Range Mask Lum Min | 0.000000 |
| Paint Correction Correction Range Mask Type | 0 |
| Paint Correction Correction Range Mask Version | +2 |
| Paint Correction Defringe | 0.000000 |
| Paint Correction Exposure 2012 | 0.000000 |
| Paint Correction Highlights 2012 | 0.000000 |
| Paint Correction Hue | 0.000000 |
| Paint Correction Local Blacks 2012 | 0.300142 |
| Paint Correction Local Dehaze | 0.000000 |
| Paint Correction Local Hue | 0.000000 |
| Paint Correction Local Texture | 0.000000 |
| Paint Correction Local Whites 2012 | 0.000000 |
| Paint Correction Luminance Noise | 0.000000 |
| Paint Correction Mask Center Weight | 0.000000 |
| Paint Correction Mask Flow | 0.531410 |
| Paint Correction Mask Radius | 0.167102 |
| Paint Correction Mask Value | 0.622144 |
| Paint Correction Mask What | Mask/Paint |
| Paint Correction Moire | 0.000000 |
| Paint Correction Saturation | 0.000000 |
| Paint Correction Shadows 2012 | 0.000000 |
| Paint Correction Sharpness | 0.000000 |
| Paint Correction Temperature | 0.000000 |
| Paint Correction Tint | 0.000000 |
| Paint Correction What | Correction |
| Parametric Darks | 0 |
| Parametric Highlight Split | 75 |
| Parametric Highlights | 0 |
| Parametric Lights | 0 |
| Parametric Midtone Split | 50 |
| Parametric Shadow Split | 25 |
| Parametric Shadows | 0 |
| Perspective Aspect | 0 |
| Perspective Horizontal | 0 |
| Perspective Rotate | 0.0 |
| Perspective Scale | 100 |
| Perspective Upright | 0 |
| Perspective Vertical | 0 |
| Perspective X | 0.00 |
| Perspective Y | 0.00 |
| Post Crop Vignette Amount | 0 |
| Preserved File Name | NZ7_8038.NEF |
| Process Version | 11.0 |
| Rating | 3 |
| Raw File Name | NZ7_8038.NEF |
| Recommended Exposure Index | 640 |
| Red Hue | 0 |
| Red Saturation | 0 |
| Rights | Thore Siebrands |
| Saturation | Normal |
| Saturation Adjustment Aqua | 0 |
| Saturation Adjustment Blue | 0 |
| Saturation Adjustment Green | 0 |
| Saturation Adjustment Magenta | 0 |
| Saturation Adjustment Orange | 0 |
| Saturation Adjustment Purple | 0 |
| Saturation Adjustment Red | 0 |
| Saturation Adjustment Yellow | 0 |
| Scale Factor To 35 mm Equivalent | 1.0 |
| Scene Capture Type | Standard |
| Scene Type | Directly photographed |
| Sensing Method | One-chip color area |
| Sensitivity Type | Recommended Exposure Index |
| Shadow Tint | 0 |
| Shadows 2012 | +80 |
| Sharpen Detail | 25 |
| Sharpen Edge Masking | 0 |
| Sharpen Radius | +1.9 |
| Sharpness | Normal |
| Split Toning Balance | 0 |
| Split Toning Highlight Hue | 0 |
| Split Toning Highlight Saturation | 0 |
| Split Toning Shadow Hue | 0 |
| Split Toning Shadow Saturation | 0 |
| Subject Distance Range | Unknown |
| Texture | +32 |
| Tint | +29 |
| Tone Curve Name 2012 | Linear |
| Tone Curve PV2012 | 0, 0, 255, 255 |
| Tone Curve PV2012 Blue | 0, 0, 255, 255 |
| Tone Curve PV2012 Green | 0, 0, 255, 255 |
| Tone Curve PV2012 Red | 0, 0, 255, 255 |
| Version | 13.0 |
| Vibrance | +15 |
| Vignette Amount | 0 |
| Vignette Correction Already Applied | True |
| White Balance | Auto |
| Whites 2012 | +2 |
X