Shooting information for this photo
| Camera: | NIKON CORPORATION NIKON Z 7 |
| Exposure: | 0.04 sec. (1/25) |
| Aperture: | f/8.0 |
| Focal Length: | 185.0 mm (35 mm equivalent: 185.0 mm) |
| Flash: | No Flash |
| Exposure mode: | Aperture-priority AE |
| Resolution: | 240 x 240 dpi |
| Original Date: | 2019:12:28 15:08:05.65 |
| Created on: | 2019:12:28 15:08:05.65 |
| Modified on: | 2019:12:29 00:19:04 |
| Software: | Adobe Photoshop Lightroom Classic 9.1 (Macintosh) |
| Copyright: | Thore Siebrands |
| Already Applied | True |
| Artist | Thore Siebrands |
| Auto Lateral CA | 1 |
| Blacks 2012 | -33 |
| Blue Hue | 0 |
| Blue Saturation | 0 |
| CFA Pattern | [Red,Green][Green,Blue] |
| Camera Profile | Camera Landscape |
| Circle Of Confusion | 0.030 mm |
| Clarity 2012 | 0 |
| Color Noise Reduction | 10 |
| Color Noise Reduction Detail | 50 |
| Color Noise Reduction Smoothness | 50 |
| Color Space | sRGB |
| Color Temperature | 5570 |
| Contrast | Normal |
| Contrast 2012 | -68 |
| Convert To Grayscale | False |
| Creator | Thore Siebrands |
| Crop Angle | 1.64537 |
| Crop Bottom | 1 |
| Crop Constrain To Warp | 0 |
| Crop Left | 0.148159 |
| Crop Right | 0.970167 |
| Crop Top | 0.125833 |
| Custom Rendered | Custom |
| Date Created | 2019:12:28 15:08:05.65+01:00 |
| Defringe Green Amount | 0 |
| Defringe Green Hue Hi | 60 |
| Defringe Green Hue Lo | 40 |
| Defringe Purple Amount | 0 |
| Defringe Purple Hue Hi | 70 |
| Defringe Purple Hue Lo | 30 |
| Dehaze | +7 |
| Distortion Correction Already Applied | True |
| Exposure 2012 | +0.30 |
| Exposure Compensation | 0 |
| Exposure Mode | Auto |
| Field Of View | 11.1 deg |
| Focal Length In 35mm Format | 185 mm |
| Format | image/jpeg |
| Gain Control | None |
| Gradient Based Corr Active | true |
| Gradient Based Corr Amount | 1.000000 |
| Gradient Based Corr Brightness | 0.000000 |
| Gradient Based Corr Clarity 2012 | 0.000000 |
| Gradient Based Corr Contrast 2012 | 0.000000 |
| Gradient Based Corr Correction Range Mask Color Amount | 0.500000 |
| Gradient Based Corr Correction Range Mask Depth Feather | 0.500000 |
| Gradient Based Corr Correction Range Mask Depth Max | 1.000000 |
| Gradient Based Corr Correction Range Mask Depth Min | 0.000000 |
| Gradient Based Corr Correction Range Mask Lum Feather | 0.500000 |
| Gradient Based Corr Correction Range Mask Lum Max | 1.000000 |
| Gradient Based Corr Correction Range Mask Lum Min | 0.000000 |
| Gradient Based Corr Correction Range Mask Type | 0 |
| Gradient Based Corr Correction Range Mask Version | +2 |
| Gradient Based Corr Defringe | 0.000000 |
| Gradient Based Corr Exposure 2012 | -0.084886 |
| Gradient Based Corr Highlights 2012 | 0.000000 |
| Gradient Based Corr Hue | 0.000000 |
| Gradient Based Corr Local Blacks 2012 | 0.000000 |
| Gradient Based Corr Local Dehaze | 0.203976 |
| Gradient Based Corr Local Texture | 0.000000 |
| Gradient Based Corr Local Whites 2012 | 0.000000 |
| Gradient Based Corr Luminance Noise | 0.000000 |
| Gradient Based Corr Mask Full X | 0.601602 |
| Gradient Based Corr Mask Full Y | 0.659115 |
| Gradient Based Corr Mask Value | 1.000000 |
| Gradient Based Corr Mask What | Mask/Gradient |
| Gradient Based Corr Mask Zero X | 0.597008 |
| Gradient Based Corr Mask Zero Y | 0.899001 |
| Gradient Based Corr Moire | 0.000000 |
| Gradient Based Corr Saturation | 0.000000 |
| Gradient Based Corr Shadows 2012 | 0.000000 |
| Gradient Based Corr Sharpness | 0.000000 |
| Gradient Based Corr Temperature | 0.000000 |
| Gradient Based Corr Tint | 0.000000 |
| Gradient Based Corr What | Correction |
| Grain Amount | 0 |
| Green Hue | 0 |
| Green Saturation | 0 |
| Has Crop | True |
| Has Settings | True |
| Highlights 2012 | -98 |
| Hue Adjustment Aqua | 0 |
| Hue Adjustment Blue | 0 |
| Hue Adjustment Green | 0 |
| Hue Adjustment Magenta | 0 |
| Hue Adjustment Orange | 0 |
| Hue Adjustment Purple | 0 |
| Hue Adjustment Red | 0 |
| Hue Adjustment Yellow | 0 |
| Hyperfocal Distance | 142.38 m |
| ISO | 64 |
| Image Number | 4587 |
| Image Size | 3000x2000 |
| Lateral Chromatic Aberration Correction Already Applied | True |
| Lens | 70.0-200.0 mm f/2.8 |
| Lens Info | 70-200mm f/2.8 |
| Lens Manual Distortion Amount | 0 |
| Lens Model | 70.0-200.0 mm f/2.8 |
| Lens Profile Enable | 1 |
| Lens Profile Setup | LensDefaults |
| Light Source | Unknown |
| Light Value | 11.3 |
| Luminance Adjustment Aqua | 0 |
| Luminance Adjustment Blue | 0 |
| Luminance Adjustment Green | 0 |
| Luminance Adjustment Magenta | 0 |
| Luminance Adjustment Orange | 0 |
| Luminance Adjustment Purple | 0 |
| Luminance Adjustment Red | 0 |
| Luminance Adjustment Yellow | 0 |
| Luminance Noise Reduction Contrast | 0 |
| Luminance Noise Reduction Detail | 75 |
| Luminance Smoothing | 25 |
| Metering Mode | Multi-segment |
| Override Look Vignette | False |
| Parametric Darks | 0 |
| Parametric Highlight Split | 75 |
| Parametric Highlights | 0 |
| Parametric Lights | 0 |
| Parametric Midtone Split | 50 |
| Parametric Shadow Split | 25 |
| Parametric Shadows | 0 |
| Perspective Aspect | 0 |
| Perspective Horizontal | 0 |
| Perspective Rotate | 0.0 |
| Perspective Scale | 100 |
| Perspective Upright | 0 |
| Perspective Vertical | 0 |
| Perspective X | 0.00 |
| Perspective Y | 0.00 |
| Post Crop Vignette Amount | 0 |
| Preserved File Name | NZ7_4587.NEF |
| Process Version | 11.0 |
| Raw File Name | NZ7_4587.NEF |
| Recommended Exposure Index | 64 |
| Red Hue | 0 |
| Red Saturation | 0 |
| Rights | Thore Siebrands |
| Saturation | Normal |
| Saturation Adjustment Aqua | 0 |
| Saturation Adjustment Blue | 0 |
| Saturation Adjustment Green | 0 |
| Saturation Adjustment Magenta | 0 |
| Saturation Adjustment Orange | 0 |
| Saturation Adjustment Purple | 0 |
| Saturation Adjustment Red | 0 |
| Saturation Adjustment Yellow | 0 |
| Scale Factor To 35 mm Equivalent | 1.0 |
| Scene Capture Type | Standard |
| Scene Type | Directly photographed |
| Sensing Method | One-chip color area |
| Sensitivity Type | Recommended Exposure Index |
| Shadow Tint | 0 |
| Shadows 2012 | +85 |
| Sharpen Detail | 25 |
| Sharpen Edge Masking | 0 |
| Sharpen Radius | +2.0 |
| Sharpness | Normal |
| Split Toning Balance | 0 |
| Split Toning Highlight Hue | 0 |
| Split Toning Highlight Saturation | 0 |
| Split Toning Shadow Hue | 0 |
| Split Toning Shadow Saturation | 0 |
| Subject Distance Range | Unknown |
| Texture | +23 |
| Tint | -24 |
| Tone Curve | 0, 0, 255, 255 |
| Tone Curve Blue | 0, 0, 255, 255 |
| Tone Curve Green | 0, 0, 255, 255 |
| Tone Curve Name | Linear |
| Tone Curve Name 2012 | Linear |
| Tone Curve PV2012 | 0, 0, 255, 255 |
| Tone Curve PV2012 Blue | 0, 0, 255, 255 |
| Tone Curve PV2012 Green | 0, 0, 255, 255 |
| Tone Curve PV2012 Red | 0, 0, 255, 255 |
| Tone Curve Red | 0, 0, 255, 255 |
| Tone Map Strength | 0 |
| Version | 12.1 |
| Vibrance | -6 |
| Vignette Amount | +23 |
| Vignette Correction Already Applied | True |
| Vignette Midpoint | 50 |
| White Balance | Auto |
| Whites 2012 | +62 |
X