Shooting information for this photo
| Camera: | NIKON CORPORATION NIKON D850 |
| Exposure: | 0.0008 sec. (1/1250) |
| Aperture: | f/2.8 |
| Focal Length: | 200.0 mm (35 mm equivalent: 200.0 mm) |
| Flash: | No Flash |
| Exposure mode: | Aperture-priority AE |
| Max Aperture: | 2.8 |
| Resolution: | 240 x 240 dpi |
| Original Date: | 2018:09:01 19:11:30.26 |
| Created on: | 2018:09:01 19:11:30.26 |
| Modified on: | 2019:04:20 22:19:03 |
| Software: | Adobe Photoshop Lightroom Classic 8.2.1 (Macintosh) |
| Copyright: | Thore Siebrands |
| Already Applied | True |
| Approximate Focus Distance | 4294967295 |
| Artist | Thore Siebrands |
| Auto Lateral CA | 1 |
| Blacks 2012 | 0 |
| Blue Hue | 0 |
| Blue Saturation | 0 |
| CFA Pattern | [Red,Green][Green,Blue] |
| Camera Profile | Adobe Standard |
| Circle Of Confusion | 0.030 mm |
| Circular Gradient Based Corrections Correction Active | true |
| Circular Gradient Based Corrections Correction Amount | 1.000000 |
| Circular Gradient Based Corrections Correction Masks Angle | 0.000000 |
| Circular Gradient Based Corrections Correction Masks Bottom | 0.715516 |
| Circular Gradient Based Corrections Correction Masks Feather | +88 |
| Circular Gradient Based Corrections Correction Masks Flipped | true |
| Circular Gradient Based Corrections Correction Masks Left | 0.271081 |
| Circular Gradient Based Corrections Correction Masks Mask Value | 1.000000 |
| Circular Gradient Based Corrections Correction Masks Midpoint | +50 |
| Circular Gradient Based Corrections Correction Masks Right | 0.730438 |
| Circular Gradient Based Corrections Correction Masks Roundness | 0 |
| Circular Gradient Based Corrections Correction Masks Top | -0.013885 |
| Circular Gradient Based Corrections Correction Masks Version | +2 |
| Circular Gradient Based Corrections Correction Masks What | Mask/CircularGradient |
| Circular Gradient Based Corrections Correction Range Mask Color Amount | 0.500000 |
| Circular Gradient Based Corrections Correction Range Mask Depth Feather | 0.500000 |
| Circular Gradient Based Corrections Correction Range Mask Depth Max | 1.000000 |
| Circular Gradient Based Corrections Correction Range Mask Depth Min | 0.000000 |
| Circular Gradient Based Corrections Correction Range Mask Lum Feather | 0.500000 |
| Circular Gradient Based Corrections Correction Range Mask Lum Max | 1.000000 |
| Circular Gradient Based Corrections Correction Range Mask Lum Min | 0.000000 |
| Circular Gradient Based Corrections Correction Range Mask Type | 0 |
| Circular Gradient Based Corrections Correction Range Mask Version | +2 |
| Circular Gradient Based Corrections Local Blacks 2012 | 0.000000 |
| Circular Gradient Based Corrections Local Brightness | 0.000000 |
| Circular Gradient Based Corrections Local Clarity 2012 | 0.000000 |
| Circular Gradient Based Corrections Local Contrast 2012 | 0.000000 |
| Circular Gradient Based Corrections Local Defringe | 0.000000 |
| Circular Gradient Based Corrections Local Dehaze | 0.000000 |
| Circular Gradient Based Corrections Local Exposure 2012 | -0.068719 |
| Circular Gradient Based Corrections Local Highlights 2012 | 0.000000 |
| Circular Gradient Based Corrections Local Luminance Noise | 0.000000 |
| Circular Gradient Based Corrections Local Moire | 0.000000 |
| Circular Gradient Based Corrections Local Saturation | 0.000000 |
| Circular Gradient Based Corrections Local Shadows 2012 | 0.000000 |
| Circular Gradient Based Corrections Local Sharpness | 0.000000 |
| Circular Gradient Based Corrections Local Temperature | 0.000000 |
| Circular Gradient Based Corrections Local Tint | 0.000000 |
| Circular Gradient Based Corrections Local Toning Hue | 0.000000 |
| Circular Gradient Based Corrections Local Toning Saturation | 0.000000 |
| Circular Gradient Based Corrections Local Whites 2012 | 0.000000 |
| Circular Gradient Based Corrections What | Correction |
| City | Strande |
| Clarity 2012 | +28 |
| Color Noise Reduction | 25 |
| Color Noise Reduction Detail | 50 |
| Color Noise Reduction Smoothness | 50 |
| Color Space | sRGB |
| Color Temperature | 5750 |
| Contrast | Normal |
| Contrast 2012 | +61 |
| Convert To Grayscale | False |
| Country | Germany |
| Country Code | DE |
| Creator | Thore Siebrands |
| Crop Angle | 0 |
| Crop Bottom | 1 |
| Crop Constrain To Warp | 0 |
| Crop Left | 0.058843 |
| Crop Right | 1 |
| Crop Top | 0.058843 |
| Custom Rendered | Normal |
| Date Created | 2018:09:01 19:11:30.26 |
| Defringe Green Amount | 0 |
| Defringe Green Hue Hi | 60 |
| Defringe Green Hue Lo | 40 |
| Defringe Purple Amount | 0 |
| Defringe Purple Hue Hi | 70 |
| Defringe Purple Hue Lo | 30 |
| Dehaze | +20 |
| Distortion Correction Already Applied | True |
| Exposure 2012 | +0.40 |
| Exposure Compensation | 0 |
| Exposure Mode | Auto |
| Field Of View | 10.3 deg |
| Focal Length In 35mm Format | 200 mm |
| Format | image/jpeg |
| Gain Control | None |
| Gradient Based Corr Active | true |
| Gradient Based Corr Amount | 1.000000 |
| Gradient Based Corr Brightness | 0.000000 |
| Gradient Based Corr Clarity 2012 | 0.248180 |
| Gradient Based Corr Contrast 2012 | 0.087624 |
| Gradient Based Corr Correction Range Mask Color Amount | 0.500000 |
| Gradient Based Corr Correction Range Mask Depth Feather | 0.500000 |
| Gradient Based Corr Correction Range Mask Depth Max | 1.000000 |
| Gradient Based Corr Correction Range Mask Depth Min | 0.000000 |
| Gradient Based Corr Correction Range Mask Lum Feather | 0.500000 |
| Gradient Based Corr Correction Range Mask Lum Max | 1.000000 |
| Gradient Based Corr Correction Range Mask Lum Min | 0.000000 |
| Gradient Based Corr Correction Range Mask Type | 0 |
| Gradient Based Corr Correction Range Mask Version | +2 |
| Gradient Based Corr Defringe | 0.000000 |
| Gradient Based Corr Exposure 2012 | 0.041221 |
| Gradient Based Corr Highlights 2012 | 0.000000 |
| Gradient Based Corr Hue | 0.000000 |
| Gradient Based Corr Local Blacks 2012 | 0.000000 |
| Gradient Based Corr Local Dehaze | 0.151162 |
| Gradient Based Corr Local Whites 2012 | 0.000000 |
| Gradient Based Corr Luminance Noise | 0.000000 |
| Gradient Based Corr Mask Full X | 0.514402 |
| Gradient Based Corr Mask Full Y | 0.502519 |
| Gradient Based Corr Mask Value | 1.000000 |
| Gradient Based Corr Mask What | Mask/Gradient |
| Gradient Based Corr Mask Zero X | 0.514422 |
| Gradient Based Corr Mask Zero Y | 0.737617 |
| Gradient Based Corr Moire | 0.000000 |
| Gradient Based Corr Saturation | 0.000000 |
| Gradient Based Corr Shadows 2012 | -0.003238 |
| Gradient Based Corr Sharpness | 0.000000 |
| Gradient Based Corr Temperature | -0.071597 |
| Gradient Based Corr Tint | -0.040553 |
| Gradient Based Corr What | Correction |
| Grain Amount | 0 |
| Green Hue | 0 |
| Green Saturation | 0 |
| Has Crop | True |
| Has Extended XMP | C4F193302CBADBA275A6DE3945AFFE 38 |
| Has Settings | True |
| Highlights 2012 | +29 |
| Hue Adjustment Aqua | 0 |
| Hue Adjustment Blue | 0 |
| Hue Adjustment Green | -34 |
| Hue Adjustment Magenta | 0 |
| Hue Adjustment Orange | +44 |
| Hue Adjustment Purple | 0 |
| Hue Adjustment Red | 0 |
| Hue Adjustment Yellow | -41 |
| Hyperfocal Distance | 475.46 m |
| ISO | 64 |
| Image Number | 9350 |
| Image Size | 2409x1606 |
| Label | gelb |
| Lateral Chromatic Aberration Correction Already Applied | True |
| Lens | 70.0-200.0 mm f/2.8 |
| Lens ID | AF-S Nikkor 70-200mm f/2.8G ED VR II |
| Lens Info | 70-200mm f/2.8 |
| Lens Manual Distortion Amount | 0 |
| Lens Model | 70.0-200.0 mm f/2.8 |
| Lens Profile Chromatic Aberration Scale | 100 |
| Lens Profile Distortion Scale | 100 |
| Lens Profile Enable | 1 |
| Lens Profile Filename | NIKON D700 (Nikon AF-S NIKKOR 70-200mm f2.8G ED VR II) - RAW.lcp |
| Lens Profile Name | Adobe (Nikon AF-S NIKKOR 70-200mm f/2.8G ED VR II) |
| Lens Profile Setup | Custom |
| Lens Profile Vignetting Scale | 141 |
| Light Source | Unknown |
| Light Value | 13.9 |
| Location | Buelk |
| Look Amount | 1.000000 |
| Look Group | Profiles |
| Look Name | Adobe Color |
| Look Parameters Camera Profile | Adobe Standard |
| Look Parameters Convert To Grayscale | False |
| Look Parameters Look Table | E1095149FDB39D7A057BAB208837E2 E1 |
| Look Parameters Process Version | 11.0 |
| Look Parameters Tone Curve PV2012 | 0, 0, 22, 16, 40, 35, 127, 127, 224, 230, 240, 246, 255, 255 |
| Look Parameters Tone Curve PV2012 Blue | 0, 0, 255, 255 |
| Look Parameters Tone Curve PV2012 Green | 0, 0, 255, 255 |
| Look Parameters Tone Curve PV2012 Red | 0, 0, 255, 255 |
| Look Parameters Version | 11.2.1 |
| Look Supports Amount | false |
| Look Supports Monochrome | false |
| Look Supports Output Referred | false |
| Luminance Adjustment Aqua | 0 |
| Luminance Adjustment Blue | 0 |
| Luminance Adjustment Green | 0 |
| Luminance Adjustment Magenta | 0 |
| Luminance Adjustment Orange | 0 |
| Luminance Adjustment Purple | 0 |
| Luminance Adjustment Red | 0 |
| Luminance Adjustment Yellow | 0 |
| Luminance Smoothing | 0 |
| Metering Mode | Multi-segment |
| Override Look Vignette | False |
| Paint Correction Active | true |
| Paint Correction Amount | 1.000000 |
| Paint Correction Brightness | 0.000000 |
| Paint Correction Clarity 2012 | 0.000000 |
| Paint Correction Contrast 2012 | 0.000000 |
| Paint Correction Correction Range Mask Color Amount | 0.500000 |
| Paint Correction Correction Range Mask Depth Feather | 0.500000 |
| Paint Correction Correction Range Mask Depth Max | 1.000000 |
| Paint Correction Correction Range Mask Depth Min | 0.000000 |
| Paint Correction Correction Range Mask Lum Feather | 0.500000 |
| Paint Correction Correction Range Mask Lum Max | 1.000000 |
| Paint Correction Correction Range Mask Lum Min | 0.000000 |
| Paint Correction Correction Range Mask Type | 0 |
| Paint Correction Correction Range Mask Version | +2 |
| Paint Correction Defringe | 0.000000 |
| Paint Correction Exposure 2012 | 0.000000 |
| Paint Correction Highlights 2012 | 0.000000 |
| Paint Correction Hue | 0.000000 |
| Paint Correction Local Blacks 2012 | 0.431869 |
| Paint Correction Local Dehaze | 0.000000 |
| Paint Correction Local Whites 2012 | 0.000000 |
| Paint Correction Luminance Noise | 0.000000 |
| Paint Correction Mask Center Weight | 0.042405 |
| Paint Correction Mask Flow | 0.800000 |
| Paint Correction Mask Radius | 0.019109 |
| Paint Correction Mask Value | 0.434345 |
| Paint Correction Mask What | Mask/Paint |
| Paint Correction Moire | 0.000000 |
| Paint Correction Saturation | 0.000000 |
| Paint Correction Shadows 2012 | 0.000000 |
| Paint Correction Sharpness | 0.000000 |
| Paint Correction Temperature | 0.000000 |
| Paint Correction Tint | 0.000000 |
| Paint Correction What | Correction |
| Parametric Darks | 0 |
| Parametric Highlight Split | 75 |
| Parametric Highlights | 0 |
| Parametric Lights | 0 |
| Parametric Midtone Split | 50 |
| Parametric Shadow Split | 25 |
| Parametric Shadows | 0 |
| Perspective Aspect | 0 |
| Perspective Horizontal | 0 |
| Perspective Rotate | 0.0 |
| Perspective Scale | 100 |
| Perspective Upright | 1 |
| Perspective Vertical | 0 |
| Perspective X | 0.00 |
| Perspective Y | 0.00 |
| Post Crop Vignette Amount | 0 |
| Process Version | 10.0 |
| Rating | 3 |
| Raw File Name | _8506884.NEF |
| Recommended Exposure Index | 64 |
| Red Hue | 0 |
| Red Saturation | 0 |
| Rights | Thore Siebrands |
| Saturation | Normal |
| Saturation Adjustment Aqua | 0 |
| Saturation Adjustment Blue | 0 |
| Saturation Adjustment Green | 0 |
| Saturation Adjustment Magenta | 0 |
| Saturation Adjustment Orange | 0 |
| Saturation Adjustment Purple | 0 |
| Saturation Adjustment Red | 0 |
| Saturation Adjustment Yellow | 0 |
| Scale Factor To 35 mm Equivalent | 1.0 |
| Scene Capture Type | Standard |
| Scene Type | Directly photographed |
| Sensing Method | One-chip color area |
| Sensitivity Type | Recommended Exposure Index |
| Shadow Tint | 0 |
| Shadows 2012 | +48 |
| Sharpen Detail | 25 |
| Sharpen Edge Masking | 0 |
| Sharpen Radius | +1.0 |
| Sharpness | Normal |
| Split Toning Balance | 0 |
| Split Toning Highlight Hue | 0 |
| Split Toning Highlight Saturation | 0 |
| Split Toning Shadow Hue | 0 |
| Split Toning Shadow Saturation | 0 |
| State | Schleswig-Holstein |
| Subject | Meer, Ostsee, Strand, Wasser, baltic sea, beach, ocean, water |
| Subject Distance Range | Unknown |
| Tint | +13 |
| Tone Curve | 0, 0, 255, 255 |
| Tone Curve Blue | 0, 0, 255, 255 |
| Tone Curve Green | 0, 0, 255, 255 |
| Tone Curve Name | Linear |
| Tone Curve Name 2012 | Linear |
| Tone Curve PV2012 | 0, 0, 255, 255 |
| Tone Curve PV2012 Blue | 0, 0, 255, 255 |
| Tone Curve PV2012 Green | 0, 0, 255, 255 |
| Tone Curve PV2012 Red | 0, 0, 255, 255 |
| Tone Curve Red | 0, 0, 255, 255 |
| Tone Map Strength | 0 |
| Version | 11.2.1 |
| Vibrance | 0 |
| Vignette Amount | -6 |
| Vignette Correction Already Applied | True |
| Vignette Midpoint | 49 |
| White Balance | Auto |
| Whites 2012 | 0 |
X