Shooting information for this photo
| Camera: | Leica Camera AG LEICA M10 |
| Exposure: | 0.25 sec. (1/4) |
| Aperture: | f/8.0 |
| Focal Length: | 50.0 mm (35 mm equivalent: 53.3 mm) |
| Flash: | No Flash |
| Exposure mode: | Manual |
| Max Aperture: | 1.4 |
| Resolution: | 240 x 240 dpi |
| Original Date: | 2018:12:16 17:25:20 |
| Created on: | 2018:12:16 17:25:20 |
| Modified on: | 2018:12:17 01:35:10 |
| Software: | Adobe Photoshop Lightroom Classic 8.1 (Macintosh) |
| Copyright: | Thore Siebrands |
| Already Applied | True |
| Approximate Focus Distance | 8.74 |
| Artist | Thore Siebrands |
| Auto Lateral CA | 1 |
| Blacks 2012 | -4 |
| Blue Hue | 0 |
| Blue Saturation | 0 |
| Body Serial Number | 5254826 |
| Camera Profile | Adobe Standard |
| Circle Of Confusion | 0.028 mm |
| Clarity 2012 | +47 |
| Color Noise Reduction | 25 |
| Color Noise Reduction Detail | 50 |
| Color Noise Reduction Smoothness | 50 |
| Color Space | sRGB |
| Color Temperature | 2549 |
| Contrast | Normal |
| Contrast 2012 | -32 |
| Convert To Grayscale | False |
| Creator | Thore Siebrands |
| Crop Angle | 0 |
| Crop Bottom | 0.987536 |
| Crop Constrain To Warp | 1 |
| Crop Left | 0.01246 |
| Crop Right | 0.94704 |
| Crop Top | 0.052956 |
| Custom Rendered | Normal |
| Defringe Green Amount | 0 |
| Defringe Green Hue Hi | 60 |
| Defringe Green Hue Lo | 40 |
| Defringe Purple Amount | 0 |
| Defringe Purple Hue Hi | 70 |
| Defringe Purple Hue Lo | 30 |
| Dehaze | +29 |
| Digital Zoom Ratio | 0 |
| Distortion Correction Already Applied | True |
| Exposure 2012 | +1.10 |
| Exposure Compensation | 0 |
| Exposure Mode | Manual |
| Field Of View | 37.3 deg |
| Flash Fired | False |
| Flash Function | False |
| Flash Mode | Unknown |
| Flash Red Eye Mode | False |
| Flash Return | No return detection |
| Format | image/jpeg |
| Grain Amount | 0 |
| Green Hue | 0 |
| Green Saturation | 0 |
| Has Crop | True |
| Has Settings | True |
| Highlights 2012 | -80 |
| Hue Adjustment Aqua | 0 |
| Hue Adjustment Blue | 0 |
| Hue Adjustment Green | 0 |
| Hue Adjustment Magenta | 0 |
| Hue Adjustment Orange | 0 |
| Hue Adjustment Purple | 0 |
| Hue Adjustment Red | 0 |
| Hue Adjustment Yellow | 0 |
| Hyperfocal Distance | 11.08 m |
| ISO | 250 |
| Image Size | 5585x3723 |
| Lateral Chromatic Aberration Correction Already Applied | True |
| Lens | Summilux-M 1:1.4/50 ASPH. |
| Lens Info | 50mm f/1.4 |
| Lens Make | Leica Camera AG |
| Lens Manual Distortion Amount | 0 |
| Lens Model | Summilux-M 1:1.4/50 ASPH. |
| Lens Profile Chromatic Aberration Scale | 100 |
| Lens Profile Distortion Scale | 100 |
| Lens Profile Enable | 1 |
| Lens Profile Filename | Leica Camera AG (Leica SUMMILUX-M 50 mm f1.4 ASPH.) - RAW.lcp |
| Lens Profile Name | Adobe (Leica SUMMILUX-M 50 mm f/1.4 ASPH.) |
| Lens Profile Setup | LensDefaults |
| Lens Profile Vignetting Scale | 100 |
| Lens Specification | 50, 50, 1.4, 1.4 |
| Light Source | Unknown |
| Light Value | 6.7 |
| Look Amount | 1.000000 |
| Look Group | Profiles |
| Look Name | Adobe Color |
| Look Parameters Camera Profile | Adobe Standard |
| Look Parameters Convert To Grayscale | False |
| Look Parameters Look Table | E1095149FDB39D7A057BAB208837E2 E1 |
| Look Parameters Process Version | 11.0 |
| Look Parameters Tone Curve PV2012 | 0, 0, 22, 16, 40, 35, 127, 127, 224, 230, 240, 246, 255, 255 |
| Look Parameters Tone Curve PV2012 Blue | 0, 0, 255, 255 |
| Look Parameters Tone Curve PV2012 Green | 0, 0, 255, 255 |
| Look Parameters Tone Curve PV2012 Red | 0, 0, 255, 255 |
| Look Parameters Version | 11.1 |
| Look Supports Amount | false |
| Look Supports Monochrome | false |
| Look Supports Output Referred | false |
| Luminance Adjustment Aqua | 0 |
| Luminance Adjustment Blue | 0 |
| Luminance Adjustment Green | 0 |
| Luminance Adjustment Magenta | 0 |
| Luminance Adjustment Orange | 0 |
| Luminance Adjustment Purple | 0 |
| Luminance Adjustment Red | 0 |
| Luminance Adjustment Yellow | 0 |
| Luminance Noise Reduction Contrast | 0 |
| Luminance Noise Reduction Detail | 50 |
| Luminance Smoothing | 5 |
| Metering Mode | Multi-spot |
| Override Look Vignette | False |
| Parametric Darks | 0 |
| Parametric Highlight Split | 75 |
| Parametric Highlights | 0 |
| Parametric Lights | 0 |
| Parametric Midtone Split | 50 |
| Parametric Shadow Split | 25 |
| Parametric Shadows | 0 |
| Perspective Aspect | 0 |
| Perspective Horizontal | 0 |
| Perspective Rotate | -1.0 |
| Perspective Scale | 100 |
| Perspective Upright | 0 |
| Perspective Vertical | 0 |
| Perspective X | 0.00 |
| Perspective Y | 0.00 |
| Photographic Sensitivity | 250 |
| Post Crop Vignette Amount | 0 |
| Process Version | 11.0 |
| Rating | 5 |
| Red Hue | 0 |
| Red Saturation | 0 |
| Rights | Thore Siebrands |
| Saturation | Normal |
| Saturation Adjustment Aqua | 0 |
| Saturation Adjustment Blue | 0 |
| Saturation Adjustment Green | 0 |
| Saturation Adjustment Magenta | 0 |
| Saturation Adjustment Orange | 0 |
| Saturation Adjustment Purple | 0 |
| Saturation Adjustment Red | 0 |
| Saturation Adjustment Yellow | 0 |
| Scale Factor To 35 mm Equivalent | 1.1 |
| Scene Capture Type | Standard |
| Scene Type | Directly photographed |
| Shadow Tint | 0 |
| Shadows 2012 | +48 |
| Sharpen Detail | 25 |
| Sharpen Edge Masking | 0 |
| Sharpen Radius | +1.0 |
| Sharpness | Normal |
| Split Toning Balance | 0 |
| Split Toning Highlight Hue | 0 |
| Split Toning Highlight Saturation | 0 |
| Split Toning Shadow Hue | 0 |
| Split Toning Shadow Saturation | 0 |
| Tint | +20 |
| Tone Curve | 0, 0, 255, 255 |
| Tone Curve Blue | 0, 0, 255, 255 |
| Tone Curve Green | 0, 0, 255, 255 |
| Tone Curve Name | Linear |
| Tone Curve Name 2012 | Linear |
| Tone Curve PV2012 | 0, 0, 255, 255 |
| Tone Curve PV2012 Blue | 0, 0, 255, 255 |
| Tone Curve PV2012 Green | 0, 0, 255, 255 |
| Tone Curve PV2012 Red | 0, 0, 255, 255 |
| Tone Curve Red | 0, 0, 255, 255 |
| Tone Map Strength | 0 |
| Version | 11.1 |
| Vibrance | +14 |
| Vignette Amount | 0 |
| White Balance | Auto |
| Whites 2012 | +4 |
X