Shooting information for this photo
Camera: | NIKON CORPORATION NIKON D200 |
Exposure: | 0.008 sec. (1/125) |
Aperture: | f/4.5 |
Focal Length: | 48.0 mm (35 mm equivalent: 72.0 mm) |
Flash: | Fired, Return detected |
Exposure mode: | Shutter speed priority AE |
Max Aperture: | 4.4 |
Resolution: | 240 x 240 dpi |
Dimension: | 1071 x 1600 pixels |
Original Date: | 2009:02:06 01:19:59.24 |
Digitized Date: | 2009:02:06 01:19:59.24+01:00 |
Created on: | 2009:02:06 01:19:59.24 |
Modified on: | 2009:02:21 00:43:40.24 |
Software: | Adobe Photoshop CS4 Macintosh |
Already Applied | True |
Artist | Thore Siebrands |
Blue Hue | 0 |
Blue Saturation | 0 |
Brightness | +71 |
CFA Pattern | [Green,Red][Blue,Green] |
Camera Profile | Adobe Standard |
Chromatic Aberration B | 0 |
Chromatic Aberration R | 0 |
Circle Of Confusion | 0.020 mm |
Clarity | +25 |
Color Mode | RGB |
Color Noise Reduction | 25 |
Color Space | Uncalibrated |
Color Temperature | 5500 |
Contrast | +19 |
Convert To Grayscale | False |
Creator | Thore Siebrands |
Custom Rendered | Normal |
Defringe | 0 |
Description | Christian Berkel, German actor; Opening of the 59th Berlin International Film Festival |
Digital Zoom Ratio | 1 |
Exposure | 0.00 |
Exposure Compensation | 0 |
Exposure Mode | Auto |
Field Of View | 28.1 deg |
Fill Light | 0 |
Flash Fired | True |
Flash Function | False |
Flash Mode | Unknown |
Flash Red Eye Mode | False |
Flash Return | Return detected |
Focal Length In 35mm Format | 72 mm |
Format | image/jpeg |
Gain Control | Low gain up |
Green Hue | 0 |
Green Saturation | 0 |
Has Crop | False |
Has Settings | True |
Hierarchical Subject | Kamera|D200, Kamera|AF-S 18-70mm 3.5-4.5 G IF-ED DX, Andere Stichwörter|59. Berlinale, Andere Stichwörter|59. Internationale Filmfestspiele Berlin, Andere Stichwörter|59th Berlin International Film Festival, Andere Stichwörter|Berlinale 2009, Andere Stichwörter|red carpet, Andere Stichwörter|roter Teppich |
Highlight Recovery | 21 |
Hue Adjustment Aqua | 0 |
Hue Adjustment Blue | 0 |
Hue Adjustment Green | 0 |
Hue Adjustment Magenta | 0 |
Hue Adjustment Orange | 0 |
Hue Adjustment Purple | 0 |
Hue Adjustment Red | 0 |
Hue Adjustment Yellow | 0 |
Hyperfocal Distance | 25.56 m |
ISO | 400 |
Image Number | 18849 |
Image Size | 1071x1600 |
Label | gelb |
Lens | 18.0-70.0 mm f/3.5-4.5 |
Lens Info | 18-70mm f/3.5-4.5 |
Light Source | Unknown |
Light Value | 9.3 |
Luminance Adjustment Aqua | 0 |
Luminance Adjustment Blue | 0 |
Luminance Adjustment Green | 0 |
Luminance Adjustment Magenta | 0 |
Luminance Adjustment Orange | 0 |
Luminance Adjustment Purple | 0 |
Luminance Adjustment Red | 0 |
Luminance Adjustment Yellow | 0 |
Luminance Smoothing | 63 |
Metering Mode | Center-weighted average |
Parametric Darks | 0 |
Parametric Highlight Split | 75 |
Parametric Highlights | 0 |
Parametric Lights | 0 |
Parametric Midtone Split | 50 |
Parametric Shadow Split | 25 |
Parametric Shadows | 0 |
Photometric Interpretation | RGB |
Post Crop Vignette Amount | 0 |
Rating | 0 |
Raw File Name | _08Z8385.NEF |
Red Hue | 0 |
Red Saturation | 0 |
Samples Per Pixel | 3 |
Saturation | 0 |
Saturation Adjustment Aqua | 0 |
Saturation Adjustment Blue | 0 |
Saturation Adjustment Green | 0 |
Saturation Adjustment Magenta | 0 |
Saturation Adjustment Orange | 0 |
Saturation Adjustment Purple | 0 |
Saturation Adjustment Red | 0 |
Saturation Adjustment Yellow | 0 |
Scale Factor To 35 mm Equivalent | 1.5 |
Scene Capture Type | Standard |
Scene Type | Directly photographed |
Sensing Method | One-chip color area |
Shadow Tint | 0 |
Shadows | 0 |
Sharpen Detail | 25 |
Sharpen Edge Masking | 0 |
Sharpen Radius | +1.0 |
Sharpness | 100 |
Split Toning Balance | 0 |
Split Toning Highlight Hue | 0 |
Split Toning Highlight Saturation | 0 |
Split Toning Shadow Hue | 0 |
Split Toning Shadow Saturation | 0 |
Subject | 59. Berlinale, 59. Internationale Filmfestspiele Berlin, 59th Berlin International Film Festival, AF-S 18-70mm 3.5-4.5 G IF-ED DX, Berlinale 2009, D200, red carpet, roter Teppich, Christian Berkel |
Subject Distance Range | Unknown |
Tint | 0 |
Tone Curve | 0, 0, 32, 22, 64, 56, 128, 128, 192, 196, 255, 255 |
Tone Curve Name | Medium Contrast |
User Comment | (C) Thore Siebrands |
Version | 5.2 |
Vibrance | 0 |
Vignette Amount | 0 |
White Balance | Flash |