Shooting information for this photo
| Camera: | NIKON CORPORATION NIKON D200 |
| Exposure: | 0.25 sec. (1/4) |
| Aperture: | f/3.5 |
| Focal Length: | 50.0 mm (35 mm equivalent: 75.0 mm) |
| Flash: | No Flash |
| Exposure mode: | Aperture-priority AE |
| Max Aperture: | 1.7 |
| Resolution: | 240 x 240 dpi |
| Dimension: | 2241 x 1500 pixels |
| Original Date: | 2008:01:11 17:05:10.24 |
| Digitized Date: | 2008:01:11 17:05:10.24+01:00 |
| Created on: | 2008:01:11 17:05:10.24 |
| Modified on: | 2008:10:19 15:01:40.24 |
| Software: | Adobe Photoshop CS3 Macintosh |
| Already Applied | True |
| Artist | Thore Siebrands |
| Blue Hue | 0 |
| Blue Saturation | 0 |
| Brightness | +64 |
| CFA Pattern | [Green,Red][Blue,Green] |
| Camera Profile | ACR 4.4 |
| Caption Writer | Thore Siebrands |
| Chromatic Aberration B | 0 |
| Chromatic Aberration R | 0 |
| Circle Of Confusion | 0.020 mm |
| Clarity | +19 |
| Color Mode | RGB |
| Color Noise Reduction | 25 |
| Color Space | Uncalibrated |
| Color Temperature | 5700 |
| Contrast | +64 |
| Convert To Grayscale | False |
| Country | Germany |
| Country Code | DE |
| Creator | Thore Siebrands |
| Custom Rendered | Normal |
| Defringe | 0 |
| Digital Zoom Ratio | 1 |
| Exposure | +0.10 |
| Exposure Compensation | 0 |
| Exposure Mode | Auto |
| Field Of View | 27.0 deg |
| Fill Light | 0 |
| Flash Fired | False |
| Flash Function | False |
| Flash Mode | Unknown |
| Flash Red Eye Mode | False |
| Flash Return | No return detection |
| Focal Length In 35mm Format | 75 mm |
| Format | image/jpeg |
| Gain Control | None |
| Green Hue | 0 |
| Green Saturation | 0 |
| Has Crop | False |
| Has Settings | True |
| Hierarchical Subject | Kamera|D200, Kamera|AF 50 mm/1.8D |
| Highlight Recovery | 25 |
| Hue Adjustment Aqua | 0 |
| Hue Adjustment Blue | 0 |
| Hue Adjustment Green | 0 |
| Hue Adjustment Magenta | 0 |
| Hue Adjustment Orange | 0 |
| Hue Adjustment Purple | 0 |
| Hue Adjustment Red | 0 |
| Hue Adjustment Yellow | 0 |
| Hyperfocal Distance | 35.66 m |
| ICC Profile Name | Adobe RGB (1998) |
| ISO | 200 |
| Image Number | 14038 |
| Image Size | 2241x1500 |
| Label | gelb |
| Lens | 50.0 mm f/1.8 |
| Lens Info | 50mm f/1.8 |
| Light Source | Unknown |
| Light Value | 4.6 |
| Location | Rehbenitzwinkel |
| Luminance Adjustment Aqua | 0 |
| Luminance Adjustment Blue | 0 |
| Luminance Adjustment Green | 0 |
| Luminance Adjustment Magenta | 0 |
| Luminance Adjustment Orange | 0 |
| Luminance Adjustment Purple | 0 |
| Luminance Adjustment Red | 0 |
| Luminance Adjustment Yellow | 0 |
| Luminance Smoothing | 0 |
| Metering Mode | Multi-segment |
| Parametric Darks | +26 |
| Parametric Highlight Split | 75 |
| Parametric Highlights | 0 |
| Parametric Lights | 0 |
| Parametric Midtone Split | 50 |
| Parametric Shadow Split | 25 |
| Parametric Shadows | +31 |
| Photometric Interpretation | RGB |
| Post Crop Vignette Amount | 0 |
| Raw File Name | _08Z3574.NEF |
| Red Hue | 0 |
| Red Saturation | 0 |
| Samples Per Pixel | 3 |
| Saturation | 0 |
| Saturation Adjustment Aqua | 0 |
| Saturation Adjustment Blue | 0 |
| Saturation Adjustment Green | 0 |
| Saturation Adjustment Magenta | 0 |
| Saturation Adjustment Orange | 0 |
| Saturation Adjustment Purple | 0 |
| Saturation Adjustment Red | 0 |
| Saturation Adjustment Yellow | 0 |
| Scale Factor To 35 mm Equivalent | 1.5 |
| Scene Capture Type | Standard |
| Scene Type | Directly photographed |
| Sensing Method | One-chip color area |
| Shadow Tint | 0 |
| Shadows | 5 |
| Sharpen Detail | 25 |
| Sharpen Edge Masking | 0 |
| Sharpen Radius | +1.2 |
| Sharpness | 93 |
| Split Toning Balance | 0 |
| Split Toning Highlight Hue | 0 |
| Split Toning Highlight Saturation | 0 |
| Split Toning Shadow Hue | 0 |
| Split Toning Shadow Saturation | 0 |
| State | Schleswig-Holstein |
| Subject | Abfall, AF 50 mm/1.8D, bottle, D200, Flasche, garbage, Küstennebel, litter, Müll, trash |
| Subject Distance Range | Unknown |
| Tint | +7 |
| Tone Curve | 0, 0, 32, 22, 64, 56, 128, 128, 192, 196, 255, 255 |
| Tone Curve Name | Medium Contrast |
| User Comment | (C) Thore Siebrands |
| Version | 4.6 |
| Vibrance | +16 |
| Vignette Amount | 0 |
| White Balance | Custom |
X