Shooting information for this photo
| Camera: | NIKON CORPORATION NIKON D700 |
| Exposure: | 0.005 sec. (1/200) |
| Aperture: | f/3.0 |
| Focal Length: | 105.0 mm (35 mm equivalent: 105.0 mm) |
| Flash: | No Flash |
| Exposure mode: | Aperture-priority AE |
| Max Aperture: | 2.9 |
| Resolution: | 240 x 240 dpi |
| Dimension: | 3950 x 2629 pixels |
| Original Date: | 2008:08:02 20:46:06.97 |
| Digitized Date: | 2008:08:02 20:46:06.97+02:00 |
| Created on: | 2008:08:02 20:46:06.97 |
| Modified on: | 2008:08:04 20:53:18.97 |
| Software: | Adobe Photoshop CS3 Windows |
| Copyright: | Thore Siebrands |
| Already Applied | True |
| Artist | Thore Siebrands |
| Blue Hue | 0 |
| Blue Saturation | 0 |
| Brightness | +51 |
| CFA Pattern | [Red,Green][Green,Blue] |
| Camera Profile | Beta |
| Caption Writer | Thore Siebrands |
| Chromatic Aberration B | 0 |
| Chromatic Aberration R | 0 |
| Circle Of Confusion | 0.030 mm |
| Clarity | +24 |
| Color Mode | RGB |
| Color Noise Reduction | 25 |
| Color Space | Uncalibrated |
| Color Temperature | 6200 |
| Contrast | +24 |
| Convert To Grayscale | False |
| Country | Germany |
| Country Code | DE |
| Creator | Thore Siebrands |
| Custom Rendered | Normal |
| Defringe | 0 |
| Digital Zoom Ratio | 1 |
| Exposure | -0.15 |
| Exposure Compensation | 0 |
| Exposure Mode | Auto |
| Field Of View | 19.5 deg |
| Fill Light | 0 |
| Flash Fired | False |
| Flash Function | False |
| Flash Mode | Unknown |
| Flash Red Eye Mode | False |
| Flash Return | No return detection |
| Focal Length In 35mm Format | 105 mm |
| Format | image/jpeg |
| Gain Control | Low gain up |
| Green Hue | 0 |
| Green Saturation | 0 |
| Has Crop | False |
| Has Settings | True |
| Highlight Recovery | 0 |
| Hue Adjustment Aqua | 0 |
| Hue Adjustment Blue | 0 |
| Hue Adjustment Green | 0 |
| Hue Adjustment Magenta | 0 |
| Hue Adjustment Orange | 0 |
| Hue Adjustment Purple | 0 |
| Hue Adjustment Red | 0 |
| Hue Adjustment Yellow | 0 |
| Hyperfocal Distance | 122.31 m |
| ICC Profile Name | Adobe RGB (1998) |
| ISO | 800 |
| Image Number | 120 |
| Image Size | 3950x2629 |
| Label | gelb |
| Lens | 105.0 mm f/2.8 |
| Lens Info | 105mm f/2.8 |
| Light Source | Unknown |
| Light Value | 7.8 |
| Location | Eckernförder Straße |
| Luminance Adjustment Aqua | 0 |
| Luminance Adjustment Blue | 0 |
| Luminance Adjustment Green | 0 |
| Luminance Adjustment Magenta | 0 |
| Luminance Adjustment Orange | 0 |
| Luminance Adjustment Purple | 0 |
| Luminance Adjustment Red | 0 |
| Luminance Adjustment Yellow | 0 |
| Luminance Smoothing | 0 |
| Marked | True |
| Metering Mode | Multi-segment |
| Parametric Darks | +13 |
| Parametric Highlight Split | 75 |
| Parametric Highlights | +20 |
| Parametric Lights | -13 |
| Parametric Midtone Split | 50 |
| Parametric Shadow Split | 25 |
| Parametric Shadows | +53 |
| Photometric Interpretation | RGB |
| Post Crop Vignette Amount | 0 |
| Rating | 0 |
| Raw File Name | DSC_0076.NEF |
| Red Hue | 0 |
| Red Saturation | 0 |
| Rights | Thore Siebrands |
| Samples Per Pixel | 3 |
| Saturation | 0 |
| Saturation Adjustment Aqua | 0 |
| Saturation Adjustment Blue | 0 |
| Saturation Adjustment Green | 0 |
| Saturation Adjustment Magenta | 0 |
| Saturation Adjustment Orange | 0 |
| Saturation Adjustment Purple | 0 |
| Saturation Adjustment Red | 0 |
| Saturation Adjustment Yellow | 0 |
| Scale Factor To 35 mm Equivalent | 1.0 |
| Scene Capture Type | Standard |
| Scene Type | Directly photographed |
| Sensing Method | One-chip color area |
| Shadow Tint | 0 |
| Shadows | 13 |
| Sharpen Detail | 25 |
| Sharpen Edge Masking | 0 |
| Sharpen Radius | +1.0 |
| Sharpness | 85 |
| Sidecar For Extension | NEF |
| Split Toning Balance | 0 |
| Split Toning Highlight Hue | 0 |
| Split Toning Highlight Saturation | 0 |
| Split Toning Shadow Hue | 0 |
| Split Toning Shadow Saturation | 0 |
| State | Schleswig-Holstein |
| Subject | There Used To Be Something, Da war mal was" |
| Subject Distance Range | Unknown |
| Tint | +5 |
| Tone Curve | 0, 0, 32, 22, 64, 56, 128, 128, 192, 196, 255, 255 |
| Tone Curve Name | Medium Contrast |
| Version | 4.5 |
| Vibrance | 0 |
| Vignette Amount | +27 |
| Vignette Midpoint | 50 |
| White Balance | As Shot |
X