Shooting information for this photo
| Camera: | NIKON CORPORATION NIKON D700 |
| Exposure: | 0.00625 sec. (1/160) |
| Aperture: | f/5.0 |
| Focal Length: | 110.0 mm (35 mm equivalent: 110.0 mm) |
| Flash: | On, Return detected |
| Exposure mode: | Manual |
| Max Aperture: | 2.8 |
| Resolution: | 240 x 240 dpi |
| Original Date: | 2013:02:11 19:26:00.61 |
| Created on: | 2013:02:11 19:26:00.61 |
| Modified on: | 2013:02:17 01:39:27 |
| Software: | Adobe Photoshop Camera Raw 6.7 (Macintosh) |
| Copyright: | Thore Siebrands |
| Already Applied | True |
| Approximate Focus Distance | 2.24 |
| Artist | Thore Siebrands |
| Auto Lateral CA | 0 |
| Blacks 2012 | 0 |
| Blue Hue | 0 |
| Blue Saturation | 0 |
| Brightness | +50 |
| CFA Pattern | [Red,Green][Green,Blue] |
| Camera Profile | Adobe Standard |
| Circle Of Confusion | 0.030 mm |
| Clarity | +16 |
| Clarity 2012 | 0 |
| Color Noise Reduction | 25 |
| Color Noise Reduction Detail | 50 |
| Color Space | sRGB |
| Color Temperature | 5250 |
| Contrast | Normal |
| Contrast 2012 | 0 |
| Convert To Grayscale | False |
| Creator | Thore Siebrands |
| Crop Angle | 2.62526 |
| Crop Bottom | 1 |
| Crop Constrain To Warp | 1 |
| Crop Height | 3 |
| Crop Left | 0.047328 |
| Crop Right | 0.952672 |
| Crop Top | 0 |
| Crop Unit | Unknown (3) |
| Crop Width | 2 |
| Custom Rendered | Normal |
| Defringe | 0 |
| Depth Of Field | 0.12 m (2.18 - 2.30) |
| Description | Danish actor Mikkel Boe Følsgaard after the European Shooting Stars Award Ceremony |
| Digital Zoom Ratio | 1 |
| Exposure | 0.00 |
| Exposure 2012 | 0.00 |
| Exposure Compensation | 0 |
| Exposure Mode | Manual |
| Field Of View | 18.6 deg |
| Fill Light | 45 |
| Focal Length In 35mm Format | 110 mm |
| Format | image/jpeg |
| Gain Control | Low gain up |
| Grain Amount | 0 |
| Green Hue | 0 |
| Green Saturation | 0 |
| Has Crop | True |
| Has Settings | True |
| Hierarchical Subject | Berlinale|Shooting Stars 2013, Berlinale|Berlinale 2013, Berlinale|63. Berlinale, Berlinale|63. Internationale Filmfestspiele Berlin, Berlinale|63d Berlin International Film Festival, Berlinale|actor, Berlinale|actor|Schauspieler |
| Highlight Recovery | 0 |
| Highlights 2012 | 0 |
| Hue Adjustment Aqua | 0 |
| Hue Adjustment Blue | 0 |
| Hue Adjustment Green | 0 |
| Hue Adjustment Magenta | 0 |
| Hue Adjustment Orange | 0 |
| Hue Adjustment Purple | 0 |
| Hue Adjustment Red | 0 |
| Hue Adjustment Yellow | 0 |
| Hyperfocal Distance | 80.54 m |
| ISO | 400 |
| Image Description | Danish actor Mikkel Boe Følsgaard after the European Shooting Stars Award Ceremony |
| Image Number | 4892 |
| Image Size | 3979x2653 |
| Label | grün |
| Lens | 70.0-200.0 mm f/2.8 |
| Lens ID | AF-S VR Zoom-Nikkor 70-200mm f/2.8G IF-ED |
| Lens Info | 70-200mm f/2.8 |
| Lens Manual Distortion Amount | 0 |
| Lens Model | 70.0-200.0 mm f/2.8 |
| Lens Profile Enable | 0 |
| Lens Profile Setup | LensDefaults |
| Light Source | Unknown |
| Light Value | 10.0 |
| Luminance Adjustment Aqua | 0 |
| Luminance Adjustment Blue | 0 |
| Luminance Adjustment Green | 0 |
| Luminance Adjustment Magenta | 0 |
| Luminance Adjustment Orange | 0 |
| Luminance Adjustment Purple | 0 |
| Luminance Adjustment Red | 0 |
| Luminance Adjustment Yellow | 0 |
| Luminance Smoothing | 0 |
| Metering Mode | Center-weighted average |
| Parametric Darks | 0 |
| Parametric Highlight Split | 75 |
| Parametric Highlights | 0 |
| Parametric Lights | 0 |
| Parametric Midtone Split | 50 |
| Parametric Shadow Split | 25 |
| Parametric Shadows | 0 |
| Perspective Horizontal | 0 |
| Perspective Rotate | 0.0 |
| Perspective Scale | 100 |
| Perspective Vertical | 0 |
| Post Crop Vignette Amount | 0 |
| Process Version | 5.7 |
| Rating | 5 |
| Raw File Name | D7N_4843.NEF |
| Red Hue | 0 |
| Red Saturation | 0 |
| Rights | Thore Siebrands |
| Saturation | Normal |
| Saturation Adjustment Aqua | 0 |
| Saturation Adjustment Blue | 0 |
| Saturation Adjustment Green | 0 |
| Saturation Adjustment Magenta | 0 |
| Saturation Adjustment Orange | 0 |
| Saturation Adjustment Purple | 0 |
| Saturation Adjustment Red | 0 |
| Saturation Adjustment Yellow | 0 |
| Scale Factor To 35 mm Equivalent | 1.0 |
| Scene Capture Type | Standard |
| Scene Type | Directly photographed |
| Sensing Method | One-chip color area |
| Shadow Tint | 0 |
| Shadows | 5 |
| Shadows 2012 | 0 |
| Sharpen Detail | 25 |
| Sharpen Edge Masking | 0 |
| Sharpen Radius | +1.0 |
| Sharpness | Normal |
| Split Toning Balance | 0 |
| Split Toning Highlight Hue | 0 |
| Split Toning Highlight Saturation | 0 |
| Split Toning Shadow Hue | 0 |
| Split Toning Shadow Saturation | 0 |
| Subject | 63. Berlinale, 63. Internationale Filmfestspiele Berlin, 63d Berlin International Film Festival, actor, Berlinale 2013, Mikkel Boe Følsgaard, Schauspieler, Shooting Stars 2013 |
| Subject Distance | 2.24 m |
| Subject Distance Range | Unknown |
| Tint | -15 |
| Title | Mikkel Boe Følsgaard |
| Tone Curve | 0, 0, 32, 22, 64, 56, 128, 128, 192, 196, 255, 255 |
| Tone Curve Blue | 0, 0, 255, 255 |
| Tone Curve Green | 0, 0, 255, 255 |
| Tone Curve Name | Medium Contrast |
| Tone Curve Name 2012 | Linear |
| Tone Curve PV2012 | 0, 0, 255, 255 |
| Tone Curve PV2012 Blue | 0, 0, 255, 255 |
| Tone Curve PV2012 Green | 0, 0, 255, 255 |
| Tone Curve PV2012 Red | 0, 0, 255, 255 |
| Tone Curve Red | 0, 0, 255, 255 |
| Version | 6.7 |
| Vibrance | 0 |
| Vignette Amount | 0 |
| White Balance | Auto |
| Whites 2012 | 0 |
X