Shooting information for this photo
| Camera: | NIKON CORPORATION NIKON D700 |
| Exposure: | 0.00013 sec. (1/8000) |
| Aperture: | f/2.0 |
| Focal Length: | 135.0 mm (35 mm equivalent: 135.0 mm) |
| Flash: | No Flash |
| Exposure mode: | Aperture-priority AE |
| Max Aperture: | 2.0 |
| Resolution: | 240 x 240 dpi |
| Original Date: | 2012:05:12 14:03:35.16 |
| Created on: | 2012:05:12 14:03:35.16 |
| Modified on: | 2012:05:13 18:00:24 |
| Software: | Adobe Photoshop Camera Raw 6.7 (Macintosh) |
| Copyright: | Thore Siebrands |
| Already Applied | True |
| Approximate Focus Distance | 7.08 |
| Artist | Thore Siebrands |
| Auto Lateral CA | 0 |
| Blacks 2012 | 0 |
| Blue Hue | 0 |
| Blue Saturation | 0 |
| Brightness | 0 |
| CFA Pattern | [Red,Green][Green,Blue] |
| Camera Profile | Adobe Standard |
| Circle Of Confusion | 0.030 mm |
| Clarity | +53 |
| Clarity 2012 | 0 |
| Color Noise Reduction | 25 |
| Color Noise Reduction Detail | 50 |
| Color Space | sRGB |
| Color Temperature | 5500 |
| Contrast | +91 |
| Contrast 2012 | 0 |
| Convert To Grayscale | False |
| Country | Germany |
| Country Code | DE |
| Creator | Thore Siebrands |
| Crop Angle | 0.196218 |
| Crop Bottom | 1 |
| Crop Constrain To Warp | 1 |
| Crop Left | 0.003694 |
| Crop Right | 0.996306 |
| Crop Top | 0 |
| Custom Rendered | Normal |
| Defringe | 0 |
| Depth Of Field | 0.32 m (6.92 - 7.25) |
| Digital Zoom Ratio | 1 |
| Exposure | -0.05 |
| Exposure 2012 | 0.00 |
| Exposure Compensation | 0 |
| Exposure Mode | Auto |
| Field Of View | 15.2 deg |
| Fill Light | 0 |
| Focal Length In 35mm Format | 135 mm |
| Format | image/jpeg |
| Gain Control | None |
| Grain Amount | 0 |
| Green Hue | 0 |
| Green Saturation | 0 |
| Has Crop | True |
| Has Settings | True |
| Hierarchical Subject | Kamera|D700, Kamera|AF DC 135 mm 1:2D, Personen|.zack!, Personen|Joachim Liedtke |
| Highlight Recovery | 45 |
| Highlights 2012 | 0 |
| Hue Adjustment Aqua | 0 |
| Hue Adjustment Blue | 0 |
| Hue Adjustment Green | 0 |
| Hue Adjustment Magenta | 0 |
| Hue Adjustment Orange | 0 |
| Hue Adjustment Purple | 0 |
| Hue Adjustment Red | 0 |
| Hue Adjustment Yellow | 0 |
| Hyperfocal Distance | 303.28 m |
| ISO | 200 |
| Image Number | 33914 |
| Image Size | 4234x2817 |
| Label | gelb |
| Lens | 135.0 mm f/2.0 |
| Lens ID | AF DC-Nikkor 135mm f/2D |
| Lens Info | 135mm f/2 |
| Lens Manual Distortion Amount | 0 |
| Lens Model | 135.0 mm f/2.0 |
| Lens Profile Chromatic Aberration Scale | 100 |
| Lens Profile Distortion Scale | 100 |
| Lens Profile Enable | 1 |
| Lens Profile Filename | NIKON D3X (Nikon AF DC-NIKKOR 135mm f2D) - RAW.lcp |
| Lens Profile Name | Adobe (Nikon AF DC-NIKKOR 135mm f/2D) |
| Lens Profile Setup | LensDefaults |
| Lens Profile Vignetting Scale | 100 |
| Light Source | Unknown |
| Light Value | 14.0 |
| Location | Hindenburgufer |
| Luminance Adjustment Aqua | 0 |
| Luminance Adjustment Blue | 0 |
| Luminance Adjustment Green | 0 |
| Luminance Adjustment Magenta | 0 |
| Luminance Adjustment Orange | 0 |
| Luminance Adjustment Purple | 0 |
| Luminance Adjustment Red | 0 |
| Luminance Adjustment Yellow | 0 |
| Luminance Smoothing | 0 |
| Metering Mode | Multi-segment |
| Parametric Darks | 0 |
| Parametric Highlight Split | 75 |
| Parametric Highlights | 0 |
| Parametric Lights | 0 |
| Parametric Midtone Split | 50 |
| Parametric Shadow Split | 25 |
| Parametric Shadows | +27 |
| Perspective Horizontal | 0 |
| Perspective Rotate | 0.0 |
| Perspective Scale | 100 |
| Perspective Vertical | 0 |
| Post Crop Vignette Amount | 0 |
| Process Version | 5.7 |
| Rating | 5 |
| Raw File Name | D7H_2433.NEF |
| Red Hue | 0 |
| Red Saturation | 0 |
| Rights | Thore Siebrands |
| Saturation | 0 |
| Saturation Adjustment Aqua | 0 |
| Saturation Adjustment Blue | 0 |
| Saturation Adjustment Green | 0 |
| Saturation Adjustment Magenta | 0 |
| Saturation Adjustment Orange | 0 |
| Saturation Adjustment Purple | 0 |
| Saturation Adjustment Red | 0 |
| Saturation Adjustment Yellow | 0 |
| Scale Factor To 35 mm Equivalent | 1.0 |
| Scene Capture Type | Standard |
| Scene Type | Directly photographed |
| Sensing Method | One-chip color area |
| Shadow Tint | 0 |
| Shadows | 25 |
| Shadows 2012 | 0 |
| Sharpen Detail | 25 |
| Sharpen Edge Masking | 0 |
| Sharpen Radius | +1.0 |
| Sharpness | 76 |
| Split Toning Balance | 0 |
| Split Toning Highlight Hue | 0 |
| Split Toning Highlight Saturation | 0 |
| Split Toning Shadow Hue | 0 |
| Split Toning Shadow Saturation | 0 |
| State | Schleswig-Holstein |
| Subject | .zack!, AF DC 135 mm 1:2D, D700, Joachim Liedtke |
| Subject Distance | 7.08 m |
| Subject Distance Range | Unknown |
| Tint | -9 |
| Tone Curve | 0, 0, 32, 22, 64, 56, 128, 128, 192, 196, 255, 255 |
| Tone Curve Blue | 0, 0, 255, 255 |
| Tone Curve Green | 0, 0, 255, 255 |
| Tone Curve Name | Medium Contrast |
| Tone Curve Name 2012 | Linear |
| Tone Curve PV2012 | 0, 0, 255, 255 |
| Tone Curve PV2012 Blue | 0, 0, 255, 255 |
| Tone Curve PV2012 Green | 0, 0, 255, 255 |
| Tone Curve PV2012 Red | 0, 0, 255, 255 |
| Tone Curve Red | 0, 0, 255, 255 |
| Version | 6.7 |
| Vibrance | +37 |
| Vignette Amount | 0 |
| White Balance | Custom |
| Whites 2012 | 0 |
X