Shooting information for this photo
| Camera: | NIKON CORPORATION NIKON D200 |
| Exposure: | 0.2 sec. (1/5) |
| Aperture: | f/4.5 |
| Focal Length: | 12.0 mm (35 mm equivalent: 18.0 mm) |
| Flash: | No Flash |
| Exposure mode: | Aperture-priority AE |
| Max Aperture: | 4.0 |
| Resolution: | 240 x 240 dpi |
| Dimension: | 3803 x 2546 pixels |
| Original Date: | 2007:08:30 15:23:18.24 |
| Digitized Date: | 2007:08:30 15:23:18.24+02:00 |
| Created on: | 2007:08:30 15:23:18.24 |
| Modified on: | 2007:11:15 21:42:01.24 |
| Software: | Adobe Photoshop CS3 Windows |
| Already Applied | True |
| Artist | Thore Siebrands |
| Blue Hue | 0 |
| Blue Saturation | 0 |
| Brightness | +58 |
| CFA Pattern | [Green,Red][Blue,Green] |
| Camera Profile | ACR 3.3 |
| Caption Writer | Thore Siebrands |
| Chromatic Aberration B | 0 |
| Chromatic Aberration R | 0 |
| Circle Of Confusion | 0.020 mm |
| Clarity | 0 |
| Color Mode | RGB |
| Color Noise Reduction | 25 |
| Color Space | Uncalibrated |
| Color Temperature | 3150 |
| Contrast | +48 |
| Convert To Grayscale | False |
| Country | Germany |
| Country Code | DE |
| Creator | Thore Siebrands |
| Custom Rendered | Normal |
| Defringe | 0 |
| Description | Haus Olesen, Dr. Carl-Haeberlin-Friesen-Museum in Wyk auf Föhr |
| Digital Zoom Ratio | 1 |
| Exposure | -0.25 |
| Exposure Compensation | 0 |
| Exposure Mode | Auto |
| Field Of View | 90.0 deg |
| Fill Light | 13 |
| Flash Fired | False |
| Flash Function | False |
| Flash Mode | Unknown |
| Flash Red Eye Mode | False |
| Flash Return | No return detection |
| Focal Length In 35mm Format | 18 mm |
| Format | image/jpeg |
| Gain Control | Low gain up |
| Green Hue | 0 |
| Green Saturation | 0 |
| Has Crop | False |
| Has Settings | True |
| Highlight Recovery | 0 |
| Hue Adjustment Aqua | 0 |
| Hue Adjustment Blue | 0 |
| Hue Adjustment Green | 0 |
| Hue Adjustment Magenta | 0 |
| Hue Adjustment Orange | 0 |
| Hue Adjustment Purple | 0 |
| Hue Adjustment Red | 0 |
| Hue Adjustment Yellow | 0 |
| Hyperfocal Distance | 1.60 m |
| ICC Profile Name | Adobe RGB (1998) |
| ISO | 400 |
| Image Description | Haus Olesen, Dr. Carl-Haeberlin-Friesen-Museum in Wyk auf Föhr |
| Image Number | 12369 |
| Image Size | 3803x2546 |
| Label | gelb |
| Lens | 12.0-24.0 mm f/4.0 |
| Lens Info | 12-24mm f/4 |
| Light Source | Unknown |
| Light Value | 4.7 |
| Location | Dr. Carl-Haeberlin-Friesen-Museum |
| Luminance Adjustment Aqua | 0 |
| Luminance Adjustment Blue | 0 |
| Luminance Adjustment Green | 0 |
| Luminance Adjustment Magenta | 0 |
| Luminance Adjustment Orange | 0 |
| Luminance Adjustment Purple | 0 |
| Luminance Adjustment Red | 0 |
| Luminance Adjustment Yellow | 0 |
| Luminance Smoothing | 0 |
| Marked | True |
| Metering Mode | Multi-segment |
| Parametric Darks | 0 |
| Parametric Highlight Split | 75 |
| Parametric Highlights | 0 |
| Parametric Lights | 0 |
| Parametric Midtone Split | 50 |
| Parametric Shadow Split | 25 |
| Parametric Shadows | 0 |
| Photometric Interpretation | RGB |
| Rating | 5 |
| Raw File Name | _07Z1911.NEF |
| Red Hue | 0 |
| Red Saturation | 0 |
| Samples Per Pixel | 3 |
| Saturation | 0 |
| Saturation Adjustment Aqua | 0 |
| Saturation Adjustment Blue | 0 |
| Saturation Adjustment Green | 0 |
| Saturation Adjustment Magenta | 0 |
| Saturation Adjustment Orange | 0 |
| Saturation Adjustment Purple | 0 |
| Saturation Adjustment Red | 0 |
| Saturation Adjustment Yellow | 0 |
| Scale Factor To 35 mm Equivalent | 1.5 |
| Scene Capture Type | Standard |
| Scene Type | Directly photographed |
| Sensing Method | One-chip color area |
| Shadow Tint | 0 |
| Shadows | 2 |
| Sharpen Detail | 25 |
| Sharpen Edge Masking | 0 |
| Sharpen Radius | +1.4 |
| Sharpness | 89 |
| Sidecar For Extension | NEF |
| Split Toning Balance | 0 |
| Split Toning Highlight Hue | 0 |
| Split Toning Highlight Saturation | 0 |
| Split Toning Shadow Hue | 0 |
| Split Toning Shadow Saturation | 0 |
| State | Schleswig-Holstein |
| Subject | Urlaub, holiday, Ferien, Nordfriesland, noth friesia, Föhr, foehr, Friesland, Nordsee, northsea, Insel, island, Dr. Carl-Haeberlin-Friesen-Museum, Haus Olesen |
| Subject Distance Range | Unknown |
| Tint | -5 |
| Tone Curve | 0, 0, 32, 22, 64, 56, 128, 128, 192, 196, 255, 255 |
| Tone Curve Name | Medium Contrast |
| User Comment | (C) Thore Siebrands |
| Version | 4.2 |
| Vibrance | 0 |
| Vignette Amount | 0 |
| White Balance | Custom |
X