Shooting information for this photo
Camera: | NIKON CORPORATION NIKON D700 |
Exposure: | 0.005 sec. (1/200) |
Aperture: | f/5.6 |
Focal Length: | 130.0 mm (35 mm equivalent: 130.0 mm) |
Flash: | On, Return detected |
Exposure mode: | Manual |
Max Aperture: | 2.8 |
Resolution: | 240 x 240 dpi |
Original Date: | 2012:02:09 23:57:31 |
Created on: | 2012:02:09 23:57:31 |
Modified on: | 2012:02:15 00:17:12 |
Software: | Adobe Photoshop Camera Raw 6.6 (Macintosh) |
Copyright: | Thore Siebrands |
Already Applied | True |
Approximate Focus Distance | 3.98 |
Artist | Thore Siebrands |
Blue Hue | 0 |
Blue Saturation | 0 |
Brightness | +51 |
CFA Pattern | [Red,Green][Green,Blue] |
Camera Profile | Adobe Standard |
Chromatic Aberration B | 0 |
Chromatic Aberration R | 0 |
Circle Of Confusion | 0.030 mm |
Clarity | +25 |
Color Noise Reduction | 25 |
Color Noise Reduction Detail | 50 |
Color Space | sRGB |
Color Temperature | 5200 |
Contrast | +29 |
Convert To Grayscale | False |
Country | Germany |
Country Code | DE |
Creator | Thore Siebrands |
Crop Angle | 0 |
Crop Bottom | 1 |
Crop Constrain To Warp | 1 |
Crop Left | 0 |
Crop Right | 0.780764 |
Crop Top | 0.219236 |
Custom Rendered | Normal |
Defringe | 0 |
Depth Of Field | 0.31 m (3.83 - 4.14) |
Description | Opening of the 62nd Berlin International Film Festival |
Digital Zoom Ratio | 1 |
Exposure | -0.60 |
Exposure Compensation | 0 |
Exposure Mode | Manual |
Field Of View | 15.8 deg |
Fill Light | 34 |
Focal Length In 35mm Format | 130 mm |
Format | image/jpeg |
Gain Control | High gain up |
Grain Amount | 0 |
Green Hue | 0 |
Green Saturation | 0 |
Has Crop | True |
Has Settings | True |
Hierarchical Subject | Berlinale|62. Berlinale, Berlinale|62. Internationale Filmfestspiele Berlin, Berlinale|roter Teppich, Berlinale|roter Teppich|red carpet, Berlinale|Berlinale 2012, Berlinale|Matthew Modine, Berlinale|actor, Berlinale|actor|Schauspieler, Kamera|AF-S VR 70-200 mm/2.8G IF-ED, Kamera|D700, Berlinale|62nd Berlin International Film Festival |
Highlight Recovery | 22 |
Hue Adjustment Aqua | 0 |
Hue Adjustment Blue | 0 |
Hue Adjustment Green | 0 |
Hue Adjustment Magenta | 0 |
Hue Adjustment Orange | 0 |
Hue Adjustment Purple | 0 |
Hue Adjustment Red | 0 |
Hue Adjustment Yellow | 0 |
Hyperfocal Distance | 100.44 m |
ISO | 900 |
Image Description | Opening of the 62nd Berlin International Film Festival |
Image Number | 33251 |
Image Size | 1280x852 |
Label | gelb |
Lens | 70.0-200.0 mm f/2.8 |
Lens ID | AF-S VR Zoom-Nikkor 70-200mm f/2.8G IF-ED |
Lens Info | 70-200mm f/2.8 |
Lens Manual Distortion Amount | 0 |
Lens Model | 70.0-200.0 mm f/2.8 |
Lens Profile Chromatic Aberration Scale | 100 |
Lens Profile Distortion Scale | 100 |
Lens Profile Enable | 1 |
Lens Profile Filename | NIKON D3X (Nikon FX 70-200mm f2.8 G IF ED) - RAW.lcp |
Lens Profile Name | Adobe (Nikon AF-S VR Zoom-Nikkor 70-200mm f/2.8G IF-ED) |
Lens Profile Setup | LensDefaults |
Lens Profile Vignetting Scale | 100 |
Light Source | Unknown |
Light Value | 9.4 |
Location | Berlinale Palast, Marlene-Dietrich-Platz |
Luminance Adjustment Aqua | 0 |
Luminance Adjustment Blue | 0 |
Luminance Adjustment Green | 0 |
Luminance Adjustment Magenta | 0 |
Luminance Adjustment Orange | 0 |
Luminance Adjustment Purple | 0 |
Luminance Adjustment Red | 0 |
Luminance Adjustment Yellow | 0 |
Luminance Noise Reduction Contrast | 0 |
Luminance Noise Reduction Detail | 50 |
Luminance Smoothing | 11 |
Metering Mode | Multi-segment |
Parametric Darks | 0 |
Parametric Highlight Split | 75 |
Parametric Highlights | 0 |
Parametric Lights | 0 |
Parametric Midtone Split | 50 |
Parametric Shadow Split | 25 |
Parametric Shadows | 0 |
Perspective Horizontal | 0 |
Perspective Rotate | 0.0 |
Perspective Scale | 100 |
Perspective Vertical | 0 |
Post Crop Vignette Amount | 0 |
Process Version | 5.7 |
Rating | 5 |
Raw File Name | D7H_1802.NEF |
Red Hue | 0 |
Red Saturation | 0 |
Related Image Height | 852 |
Related Image Width | 1280 |
Rights | Thore Siebrands |
Saturation | 0 |
Saturation Adjustment Aqua | 0 |
Saturation Adjustment Blue | 0 |
Saturation Adjustment Green | 0 |
Saturation Adjustment Magenta | 0 |
Saturation Adjustment Orange | 0 |
Saturation Adjustment Purple | 0 |
Saturation Adjustment Red | 0 |
Saturation Adjustment Yellow | 0 |
Scale Factor To 35 mm Equivalent | 1.0 |
Scene Capture Type | Standard |
Scene Type | Directly photographed |
Sensing Method | One-chip color area |
Shadow Tint | 0 |
Shadows | 5 |
Sharpen Detail | 25 |
Sharpen Edge Masking | 0 |
Sharpen Radius | +1.0 |
Sharpness | 68 |
Split Toning Balance | 0 |
Split Toning Highlight Hue | 0 |
Split Toning Highlight Saturation | 0 |
Split Toning Shadow Hue | 0 |
Split Toning Shadow Saturation | 0 |
State | Berlin |
Subject | 62. Berlinale, 62. Internationale Filmfestspiele Berlin, 62nd Berlin International Film Festival, actor, AF-S VR 70-200 mm/2.8G IF-ED, Berlinale 2012, D700, Matthew Modine, red carpet, roter Teppich, Schauspieler |
Subject Distance | 3.98 m |
Subject Distance Range | Unknown |
Tint | -13 |
Title | Matthew Modine |
Tone Curve | 0, 0, 32, 22, 64, 56, 128, 128, 192, 196, 255, 255 |
Tone Curve Name | Medium Contrast |
Version | 6.6 |
Vibrance | +10 |
Vignette Amount | 0 |
White Balance | Custom |