Shooting information for this photo
Camera: | NIKON CORPORATION NIKON D200 |
Exposure: | 0.00625 sec. (1/160) |
Aperture: | f/2.8 |
Focal Length: | 105.0 mm (35 mm equivalent: 157.0 mm) |
Flash: | No Flash |
Exposure mode: | Aperture-priority AE |
Max Aperture: | 2.8 |
Resolution: | 240 x 240 dpi |
Dimension: | 2592 x 3872 pixels |
Original Date: | 2007:12:09 15:57:36.73 |
Digitized Date: | 2007:12:09 15:57:36.73+01:00 |
Created on: | 2007:12:09 15:57:36.73 |
Modified on: | 2007:12:30 00:41:03.73 |
Software: | Adobe Photoshop CS3 Windows |
Already Applied | True |
Artist | Thore Siebrands |
Blue Hue | 0 |
Blue Saturation | 0 |
Brightness | +37 |
CFA Pattern | [Green,Red][Blue,Green] |
Camera Profile | ACR 3.3 |
Caption Writer | Thore Siebrands |
Chromatic Aberration B | 0 |
Chromatic Aberration R | 0 |
Circle Of Confusion | 0.020 mm |
Clarity | 0 |
Color Mode | RGB |
Color Noise Reduction | 25 |
Color Space | Uncalibrated |
Color Temperature | 5900 |
Contrast | +47 |
Convert To Grayscale | False |
Country | Germany |
Country Code | DE |
Creator | Thore Siebrands |
Custom Rendered | Normal |
Defringe | 0 |
Digital Zoom Ratio | 1 |
Exposure | +1.20 |
Exposure Compensation | 0 |
Exposure Mode | Auto |
Field Of View | 13.1 deg |
Fill Light | 0 |
Flash Fired | False |
Flash Function | False |
Flash Mode | Unknown |
Flash Red Eye Mode | False |
Flash Return | No return detection |
Focal Length In 35mm Format | 157 mm |
Format | image/jpeg |
Gain Control | Low gain up |
Green Hue | 0 |
Green Saturation | 0 |
Has Crop | False |
Has Settings | True |
Highlight Recovery | 0 |
Hue Adjustment Aqua | 0 |
Hue Adjustment Blue | 0 |
Hue Adjustment Green | 0 |
Hue Adjustment Magenta | 0 |
Hue Adjustment Orange | 0 |
Hue Adjustment Purple | 0 |
Hue Adjustment Red | 0 |
Hue Adjustment Yellow | 0 |
Hyperfocal Distance | 195.95 m |
ICC Profile Name | Adobe RGB (1998) |
ISO | 400 |
Image Number | 13769 |
Image Size | 2592x3872 |
Label | gelb |
Lens | 105.0 mm f/2.8 |
Lens Info | 105mm f/2.8 |
Light Source | Unknown |
Light Value | 8.3 |
Location | Holstenstraße |
Luminance Adjustment Aqua | 0 |
Luminance Adjustment Blue | 0 |
Luminance Adjustment Green | 0 |
Luminance Adjustment Magenta | 0 |
Luminance Adjustment Orange | 0 |
Luminance Adjustment Purple | 0 |
Luminance Adjustment Red | 0 |
Luminance Adjustment Yellow | 0 |
Luminance Smoothing | 68 |
Marked | True |
Metering Mode | Multi-segment |
Parametric Darks | 0 |
Parametric Highlight Split | 75 |
Parametric Highlights | 0 |
Parametric Lights | 0 |
Parametric Midtone Split | 50 |
Parametric Shadow Split | 25 |
Parametric Shadows | 0 |
Photometric Interpretation | RGB |
Rating | 0 |
Raw File Name | _07Z3310.NEF |
Red Hue | 0 |
Red Saturation | 0 |
Samples Per Pixel | 3 |
Saturation | 0 |
Saturation Adjustment Aqua | +55 |
Saturation Adjustment Blue | 0 |
Saturation Adjustment Green | +49 |
Saturation Adjustment Magenta | 0 |
Saturation Adjustment Orange | 0 |
Saturation Adjustment Purple | 0 |
Saturation Adjustment Red | 0 |
Saturation Adjustment Yellow | 0 |
Scale Factor To 35 mm Equivalent | 1.5 |
Scene Capture Type | Standard |
Scene Type | Directly photographed |
Sensing Method | One-chip color area |
Shadow Tint | 0 |
Shadows | 10 |
Sharpen Detail | 25 |
Sharpen Edge Masking | 0 |
Sharpen Radius | +1.0 |
Sharpness | 111 |
Sidecar For Extension | NEF |
Split Toning Balance | 0 |
Split Toning Highlight Hue | 0 |
Split Toning Highlight Saturation | 0 |
Split Toning Shadow Hue | 0 |
Split Toning Shadow Saturation | 0 |
State | Schleswig-Holstein |
Subject | Photowalk, Ralph, letter, Buchstabe, Ü, yellow, gelb |
Subject Distance Range | Unknown |
Tint | -22 |
Tone Curve | 0, 0, 32, 22, 64, 56, 128, 128, 192, 196, 255, 255 |
Tone Curve Name | Medium Contrast |
User Comment | (C) Thore Siebrands |
Version | 4.3.1 |
Vibrance | +14 |
Vignette Amount | 0 |
White Balance | Custom |