Shooting information for this photo
| Camera: | NIKON CORPORATION NIKON D200 |
| Exposure: | 0.06667 sec. (1/15) |
| Aperture: | f/3.5 |
| Focal Length: | 105.0 mm (35 mm equivalent: 157.0 mm) |
| Flash: | No Flash |
| Exposure mode: | Aperture-priority AE |
| Max Aperture: | 3.5 |
| Resolution: | 240 x 240 dpi |
| Dimension: | 2592 x 3872 pixels |
| Original Date: | 2007:12:09 20:05:14.08 |
| Digitized Date: | 2007:12:09 20:05:14.08+01:00 |
| Created on: | 2007:12:09 20:05:14.08 |
| Modified on: | 2007:12:29 00:43:21.08 |
| Software: | Adobe Photoshop CS3 Windows |
| Already Applied | True |
| Artist | Thore Siebrands |
| Blue Hue | 0 |
| Blue Saturation | 0 |
| Brightness | +95 |
| CFA Pattern | [Green,Red][Blue,Green] |
| Camera Profile | ACR 3.3 |
| Caption Writer | Thore Siebrands |
| Chromatic Aberration B | 0 |
| Chromatic Aberration R | 0 |
| Circle Of Confusion | 0.020 mm |
| Clarity | 0 |
| Color Mode | RGB |
| Color Noise Reduction | 25 |
| Color Space | Uncalibrated |
| Color Temperature | 3300 |
| Contrast | +43 |
| Convert To Grayscale | False |
| Country | Germany |
| Country Code | DE |
| Creator | Thore Siebrands |
| Custom Rendered | Normal |
| Defringe | 0 |
| Digital Zoom Ratio | 1 |
| Exposure | 0.00 |
| Exposure Compensation | 0 |
| Exposure Mode | Auto |
| Field Of View | 13.1 deg |
| Fill Light | 0 |
| Flash Fired | False |
| Flash Function | False |
| Flash Mode | Unknown |
| Flash Red Eye Mode | False |
| Flash Return | No return detection |
| Focal Length In 35mm Format | 157 mm |
| Format | image/jpeg |
| Gain Control | Low gain up |
| Green Hue | 0 |
| Green Saturation | 0 |
| Has Crop | False |
| Has Settings | True |
| Highlight Recovery | 4 |
| Hue Adjustment Aqua | 0 |
| Hue Adjustment Blue | 0 |
| Hue Adjustment Green | 0 |
| Hue Adjustment Magenta | 0 |
| Hue Adjustment Orange | 0 |
| Hue Adjustment Purple | 0 |
| Hue Adjustment Red | 0 |
| Hue Adjustment Yellow | 0 |
| Hyperfocal Distance | 156.76 m |
| ICC Profile Name | Adobe RGB (1998) |
| ISO | 800 |
| Image Number | 13915 |
| Image Size | 2592x3872 |
| Label | gelb |
| Lens | 105.0 mm f/2.8 |
| Lens Info | 105mm f/2.8 |
| Light Source | Unknown |
| Light Value | 4.5 |
| Location | Eckernförder Straße |
| Luminance Adjustment Aqua | 0 |
| Luminance Adjustment Blue | 0 |
| Luminance Adjustment Green | 0 |
| Luminance Adjustment Magenta | 0 |
| Luminance Adjustment Orange | 0 |
| Luminance Adjustment Purple | 0 |
| Luminance Adjustment Red | 0 |
| Luminance Adjustment Yellow | 0 |
| Luminance Smoothing | 59 |
| Marked | True |
| Metering Mode | Multi-segment |
| Parametric Darks | 0 |
| Parametric Highlight Split | 75 |
| Parametric Highlights | 0 |
| Parametric Lights | 0 |
| Parametric Midtone Split | 50 |
| Parametric Shadow Split | 25 |
| Parametric Shadows | 0 |
| Photometric Interpretation | RGB |
| Rating | 0 |
| Raw File Name | _07Z3456.NEF |
| Red Hue | 0 |
| Red Saturation | 0 |
| Samples Per Pixel | 3 |
| Saturation | 0 |
| Saturation Adjustment Aqua | 0 |
| Saturation Adjustment Blue | 0 |
| Saturation Adjustment Green | 0 |
| Saturation Adjustment Magenta | 0 |
| Saturation Adjustment Orange | 0 |
| Saturation Adjustment Purple | 0 |
| Saturation Adjustment Red | 0 |
| Saturation Adjustment Yellow | 0 |
| Scale Factor To 35 mm Equivalent | 1.5 |
| Scene Capture Type | Standard |
| Scene Type | Directly photographed |
| Sensing Method | One-chip color area |
| Shadow Tint | 0 |
| Shadows | 3 |
| Sharpen Detail | 25 |
| Sharpen Edge Masking | 30 |
| Sharpen Radius | +2.1 |
| Sharpness | 91 |
| Sidecar For Extension | NEF |
| Split Toning Balance | 0 |
| Split Toning Highlight Hue | 0 |
| Split Toning Highlight Saturation | 0 |
| Split Toning Shadow Hue | 0 |
| Split Toning Shadow Saturation | 0 |
| State | Schleswig-Holstein |
| Subject | Photowalk, Ralph, Weihnachtsmarkt, christmas market, christmas, Weihnachten, Engel, angel, portrait, Porträt |
| Subject Distance Range | Unknown |
| Tint | -6 |
| Tone Curve | 0, 0, 32, 22, 64, 56, 128, 128, 192, 196, 255, 255 |
| Tone Curve Name | Medium Contrast |
| User Comment | (C) Thore Siebrands |
| Version | 4.3.1 |
| Vibrance | 0 |
| Vignette Amount | 0 |
| White Balance | As Shot |
X