Shooting information for this photo
| Camera: | NIKON CORPORATION NIKON D700 |
| Exposure: | 0.01667 sec. (1/60) |
| Aperture: | f/2.8 |
| Focal Length: | 24.0 mm (35 mm equivalent: 24.0 mm) |
| Flash: | No Flash |
| Exposure mode: | Aperture-priority AE |
| Max Aperture: | 2.8 |
| Resolution: | 300 x 300 dpi |
| Dimension: | 4180 x 2782 pixels |
| Original Date: | 2011:08:28 11:37:29.57 |
| Created on: | 2011:08:28 11:37:29.57 |
| Modified on: | 2011:10:15 23:35:58 |
| Software: | Adobe Photoshop CS5 Macintosh |
| Copyright: | Thore Siebrands |
| Already Applied | True |
| Approximate Focus Distance | 2.51 |
| Artist | Thore Siebrands |
| Blue Hue | 0 |
| Blue Saturation | 0 |
| Brightness | +44 |
| CFA Pattern | [Red,Green][Green,Blue] |
| Camera Profile | Adobe Standard |
| Chromatic Aberration B | 0 |
| Chromatic Aberration R | 0 |
| Circle Of Confusion | 0.030 mm |
| City | Brioude |
| Clarity | +11 |
| Color Mode | RGB |
| Color Noise Reduction | 25 |
| Color Noise Reduction Detail | 50 |
| Color Space | Uncalibrated |
| Color Temperature | 3750 |
| Contrast | +50 |
| Convert To Grayscale | False |
| Country | Frankreich |
| Country Code | FR |
| Creator | Thore Siebrands |
| Custom Rendered | Normal |
| Date Created | 2011:08:28 11:37:29.057 |
| Defringe | 0 |
| Depth Of Field | 2.10 m (1.84 - 3.94) |
| Digital Zoom Ratio | 1 |
| Exposure | -0.45 |
| Exposure Compensation | -1 |
| Exposure Mode | Auto |
| Field Of View | 73.7 deg |
| Fill Light | 47 |
| Focal Length In 35mm Format | 24 mm |
| Format | image/jpeg |
| Gain Control | None |
| Gradient Based Corr Active | true |
| Gradient Based Corr Amount | 1.000000 |
| Gradient Based Corr Brightness | 0.000000 |
| Gradient Based Corr Clarity | 0.000000 |
| Gradient Based Corr Contrast | 0.140000 |
| Gradient Based Corr Exposure | -0.225000 |
| Gradient Based Corr Hue | 56.000000 |
| Gradient Based Corr Mask Full X | 0.830456 |
| Gradient Based Corr Mask Full Y | 0.454784 |
| Gradient Based Corr Mask Value | 1.000000 |
| Gradient Based Corr Mask What | Mask/Gradient |
| Gradient Based Corr Mask Zero X | 0.565785 |
| Gradient Based Corr Mask Zero Y | 0.463824 |
| Gradient Based Corr Saturation | 0.000000 |
| Gradient Based Corr Sharpness | 0.000000 |
| Gradient Based Corr What | Correction |
| Grain Amount | 0 |
| Green Hue | 0 |
| Green Saturation | 0 |
| Has Crop | False |
| Has Settings | True |
| Hierarchical Subject | Auvergne, Auvergne|Frankreich, Auvergne|Frankreich|France, Auvergne|Brioude, Auvergne|Brioude|St-Julien de Brioude, Auvergne|Kirche, Auvergne|Kirche|church, Auvergne|Brioude|St-Julien de Brioude|Michaelskapelle, Auvergne|Fresko, Auvergne|Fresko|fresco, Kamera|D700, Kamera|AF-S 24-70 mm/2.8G ED |
| Highlight Recovery | 0 |
| Hue Adjustment Aqua | 0 |
| Hue Adjustment Blue | 0 |
| Hue Adjustment Green | 0 |
| Hue Adjustment Magenta | 0 |
| Hue Adjustment Orange | 0 |
| Hue Adjustment Purple | 0 |
| Hue Adjustment Red | 0 |
| Hue Adjustment Yellow | 0 |
| Hyperfocal Distance | 6.85 m |
| ICC Profile Name | Adobe RGB (1998) |
| ISO | 320 |
| Image Number | 30379 |
| Image Size | 4180x2782 |
| Label | gelb |
| Lens | 24.0-70.0 mm f/2.8 |
| Lens ID | AF-S Zoom-Nikkor 24-70mm f/2.8G ED |
| Lens Info | 24-70mm f/2.8 |
| Lens Manual Distortion Amount | 0 |
| Lens Model | 24.0-70.0 mm f/2.8 |
| Lens Profile Chromatic Aberration Scale | 100 |
| Lens Profile Distortion Scale | 100 |
| Lens Profile Enable | 1 |
| Lens Profile Filename | NIKON D3X (Nikon FX 24-70mm f2.8 G ED) - RAW.lcp |
| Lens Profile Name | Adobe (Nikon AF-S NIKKOR 24-70mm f/2.8G ED) |
| Lens Profile Setup | LensDefaults |
| Lens Profile Vignetting Scale | 100 |
| Light Source | Unknown |
| Light Value | 7.2 |
| Location | St-Julien de Brioude |
| Luminance Adjustment Aqua | 0 |
| Luminance Adjustment Blue | 0 |
| Luminance Adjustment Green | 0 |
| Luminance Adjustment Magenta | 0 |
| Luminance Adjustment Orange | 0 |
| Luminance Adjustment Purple | 0 |
| Luminance Adjustment Red | 0 |
| Luminance Adjustment Yellow | 0 |
| Luminance Smoothing | 0 |
| Metering Mode | Multi-segment |
| Parametric Darks | 0 |
| Parametric Highlight Split | 75 |
| Parametric Highlights | 0 |
| Parametric Lights | 0 |
| Parametric Midtone Split | 50 |
| Parametric Shadow Split | 25 |
| Parametric Shadows | 0 |
| Perspective Horizontal | -7 |
| Perspective Rotate | +1.3 |
| Perspective Scale | 100 |
| Perspective Vertical | 0 |
| Photometric Interpretation | RGB |
| Post Crop Vignette Amount | 0 |
| Process Version | 5.7 |
| Raw File Name | D7H_9125.NEF |
| Red Hue | 0 |
| Red Saturation | 0 |
| Rights | Thore Siebrands |
| Samples Per Pixel | 3 |
| Saturation | 0 |
| Saturation Adjustment Aqua | 0 |
| Saturation Adjustment Blue | 0 |
| Saturation Adjustment Green | 0 |
| Saturation Adjustment Magenta | 0 |
| Saturation Adjustment Orange | 0 |
| Saturation Adjustment Purple | 0 |
| Saturation Adjustment Red | 0 |
| Saturation Adjustment Yellow | 0 |
| Scale Factor To 35 mm Equivalent | 1.0 |
| Scene Capture Type | Standard |
| Scene Type | Directly photographed |
| Sensing Method | One-chip color area |
| Shadow Tint | 0 |
| Shadows | 11 |
| Sharpen Detail | 25 |
| Sharpen Edge Masking | 0 |
| Sharpen Radius | +1.0 |
| Sharpness | 46 |
| Split Toning Balance | 0 |
| Split Toning Highlight Hue | 0 |
| Split Toning Highlight Saturation | 0 |
| Split Toning Shadow Hue | 0 |
| Split Toning Shadow Saturation | 0 |
| State | Auvergne |
| Subject | AF-S 24-70 mm/2.8G ED, Auvergne, Brioude, church, D700, France, Frankreich, fresco, Fresko, Kirche, Michaelskapelle, St-Julien de Brioude |
| Subject Distance | 2.51 m |
| Subject Distance Range | Unknown |
| Tint | -26 |
| Tone Curve | 0, 0, 32, 22, 64, 56, 128, 128, 192, 196, 255, 255 |
| Tone Curve Name | Medium Contrast |
| Version | 6.4.1 |
| Vibrance | 0 |
| Vignette Amount | 0 |
| White Balance | As Shot |
X