Shooting information for this photo
Camera: | Panasonic DMC-GX8 |
Exposure: | 0.0025 sec. (1/400) |
Aperture: | f/5.2 |
Focal Length: | 75.0 mm (35 mm equivalent: 150.0 mm) |
Flash: | Off, Did not fire |
Exposure mode: | Program AE |
Max Aperture: | 4.8 |
Resolution: | 240 x 240 dpi |
Dimension: | 5184 x 3888 pixels |
Original Date: | 2018:08:02 12:02:22.261 |
Created on: | 2018:08:02 12:02:22.261 |
Modified on: | 2018:08:19 21:14:31.261 |
Software: | Adobe Photoshop CC 2018 (Windows) |
Already Applied | True |
Auto Lateral CA | 1 |
Blacks 2012 | -10 |
Blue Hue | 0 |
Blue Saturation | 0 |
Camera Profile | Adobe Standard |
Circle Of Confusion | 0.015 mm |
Clarity 2012 | +16 |
Color Mode | RGB |
Color Noise Reduction | 25 |
Color Noise Reduction Detail | 50 |
Color Noise Reduction Smoothness | 50 |
Color Space | Uncalibrated |
Color Temperature | 4950 |
Contrast | Normal |
Contrast 2012 | -27 |
Convert To Grayscale | False |
Crop Angle | 0 |
Crop Bottom | 1 |
Crop Constrain To Warp | 0 |
Crop Left | 0 |
Crop Right | 1 |
Crop Top | 0 |
Custom Rendered | Normal |
Date Created | 2018:08:02 12:02:22.261 |
Defringe Green Amount | 0 |
Defringe Green Hue Hi | 60 |
Defringe Green Hue Lo | 40 |
Defringe Purple Amount | 0 |
Defringe Purple Hue Hi | 70 |
Defringe Purple Hue Lo | 30 |
Dehaze | +1 |
Description | These birds will bite, everything could be food! |
Digital Zoom Ratio | 0 |
Distortion Correction Already Applied | True |
Exposure 2012 | +0.80 |
Exposure Compensation | -1 |
Exposure Mode | Auto bracket |
Field Of View | 13.7 deg |
Focal Length In 35mm Format | 150 mm |
Format | image/jpeg |
Gain Control | Low gain up |
Grain Amount | 0 |
Green Hue | 0 |
Green Saturation | 0 |
Has Crop | True |
Has Settings | True |
Hierarchical Subject | 2018, Birdworld, Hornbill, Lumix GX8, Panasonic, Summer 2018, Surrey, Zoo, bird |
Highlights 2012 | -56 |
Hue Adjustment Aqua | 0 |
Hue Adjustment Blue | 0 |
Hue Adjustment Green | 0 |
Hue Adjustment Magenta | 0 |
Hue Adjustment Orange | 0 |
Hue Adjustment Purple | 0 |
Hue Adjustment Red | 0 |
Hue Adjustment Yellow | 0 |
Hyperfocal Distance | 72.00 m |
ICC Profile Name | ProPhoto RGB |
ISO | 200 |
Image Description | These birds will bite, everything could be food! |
Image Size | 5184x3888 |
Lateral Chromatic Aberration Correction Already Applied | True |
Lens | OLYMPUS M.75-300mm F4.8-6.7 II |
Lens Manual Distortion Amount | 0 |
Lens Model | OLYMPUS M.75-300mm F4.8-6.7 II |
Lens Profile Enable | 0 |
Lens Profile Setup | LensDefaults |
Light Source | Unknown |
Light Value | 12.4 |
Look Amount | 1.000000 |
Look Group | Profiles |
Look Name | Adobe Color |
Look Parameters Camera Profile | Adobe Standard |
Look Parameters Convert To Grayscale | False |
Look Parameters Look Table | E1095149FDB39D7A057BAB208837E2 E1 |
Look Parameters Process Version | 10.0 |
Look Parameters Tone Curve PV2012 | 0, 0, 22, 16, 40, 35, 127, 127, 224, 230, 240, 246, 255, 255 |
Look Parameters Tone Curve PV2012 Blue | 0, 0, 255, 255 |
Look Parameters Tone Curve PV2012 Green | 0, 0, 255, 255 |
Look Parameters Tone Curve PV2012 Red | 0, 0, 255, 255 |
Look Parameters Version | 10.4 |
Look Supports Amount | false |
Look Supports Monochrome | false |
Look Supports Output Referred | false |
Luminance Adjustment Aqua | 0 |
Luminance Adjustment Blue | 0 |
Luminance Adjustment Green | 0 |
Luminance Adjustment Magenta | 0 |
Luminance Adjustment Orange | 0 |
Luminance Adjustment Purple | 0 |
Luminance Adjustment Red | 0 |
Luminance Adjustment Yellow | 0 |
Luminance Noise Reduction Contrast | 0 |
Luminance Noise Reduction Detail | 50 |
Luminance Smoothing | 31 |
Metering Mode | Multi-segment |
Override Look Vignette | False |
Parametric Darks | 0 |
Parametric Highlight Split | 75 |
Parametric Highlights | 0 |
Parametric Lights | 0 |
Parametric Midtone Split | 50 |
Parametric Shadow Split | 25 |
Parametric Shadows | 0 |
Perspective Aspect | 0 |
Perspective Horizontal | 0 |
Perspective Rotate | 0.0 |
Perspective Scale | 100 |
Perspective Upright | 0 |
Perspective Vertical | 0 |
Perspective X | 0.00 |
Perspective Y | 0.00 |
Post Crop Vignette Amount | 0 |
Process Version | 10.0 |
Rating | 0 |
Raw File Name | P1020346.RW2 |
Red Hue | 0 |
Red Saturation | 0 |
Saturation | Normal |
Saturation Adjustment Aqua | 0 |
Saturation Adjustment Blue | 0 |
Saturation Adjustment Green | 0 |
Saturation Adjustment Magenta | 0 |
Saturation Adjustment Orange | 0 |
Saturation Adjustment Purple | 0 |
Saturation Adjustment Red | 0 |
Saturation Adjustment Yellow | 0 |
Scale Factor To 35 mm Equivalent | 2.0 |
Scene Capture Type | Standard |
Scene Type | Directly photographed |
Sensing Method | One-chip color area |
Shadow Tint | 0 |
Shadows 2012 | +67 |
Sharpen Detail | 25 |
Sharpen Edge Masking | 57 |
Sharpen Radius | +1.0 |
Sharpness | Normal |
Split Toning Balance | 0 |
Split Toning Highlight Hue | 0 |
Split Toning Highlight Saturation | 0 |
Split Toning Shadow Hue | 0 |
Split Toning Shadow Saturation | 0 |
Subject | 2018, Birdworld, Hornbill, Lumix GX8, Panasonic, Summer 2018, Surrey, Zoo, bird |
Tint | +5 |
Tone Curve | 0, 0, 32, 22, 64, 56, 128, 128, 192, 196, 255, 255 |
Tone Curve Blue | 0, 0, 255, 255 |
Tone Curve Green | 0, 0, 255, 255 |
Tone Curve Name | Medium Contrast |
Tone Curve Name 2012 | Linear |
Tone Curve PV2012 | 0, 0, 255, 255 |
Tone Curve PV2012 Blue | 0, 0, 255, 255 |
Tone Curve PV2012 Green | 0, 0, 255, 255 |
Tone Curve PV2012 Red | 0, 0, 255, 255 |
Tone Curve Red | 0, 0, 255, 255 |
Tone Map Strength | 0 |
Version | 10.4 |
Vibrance | +10 |
Vignette Amount | 0 |
White Balance | Auto |
Whites 2012 | +9 |