Shooting information for this photo
| Camera: | NIKON CORPORATION NIKON Z 7_2 |
| Exposure: | 0.00625 sec. (1/160) |
| Aperture: | f/2.8 |
| Focal Length: | 35.0 mm (35 mm equivalent: 35.0 mm) |
| Flash: | No Flash |
| Exposure mode: | Manual |
| Resolution: | 240 x 240 dpi |
| Original Date: | 2024:03:23 10:18:20.96 |
| Created on: | 2024:03:23 10:18:20.96 |
| Modified on: | 2025:01:29 05:40:51 |
| Software: | Adobe Photoshop Lightroom Classic 14.1.1 (Windows) |
| Copyright: | Rainer Koerner |
| Already Applied | True |
| Artist | Rainer Koerner |
| Auto Lateral CA | 0 |
| Blacks 2012 | -21 |
| Blue Hue | 0 |
| Blue Saturation | 0 |
| CFA Pattern | [Red,Green][Green,Blue] |
| Camera Profile | Adobe Standard |
| Camera Profiles Aperture Value | 2.970854 |
| Camera Profiles Author | Adobe |
| Camera Profiles Auto Scale | False |
| Camera Profiles Camera Pretty Name | Nikon Z 7 2 |
| Camera Profiles Camera Raw Profile | True |
| Camera Profiles Focal Length | 35 |
| Camera Profiles Focus Distance | 10000 |
| Camera Profiles Lens | NIKKOR Z 28-75mm f/2.8 |
| Camera Profiles Lens Pretty Name | NIKKOR Z 28-75mm f/2.8 |
| Camera Profiles Make | NIKON CORPORATION |
| Camera Profiles Model | NIKON Z 7_2 |
| Camera Profiles Perspective Model Image X Center | 0.498823 |
| Camera Profiles Perspective Model Image Y Center | 0.503518 |
| Camera Profiles Perspective Model Radial Distort Param 1 | -0.066093 |
| Camera Profiles Perspective Model Radial Distort Param 2 | 0.124671 |
| Camera Profiles Perspective Model Radial Distort Param 3 | -0.002149 |
| Camera Profiles Perspective Model Scale Factor | 1.000791 |
| Camera Profiles Perspective Model Version | 2 |
| Camera Profiles Perspective Model Vignette Model Image X Center | 0.498823 |
| Camera Profiles Perspective Model Vignette Model Image Y Center | 0.503518 |
| Camera Profiles Perspective Model Vignette Model Vignette Model Param 1 | 1 |
| Camera Profiles Profile Name | Camera Settings |
| Camera Profiles Sensor Format Factor | 1.003485 |
| Camera Profiles Unique Camera Model | Nikon Z 7 2 |
| Circle Of Confusion | 0.030 mm |
| Clarity 2012 | 0 |
| Color Grade Blending | 50 |
| Color Grade Global Hue | 0 |
| Color Grade Global Lum | 0 |
| Color Grade Global Sat | 0 |
| Color Grade Highlight Lum | 0 |
| Color Grade Midtone Hue | 0 |
| Color Grade Midtone Lum | 0 |
| Color Grade Midtone Sat | 0 |
| Color Grade Shadow Lum | 0 |
| Color Noise Reduction | 25 |
| Color Noise Reduction Detail | 50 |
| Color Noise Reduction Smoothness | 50 |
| Color Space | sRGB |
| Color Temperature | 5850 |
| Compatible Version | 268435456 |
| Contrast | Normal |
| Contrast 2012 | +7 |
| Creator | Rainer Koerner |
| Crop Angle | -1.01 |
| Crop Bottom | 0.974237 |
| Crop Constrain To Warp | 0 |
| Crop Left | 0.011897 |
| Crop Right | 0.997584 |
| Crop Top | 0.025763 |
| Custom Rendered | Custom |
| Date Created | 2024:03:23 10:18:20.96+01:00 |
| Defringe Green Amount | 0 |
| Defringe Green Hue Hi | 60 |
| Defringe Green Hue Lo | 40 |
| Defringe Purple Amount | 0 |
| Defringe Purple Hue Hi | 70 |
| Defringe Purple Hue Lo | 30 |
| Dehaze | 0 |
| Distortion Correction Already Applied | True |
| Exposure 2012 | +0.30 |
| Exposure Compensation | 0 |
| Exposure Mode | Manual |
| Field Of View | 54.4 deg |
| Focal Length In 35mm Format | 35 mm |
| Format | image/jpeg |
| Gain Control | None |
| Grain Amount | 0 |
| Green Hue | 0 |
| Green Saturation | 0 |
| HDR Edit Mode | 0 |
| Has Crop | True |
| Has Settings | True |
| Highlights 2012 | -56 |
| Hue Adjustment Aqua | 0 |
| Hue Adjustment Blue | 0 |
| Hue Adjustment Green | 0 |
| Hue Adjustment Magenta | 0 |
| Hue Adjustment Orange | 0 |
| Hue Adjustment Purple | 0 |
| Hue Adjustment Red | 0 |
| Hue Adjustment Yellow | 0 |
| Hyperfocal Distance | 14.56 m |
| ISO | 200 |
| Image Number | 10215 |
| Image Size | 1280x853 |
| Lateral Chromatic Aberration Correction Already Applied | True |
| Lens | NIKKOR Z 28-75mm f/2.8 |
| Lens Info | 28-75mm f/2.8 |
| Lens Make | NIKON |
| Lens Manual Distortion Amount | 0 |
| Lens Model | NIKKOR Z 28-75mm f/2.8 |
| Lens Profile Distortion Scale | 100 |
| Lens Profile Enable | 1 |
| Lens Profile Is Embedded | True |
| Lens Profile Name | Camera Settings |
| Lens Profile Setup | Custom |
| Lens Profile Vignetting Scale | 100 |
| Light Source | Unknown |
| Light Value | 9.3 |
| Look Amount | 1 |
| Look Cluster | Adobe |
| Look Group | Artistic |
| Look Name | Artistic 05 |
| Look Parameters Convert To Grayscale | False |
| Look Parameters Look Table | E1095149FDB39D7A057BAB208837E2 E1 |
| Look Parameters Process Version | 15.4 |
| Look Parameters RGB Table | 887848C4E24524268E17603B26A576 B3 |
| Look Parameters RGB Table Amount | 0.25 |
| Look Parameters Version | 17.1 |
| Look Supports Monochrome | false |
| Luminance Adjustment Aqua | 0 |
| Luminance Adjustment Blue | 0 |
| Luminance Adjustment Green | 0 |
| Luminance Adjustment Magenta | 0 |
| Luminance Adjustment Orange | 0 |
| Luminance Adjustment Purple | 0 |
| Luminance Adjustment Red | 0 |
| Luminance Adjustment Yellow | 0 |
| Luminance Smoothing | 0 |
| Metering Mode | Multi-segment |
| Override Look Vignette | False |
| Parametric Darks | 0 |
| Parametric Highlight Split | 75 |
| Parametric Highlights | 0 |
| Parametric Lights | 0 |
| Parametric Midtone Split | 50 |
| Parametric Shadow Split | 25 |
| Parametric Shadows | 0 |
| Perspective Aspect | 0 |
| Perspective Horizontal | 0 |
| Perspective Rotate | 0.0 |
| Perspective Scale | 100 |
| Perspective Upright | 1 |
| Perspective Vertical | 0 |
| Perspective X | 0.00 |
| Perspective Y | 0.00 |
| Pick | 0 |
| Point Colors | -1.000000, -1.000000, -1.000000, -1.000000, -1.000000, -1.000000, -1.000000, -1.000000, -1.000000, -1.000000, -1.000000, -1.000000, -1.000000, -1.000000, -1.000000, -1.000000, -1.000000, -1.000000, -1.000000 |
| Post Crop Vignette Amount | 0 |
| Preserved File Name | _RK70214.NEF |
| Process Version | 15.4 |
| Rating | 1 |
| Raw File Name | _RK70214.NEF |
| Recommended Exposure Index | 200 |
| Red Hue | 0 |
| Red Saturation | 0 |
| Rights | Rainer Koerner |
| Saturation | Normal |
| Saturation Adjustment Aqua | 0 |
| Saturation Adjustment Blue | 0 |
| Saturation Adjustment Green | 0 |
| Saturation Adjustment Magenta | 0 |
| Saturation Adjustment Orange | 0 |
| Saturation Adjustment Purple | 0 |
| Saturation Adjustment Red | 0 |
| Saturation Adjustment Yellow | 0 |
| Scale Factor To 35 mm Equivalent | 1.0 |
| Scene Capture Type | Standard |
| Scene Type | Directly photographed |
| Sensing Method | One-chip color area |
| Sensitivity Type | Recommended Exposure Index |
| Shadow Tint | 0 |
| Shadows 2012 | +40 |
| Sharpen Detail | 25 |
| Sharpen Edge Masking | 0 |
| Sharpen Radius | +1.0 |
| Sharpness | Normal |
| Split Toning Balance | 0 |
| Split Toning Highlight Hue | 0 |
| Split Toning Highlight Saturation | 0 |
| Split Toning Shadow Hue | 0 |
| Split Toning Shadow Saturation | 0 |
| Subject Distance Range | Unknown |
| Texture | 0 |
| Tint | +11 |
| Tone Curve Name 2012 | Linear |
| Tone Curve PV2012 | 0, 0, 255, 255 |
| Tone Curve PV2012 Blue | 0, 0, 255, 255 |
| Tone Curve PV2012 Green | 0, 0, 255, 255 |
| Tone Curve PV2012 Red | 0, 0, 255, 255 |
| Version | 17.1 |
| Vibrance | +19 |
| Vignette Amount | 0 |
| Vignette Correction Already Applied | True |
| White Balance | Auto |
| Whites 2012 | +50 |
GPS Information |
| GPS Latitude | 49 deg 24' 25.69" N |
| GPS Latitude Ref | North |
| GPS Longitude | 11 deg 2' 5.91" E |
| GPS Longitude Ref | East |
| GPS Position | 49 deg 24' 25.69" N, 11 deg 2' 5.91" E |
| GPS Version ID | 2.2.0.0 |
X