Shooting information for this photo
Camera: | NIKON CORPORATION NIKON D800 |
Exposure: | 0.008 sec. (1/125) |
Aperture: | f/14.0 |
Focal Length: | 38.0 mm (35 mm equivalent: 38.0 mm) |
Flash: | Off, Did not fire |
Exposure mode: | Manual |
Max Aperture: | 2.8 |
Resolution: | 240 x 240 dpi |
Dimension: | 4588 x 6941 pixels |
Original Date: | 2013:05:09 11:21:53.00 |
Created on: | 2013:05:09 11:21:53.00 |
Modified on: | 2013:06:19 14:05:15.00 |
Software: | Adobe Photoshop CS6 (Windows) |
Already Applied | True |
Approximate Focus Distance | 3.55 |
Auto Lateral CA | 0 |
Blacks 2012 | +6 |
Blue Hue | 0 |
Blue Saturation | 0 |
Brightness | 0.000000 |
CFA Pattern | [Red,Green][Green,Blue] |
Camera Profile | Adobe Standard |
Circle Of Confusion | 0.030 mm |
Clarity 2012 | +40 |
Color Mode | RGB |
Color Noise Reduction | 25 |
Color Noise Reduction Detail | 50 |
Color Space | Uncalibrated |
Color Temperature | 4300 |
Contrast | 18.421875 |
Contrast 2012 | +5 |
Convert To Grayscale | False |
Crop Angle | -2.740791 |
Crop Bottom | 0.933832 |
Crop Constrain To Warp | 1 |
Crop Left | 0.018559 |
Crop Right | 0.970827 |
Crop Top | 0.06693 |
Custom Rendered | Normal |
Date Created | 2013:05:09 11:21:53 |
Defringe Green Amount | 0 |
Defringe Green Hue Hi | 60 |
Defringe Green Hue Lo | 40 |
Defringe Purple Amount | 0 |
Defringe Purple Hue Hi | 70 |
Defringe Purple Hue Lo | 30 |
Digital Zoom Ratio | 1 |
Exposure 2012 | -0.55 |
Exposure Compensation | 0.000000 |
Exposure Mode | Manual |
Field Of View | 50.7 deg |
Focal Length In 35mm Format | 38 mm |
Format | image/jpeg |
Gain Control | High gain up |
Grain Amount | 0 |
Green Hue | 0 |
Green Saturation | 0 |
Has Crop | True |
Has Settings | True |
Highlights 2012 | -39 |
Hue Adjustment Aqua | 0 |
Hue Adjustment Blue | 0 |
Hue Adjustment Green | 0 |
Hue Adjustment Magenta | 0 |
Hue Adjustment Orange | 0 |
Hue Adjustment Purple | 0 |
Hue Adjustment Red | 0 |
Hue Adjustment Yellow | 0 |
Hyperfocal Distance | 3.43 m |
ICC Profile Name | Adobe RGB (1998) |
ISO | 2200 |
Image Number | 1864 |
Image Size | 4588x6941 |
Lens | 24.0-70.0 mm f/2.8 |
Lens ID | Sigma 24-70mm F2.8 IF EX DG HSM |
Lens Info | 24-70mm f/2.8 |
Lens Manual Distortion Amount | 0 |
Lens Model | 24.0-70.0 mm f/2.8 |
Lens Profile Enable | 0 |
Lens Profile Setup | LensDefaults |
Light Source | Unknown |
Light Value | 10.1 |
Luminance Adjustment Aqua | 0 |
Luminance Adjustment Blue | 0 |
Luminance Adjustment Green | 0 |
Luminance Adjustment Magenta | 0 |
Luminance Adjustment Orange | 0 |
Luminance Adjustment Purple | 0 |
Luminance Adjustment Red | 0 |
Luminance Adjustment Yellow | 0 |
Luminance Smoothing | 0 |
Metering Mode | Multi-segment |
Parametric Darks | 0 |
Parametric Highlight Split | 75 |
Parametric Highlights | 0 |
Parametric Lights | 0 |
Parametric Midtone Split | 50 |
Parametric Shadow Split | 25 |
Parametric Shadows | 0 |
Perspective Horizontal | 0 |
Perspective Rotate | 0.0 |
Perspective Scale | 100 |
Perspective Vertical | 0 |
Photometric Interpretation | RGB |
Pipeline Version | 01.00 |
Post Crop Vignette Amount | 0 |
Process Version | 6.7 |
Rating | 0 |
Raw File Name | DSC_1669.NEF |
Red Hue | 0 |
Red Saturation | 0 |
Samples Per Pixel | 3 |
Saturation | Normal |
Saturation Adjustment Aqua | 0 |
Saturation Adjustment Blue | 0 |
Saturation Adjustment Green | 0 |
Saturation Adjustment Magenta | 0 |
Saturation Adjustment Orange | 0 |
Saturation Adjustment Purple | 0 |
Saturation Adjustment Red | 0 |
Saturation Adjustment Yellow | 0 |
Scale Factor To 35 mm Equivalent | 1.0 |
Scene Capture Type | Standard |
Scene Type | Directly photographed |
Sensing Method | One-chip color area |
Sensitivity Type | Recommended Exposure Index |
Shadow Tint | 0 |
Shadows 2012 | -17 |
Sharpen Detail | 25 |
Sharpen Edge Masking | 0 |
Sharpen Radius | +1.0 |
Sharpness | Hard |
Split Toning Balance | 0 |
Split Toning Highlight Hue | 0 |
Split Toning Highlight Saturation | 0 |
Split Toning Shadow Hue | 0 |
Split Toning Shadow Saturation | 0 |
Stream Type | 3 |
Subject Distance Range | Unknown |
Tint | +5 |
Tone Curve Name 2012 | Linear |
Tone Curve PV2012 | 0, 0, 255, 255 |
Tone Curve PV2012 Blue | 0, 0, 255, 255 |
Tone Curve PV2012 Green | 0, 0, 255, 255 |
Tone Curve PV2012 Red | 0, 0, 255, 255 |
Version | 7.4 |
Vibrance | 0 |
Vignette Amount | 0 |
White Balance | Auto |
White Balance 0 | 2.497562 |
White Balance 1 | 1.000000 |
White Balance 2 | 1.051616 |
Whites 2012 | -96 |