Shooting information for this photo
Camera: | NIKON CORPORATION NIKON D3100 |
Exposure: | 0.005 sec. (1/200) |
Aperture: | f/13.0 |
Focal Length: | 20.0 mm (35 mm equivalent: 30.0 mm) |
Flash: | No Flash |
Exposure mode: | Manual |
Max Aperture: | 3.5 |
Resolution: | 300 x 300 dpi |
Dimension: | 2048 x 1365 pixels |
Original Date: | 2018:09:16 10:16:52.10 |
Created on: | 2018:09:16 10:16:52.10 |
Modified on: | 2018:09:26 23:33:27.10 |
Software: | Adobe Photoshop CS6 (Macintosh) |
Already Applied | True |
Approximate Focus Distance | 3758 |
Auto Lateral CA | 1 |
Auto White Version | 134348800 |
Blacks 2012 | +17 |
Blue Hue | 0 |
Blue Saturation | 0 |
CFA Pattern | [Green,Blue][Red,Green] |
Camera Profile | Adobe Standard |
Circle Of Confusion | 0.020 mm |
Clarity 2012 | +84 |
Color Mode | RGB |
Color Noise Reduction | 52 |
Color Noise Reduction Detail | 50 |
Color Noise Reduction Smoothness | 50 |
Color Space | Uncalibrated |
Color Temperature | 5500 |
Contrast | Normal |
Contrast 2012 | +51 |
Convert To Grayscale | False |
Custom Rendered | Normal |
Defringe Green Amount | 0 |
Defringe Green Hue Hi | 60 |
Defringe Green Hue Lo | 40 |
Defringe Purple Amount | 0 |
Defringe Purple Hue Hi | 70 |
Defringe Purple Hue Lo | 30 |
Description | Puente Colgante y Transbordador de Bizkaia, totalmente repintado con tres manos de pintura "vena roja", anteriormente su color era el negro. |
Digital Zoom Ratio | 1 |
Exposure 2012 | +0.40 |
Exposure Compensation | -1/3 |
Exposure Mode | Manual |
Field Of View | 61.9 deg |
Focal Length In 35mm Format | 30 mm |
Format | image/jpeg |
Gain Control | None |
Grain Amount | 0 |
Green Hue | 0 |
Green Saturation | 0 |
Has Crop | False |
Has Settings | True |
Highlights 2012 | +36 |
Hue Adjustment Aqua | 0 |
Hue Adjustment Blue | 0 |
Hue Adjustment Green | 0 |
Hue Adjustment Magenta | 0 |
Hue Adjustment Orange | 0 |
Hue Adjustment Purple | 0 |
Hue Adjustment Red | 0 |
Hue Adjustment Yellow | 0 |
Hyperfocal Distance | 1.54 m |
ICC Profile Name | Adobe RGB (1998) |
ISO | 100 |
Image Number | 54224 |
Image Size | 2048x1365 |
Lens | 18.0-270.0 mm f/3.5-6.3 |
Lens ID | Tamron AF 18-270mm f/3.5-6.3 Di II VC PZD (B008) |
Lens Info | 18-270mm f/3.5-6.3 |
Lens Manual Distortion Amount | 0 |
Lens Model | 18.0-270.0 mm f/3.5-6.3 |
Lens Profile Chromatic Aberration Scale | 100 |
Lens Profile Distortion Scale | 100 |
Lens Profile Enable | 1 |
Lens Profile Filename | NIKON CORPORATION (Tokina AT-X 116 PRO DX 11-16mm F2.8) - RAW.lcp |
Lens Profile Name | Adobe (Tokina AT-X 116 PRO DX 11-16mm F2.8, NIKON CORPORATION) |
Lens Profile Setup | Custom |
Lens Profile Vignetting Scale | 100 |
Light Source | Unknown |
Light Value | 15.0 |
Luminance Adjustment Aqua | 0 |
Luminance Adjustment Blue | 0 |
Luminance Adjustment Green | 0 |
Luminance Adjustment Magenta | 0 |
Luminance Adjustment Orange | 0 |
Luminance Adjustment Purple | 0 |
Luminance Adjustment Red | 0 |
Luminance Adjustment Yellow | 0 |
Luminance Noise Reduction Contrast | 63 |
Luminance Noise Reduction Detail | 84 |
Luminance Smoothing | 100 |
Metering Mode | Multi-segment |
Parametric Darks | -18 |
Parametric Highlight Split | 75 |
Parametric Highlights | +34 |
Parametric Lights | -18 |
Parametric Midtone Split | 50 |
Parametric Shadow Split | 25 |
Parametric Shadows | +8 |
Perspective Aspect | 0 |
Perspective Horizontal | 0 |
Perspective Rotate | 0.0 |
Perspective Scale | 100 |
Perspective Upright | 0 |
Perspective Vertical | 0 |
Post Crop Vignette Amount | 0 |
Process Version | 6.7 |
Rating | 0 |
Raw File Name | DSC_3173.NEF |
Red Hue | 0 |
Red Saturation | 0 |
Saturation | Normal |
Saturation Adjustment Aqua | 0 |
Saturation Adjustment Blue | 0 |
Saturation Adjustment Green | 0 |
Saturation Adjustment Magenta | 0 |
Saturation Adjustment Orange | 0 |
Saturation Adjustment Purple | 0 |
Saturation Adjustment Red | 0 |
Saturation Adjustment Yellow | 0 |
Scale Factor To 35 mm Equivalent | 1.5 |
Scene Capture Type | Standard |
Scene Type | Directly photographed |
Sensing Method | One-chip color area |
Shadow Tint | 0 |
Shadows 2012 | +44 |
Sharpen Detail | 80 |
Sharpen Edge Masking | 100 |
Sharpen Radius | +2.5 |
Sharpness | Normal |
Split Toning Balance | -45 |
Split Toning Highlight Hue | 30 |
Split Toning Highlight Saturation | 23 |
Split Toning Shadow Hue | 0 |
Split Toning Shadow Saturation | 0 |
Subject Distance Range | Unknown |
Tint | +18 |
Tone Curve Name 2012 | Linear |
Tone Curve PV2012 | 0, 0, 255, 255 |
Tone Curve PV2012 Blue | 0, 0, 255, 255 |
Tone Curve PV2012 Green | 0, 0, 255, 255 |
Tone Curve PV2012 Red | 0, 0, 255, 255 |
Version | 8.3 |
Vibrance | +13 |
Vignette Amount | 0 |
White Balance | Auto |
Whites 2012 | -10 |