Shooting information for this photo
| Camera: | Canon EOS 40D |
| Exposure: | 0.0125 sec. (1/80) |
| Aperture: | f/5.0 |
| Focal Length: | 38.0 mm (35 mm equivalent: 69.3 mm) |
| Flash: | Off, Did not fire |
| Exposure mode: | Aperture-priority AE |
| Max Aperture: | 5.2 |
| Resolution: | 240 x 240 dpi |
| Original Date: | 2010:01:15 02:38:39.00 |
| Digitized Date: | 2010:01:15 02:38:39.00+01:00 |
| Created on: | 2010:01:15 02:38:39.00 |
| Modified on: | 2010:03:04 20:24:58 |
| Already Applied | True |
| Artist | Christoph Mueller |
| Blue Hue | 0 |
| Blue Saturation | 0 |
| Brightness | +57 |
| Camera Profile | ACR 4.4 |
| Chromatic Aberration B | 0 |
| Chromatic Aberration R | 0 |
| Circle Of Confusion | 0.016 mm |
| Clarity | 10 |
| Color Noise Reduction | 25 |
| Color Temperature | 4200 |
| Contrast | +52 |
| Convert To Grayscale | False |
| Creator | Christoph Mueller |
| Crop Angle | 0 |
| Crop Bottom | 1 |
| Crop Height | 2592 |
| Crop Left | 0 |
| Crop Right | 0.833334 |
| Crop Top | 0 |
| Crop Unit | pixels |
| Crop Width | 3240 |
| Custom Rendered | Normal |
| Defringe | 1 |
| Exposure | 0.00 |
| Exposure Compensation | 0 |
| Exposure Mode | Auto |
| Field Of View | 29.1 deg |
| Fill Light | 0 |
| Firmware | 1.0.3 |
| Flash Compensation | 0 |
| Flash Fired | False |
| Flash Function | False |
| Flash Mode | Off |
| Flash Red Eye Mode | False |
| Flash Return | No return detection |
| Green Hue | 0 |
| Green Saturation | 0 |
| Has Crop | True |
| Has Settings | True |
| Highlight Recovery | 36 |
| Hue Adjustment Aqua | 0 |
| Hue Adjustment Blue | 0 |
| Hue Adjustment Green | 0 |
| Hue Adjustment Magenta | 0 |
| Hue Adjustment Orange | 0 |
| Hue Adjustment Purple | 0 |
| Hue Adjustment Red | 0 |
| Hue Adjustment Yellow | 0 |
| Hyperfocal Distance | 17.53 m |
| ISO | 640 |
| Image Number | 0 |
| Image Size | 3240x2592 |
| Lens | EF-S17-85mm f/4-5.6 IS USM |
| Lens Info | 17-85mm f/? |
| Light Value | 8.3 |
| Luminance Adjustment Aqua | 0 |
| Luminance Adjustment Blue | 0 |
| Luminance Adjustment Green | 0 |
| Luminance Adjustment Magenta | 0 |
| Luminance Adjustment Orange | 0 |
| Luminance Adjustment Purple | 0 |
| Luminance Adjustment Red | 0 |
| Luminance Adjustment Yellow | 0 |
| Luminance Smoothing | 0 |
| Metering Mode | Multi-segment |
| Owner Name | Christoph Mueller |
| Parametric Darks | 0 |
| Parametric Highlight Split | 75 |
| Parametric Highlights | 0 |
| Parametric Lights | 0 |
| Parametric Midtone Split | 50 |
| Parametric Shadow Split | 25 |
| Parametric Shadows | 0 |
| Rating | 1 |
| Red Hue | 0 |
| Red Saturation | 0 |
| Saturation | 0 |
| Saturation Adjustment Aqua | 0 |
| Saturation Adjustment Blue | 0 |
| Saturation Adjustment Green | 0 |
| Saturation Adjustment Magenta | 0 |
| Saturation Adjustment Orange | 0 |
| Saturation Adjustment Purple | 0 |
| Saturation Adjustment Red | 0 |
| Saturation Adjustment Yellow | 0 |
| Scale Factor To 35 mm Equivalent | 1.8 |
| Scene Capture Type | Standard |
| Shadow Tint | 0 |
| Shadows | 2 |
| Sharpen Detail | 25 |
| Sharpen Edge Masking | 0 |
| Sharpen Radius | +1.0 |
| Sharpness | 25 |
| Split Toning Balance | 0 |
| Split Toning Highlight Hue | 0 |
| Split Toning Highlight Saturation | 0 |
| Split Toning Shadow Hue | 0 |
| Split Toning Shadow Saturation | 0 |
| Subject | austin2010 |
| Tint | +28 |
| Tone Curve | 0, 0, 32, 22, 64, 56, 128, 128, 192, 196, 255, 255 |
| Tone Curve Name | Medium Contrast |
| Version | 4.4.1 |
| Vibrance | 0 |
| Vignette Amount | 0 |
| White Balance | As Shot |
X