Shooting information for this photo
| Camera: | Canon EOS 40D |
| Exposure: | 0.25 sec. (1/4) |
| Aperture: | f/4.0 |
| Focal Length: | 16.0 mm (35 mm equivalent: 27.9 mm) |
| Flash: | Off, Did not fire |
| Exposure mode: | Program AE |
| Max Aperture: | 4.2 |
| Resolution: | 240 x 240 dpi |
| Original Date: | 2009:09:27 13:23:03.00 |
| Digitized Date: | 2009:09:27 13:23:03.00+02:00 |
| Created on: | 2009:09:27 13:23:03.00 |
| Modified on: | 2009:09:27 17:18:42 |
| Already Applied | True |
| Artist | Christoph Mueller |
| Blue Hue | 0 |
| Blue Saturation | 0 |
| Brightness | +42 |
| Camera Profile | ACR 4.4 |
| Chromatic Aberration B | 0 |
| Chromatic Aberration R | 0 |
| Circle Of Confusion | 0.017 mm |
| Clarity | 52 |
| Color Noise Reduction | 25 |
| Color Temperature | 4661 |
| Contrast | +67 |
| Convert To Grayscale | False |
| Creator | Christoph Mueller |
| Crop Angle | 2 |
| Crop Bottom | 0.987838 |
| Crop Height | 2434 |
| Crop Left | 0.07717 |
| Crop Right | 0.978147 |
| Crop Top | 0.00083 |
| Crop Unit | pixels |
| Crop Width | 3590 |
| Custom Rendered | Normal |
| Defringe | 1 |
| Exposure | +1.87 |
| Exposure Compensation | -2/3 |
| Exposure Mode | Auto |
| Field Of View | 65.6 deg |
| Fill Light | 0 |
| Firmware | 1.0.3 |
| Flash Compensation | 0 |
| Flash Fired | False |
| Flash Function | False |
| Flash Mode | Off |
| Flash Red Eye Mode | False |
| Flash Return | No return detection |
| Green Hue | 0 |
| Green Saturation | 0 |
| Has Crop | True |
| Has Settings | True |
| Highlight Recovery | 62 |
| Hue Adjustment Aqua | 0 |
| Hue Adjustment Blue | 0 |
| Hue Adjustment Green | 0 |
| Hue Adjustment Magenta | 0 |
| Hue Adjustment Orange | 0 |
| Hue Adjustment Purple | 0 |
| Hue Adjustment Red | 0 |
| Hue Adjustment Yellow | 0 |
| Hyperfocal Distance | 3.71 m |
| ISO | 100 |
| Image Number | 0 |
| Image Size | 3590x2434 |
| Lens | EF-S10-22mm f/3.5-4.5 USM |
| Lens Info | 10-22mm f/? |
| Light Value | 6.0 |
| Luminance Adjustment Aqua | 0 |
| Luminance Adjustment Blue | 0 |
| Luminance Adjustment Green | 0 |
| Luminance Adjustment Magenta | 0 |
| Luminance Adjustment Orange | 0 |
| Luminance Adjustment Purple | 0 |
| Luminance Adjustment Red | 0 |
| Luminance Adjustment Yellow | 0 |
| Luminance Smoothing | 0 |
| Metering Mode | Multi-segment |
| Owner Name | Christoph Mueller |
| Parametric Darks | 0 |
| Parametric Highlight Split | 75 |
| Parametric Highlights | 0 |
| Parametric Lights | 0 |
| Parametric Midtone Split | 50 |
| Parametric Shadow Split | 25 |
| Parametric Shadows | 0 |
| Red Hue | 0 |
| Red Saturation | 0 |
| Saturation | +6 |
| Saturation Adjustment Aqua | 0 |
| Saturation Adjustment Blue | 0 |
| Saturation Adjustment Green | 0 |
| Saturation Adjustment Magenta | 0 |
| Saturation Adjustment Orange | 0 |
| Saturation Adjustment Purple | 0 |
| Saturation Adjustment Red | 0 |
| Saturation Adjustment Yellow | 0 |
| Scale Factor To 35 mm Equivalent | 1.7 |
| Scene Capture Type | Standard |
| Shadow Tint | 0 |
| Shadows | 0 |
| Sharpen Detail | 25 |
| Sharpen Edge Masking | 0 |
| Sharpen Radius | +1.0 |
| Sharpness | 43 |
| Split Toning Balance | 0 |
| Split Toning Highlight Hue | 0 |
| Split Toning Highlight Saturation | 0 |
| Split Toning Shadow Hue | 0 |
| Split Toning Shadow Saturation | 0 |
| Subject | dresden |
| Tint | -3 |
| Tone Curve | 0, 0, 32, 22, 64, 56, 128, 128, 192, 196, 255, 255 |
| Tone Curve Name | Medium Contrast |
| Version | 4.4.1 |
| Vibrance | 0 |
| Vignette Amount | 0 |
| White Balance | Custom |
X