Shooting information for this photo
| Camera: | OLYMPUS IMAGING CORP. E-M1 |
| Exposure: | 0.002 sec. (1/500) |
| Aperture: | f/10.0 |
| Focal Length: | 24.0 mm (35 mm equivalent: 48.0 mm) |
| Flash: | Auto, Did not fire |
| Exposure mode: | Creative (Slow speed) |
| Max Aperture: | 2.8 |
| Resolution: | 300 x 300 dpi |
| Dimension: | 3200 x 2400 pixels |
| Original Date: | 2018:10:31 10:57:22 |
| Created on: | 2018:10:31 10:57:22 |
| Modified on: | 2018:12:02 10:38:05 |
| Software: | Adobe Photoshop CS6 (Windows) |
| Copyright: | Andre Szymczyk |
| Already Applied | True |
| Approximate Focus Distance | 43.6 |
| Artist | Andre Szymczyk |
| Auto Lateral CA | 0 |
| Auto White Version | 134348800 |
| Blacks 2012 | -20 |
| Blue Hue | 0 |
| Blue Saturation | 0 |
| CFA Pattern | [Blue,Green][Green,Red] |
| Camera Profile | Adobe Standard |
| Circle Of Confusion | 0.015 mm |
| Clarity 2012 | +33 |
| Color Mode | RGB |
| Color Noise Reduction | 25 |
| Color Noise Reduction Detail | 50 |
| Color Noise Reduction Smoothness | 50 |
| Color Space | sRGB |
| Color Temperature | 5100 |
| Contrast | High |
| Contrast 2012 | -12 |
| Convert To Grayscale | False |
| Creator | Andre Szymczyk |
| Custom Rendered | Normal |
| Date Created | 2018:10:31 10:57:22+01:00 |
| Defringe Green Amount | 0 |
| Defringe Green Hue Hi | 60 |
| Defringe Green Hue Lo | 40 |
| Defringe Purple Amount | 0 |
| Defringe Purple Hue Hi | 70 |
| Defringe Purple Hue Lo | 30 |
| Dehaze | 0 |
| Description | OLYMPUS DIGITAL CAMERA |
| Digital Zoom Ratio | 1 |
| Distortion Correction Already Applied | True |
| Exposure 2012 | +0.65 |
| Exposure Compensation | 0 |
| Exposure Mode | Auto |
| Field Of View | 41.1 deg |
| Flash Compensation | 0 |
| Focal Length In 35mm Format | 48 mm |
| Format | image/jpeg |
| Gain Control | Low gain up |
| Grain Amount | 0 |
| Green Hue | 0 |
| Green Saturation | 0 |
| Has Crop | False |
| Has Settings | True |
| Highlights 2012 | 0 |
| Hue Adjustment Aqua | 0 |
| Hue Adjustment Blue | 0 |
| Hue Adjustment Green | 0 |
| Hue Adjustment Magenta | 0 |
| Hue Adjustment Orange | 0 |
| Hue Adjustment Purple | 0 |
| Hue Adjustment Red | 0 |
| Hue Adjustment Yellow | 0 |
| Hyperfocal Distance | 3.83 m |
| ICC Profile Name | sRGB IEC61966-2.1 |
| ISO | 200 |
| Image Description | OLYMPUS DIGITAL CAMERA |
| Image Size | 3200x2400 |
| Lateral Chromatic Aberration Correction Already Applied | True |
| Lens | OLYMPUS M.12-40mm F2.8 |
| Lens Info | 12-40mm f/2.8 |
| Lens Manual Distortion Amount | 0 |
| Lens Model | OLYMPUS M.12-40mm F2.8 |
| Lens Profile Enable | 0 |
| Lens Profile Setup | LensDefaults |
| Light Source | Fine Weather |
| Light Value | 14.6 |
| Luminance Adjustment Aqua | 0 |
| Luminance Adjustment Blue | 0 |
| Luminance Adjustment Green | 0 |
| Luminance Adjustment Magenta | 0 |
| Luminance Adjustment Orange | 0 |
| Luminance Adjustment Purple | 0 |
| Luminance Adjustment Red | 0 |
| Luminance Adjustment Yellow | 0 |
| Luminance Smoothing | 0 |
| Metering Mode | Multi-segment |
| Parametric Darks | 0 |
| Parametric Highlight Split | 75 |
| Parametric Highlights | 0 |
| Parametric Lights | 0 |
| Parametric Midtone Split | 50 |
| Parametric Shadow Split | 25 |
| Parametric Shadows | 0 |
| Perspective Aspect | 0 |
| Perspective Horizontal | 0 |
| Perspective Rotate | 0.0 |
| Perspective Scale | 100 |
| Perspective Upright | 0 |
| Perspective Vertical | 0 |
| Photometric Interpretation | RGB |
| Post Crop Vignette Amount | 0 |
| Process Version | 6.7 |
| Raw File Name | PA310316.ORF |
| Red Hue | 0 |
| Red Saturation | 0 |
| Rights | Andre Szymczyk |
| Samples Per Pixel | 3 |
| Saturation | Normal |
| Saturation Adjustment Aqua | 0 |
| Saturation Adjustment Blue | 0 |
| Saturation Adjustment Green | 0 |
| Saturation Adjustment Magenta | 0 |
| Saturation Adjustment Orange | 0 |
| Saturation Adjustment Purple | 0 |
| Saturation Adjustment Red | 0 |
| Saturation Adjustment Yellow | 0 |
| Scale Factor To 35 mm Equivalent | 2.0 |
| Scene Capture Type | Landscape |
| Sensitivity Type | Standard Output Sensitivity |
| Shadow Tint | 0 |
| Shadows 2012 | 0 |
| Sharpen Detail | 25 |
| Sharpen Edge Masking | 0 |
| Sharpen Radius | +1.0 |
| Sharpness | Hard |
| Split Toning Balance | 0 |
| Split Toning Highlight Hue | 0 |
| Split Toning Highlight Saturation | 0 |
| Split Toning Shadow Hue | 0 |
| Split Toning Shadow Saturation | 0 |
| Tint | +8 |
| Tone Curve | 0, 0, 32, 22, 64, 56, 128, 128, 192, 196, 255, 255 |
| Tone Curve Blue | 0, 0, 255, 255 |
| Tone Curve Green | 0, 0, 255, 255 |
| Tone Curve Name | Medium Contrast |
| Tone Curve Name 2012 | Linear |
| Tone Curve PV2012 | 0, 0, 255, 255 |
| Tone Curve PV2012 Blue | 0, 0, 255, 255 |
| Tone Curve PV2012 Green | 0, 0, 255, 255 |
| Tone Curve PV2012 Red | 0, 0, 255, 255 |
| Tone Curve Red | 0, 0, 255, 255 |
| Tone Map Strength | 0 |
| Version | 9.1.1 |
| Vibrance | +33 |
| Vignette Amount | 0 |
| White Balance | Manual |
| Whites 2012 | +37 |
X