Shooting information for this photo
| Camera: | OLYMPUS IMAGING CORP. E-M1 |
| Exposure: | 0.004 sec. (1/250) |
| Aperture: | f/4.5 |
| Focal Length: | 40.0 mm (35 mm equivalent: 80.0 mm) |
| Flash: | On, Did not fire |
| Exposure mode: | Shutter speed priority AE |
| Max Aperture: | 2.8 |
| Resolution: | 300 x 300 dpi |
| Dimension: | 3200 x 2400 pixels |
| Original Date: | 2018:10:29 15:26:17 |
| Created on: | 2018:10:29 15:26:17 |
| Modified on: | 2018:11:30 22:11:45 |
| Software: | Adobe Photoshop CS6 (Windows) |
| Copyright: | Andre Szymczyk |
| Already Applied | True |
| Approximate Focus Distance | 3.82 |
| Artist | Andre Szymczyk |
| Auto Lateral CA | 0 |
| Auto White Version | 134348800 |
| Blacks 2012 | -24 |
| Blue Hue | 0 |
| Blue Saturation | 0 |
| CFA Pattern | [Blue,Green][Green,Red] |
| Camera Profile | Adobe Standard |
| Circle Of Confusion | 0.015 mm |
| Clarity 2012 | +33 |
| Color Mode | RGB |
| Color Noise Reduction | 25 |
| Color Noise Reduction Detail | 50 |
| Color Noise Reduction Smoothness | 50 |
| Color Space | sRGB |
| Color Temperature | 5100 |
| Contrast | Normal |
| Contrast 2012 | -7 |
| Convert To Grayscale | False |
| Creator | Andre Szymczyk |
| Custom Rendered | Normal |
| Date Created | 2018:10:29 15:26:17+01:00 |
| Defringe Green Amount | 0 |
| Defringe Green Hue Hi | 60 |
| Defringe Green Hue Lo | 40 |
| Defringe Purple Amount | 0 |
| Defringe Purple Hue Hi | 70 |
| Defringe Purple Hue Lo | 30 |
| Dehaze | 0 |
| Description | OLYMPUS DIGITAL CAMERA |
| Digital Zoom Ratio | 1 |
| Distortion Correction Already Applied | True |
| Exposure 2012 | +0.15 |
| Exposure Compensation | 0 |
| Exposure Mode | Auto |
| Field Of View | 25.4 deg |
| Flash Compensation | 0 |
| Focal Length In 35mm Format | 80 mm |
| Format | image/jpeg |
| Gain Control | Low gain up |
| Grain Amount | 0 |
| Green Hue | 0 |
| Green Saturation | 0 |
| Has Crop | False |
| Has Settings | True |
| Highlights 2012 | -39 |
| Hue Adjustment Aqua | 0 |
| Hue Adjustment Blue | 0 |
| Hue Adjustment Green | 0 |
| Hue Adjustment Magenta | 0 |
| Hue Adjustment Orange | 0 |
| Hue Adjustment Purple | 0 |
| Hue Adjustment Red | 0 |
| Hue Adjustment Yellow | 0 |
| Hyperfocal Distance | 23.67 m |
| ICC Profile Name | sRGB IEC61966-2.1 |
| ISO | 200 |
| Image Description | OLYMPUS DIGITAL CAMERA |
| Image Size | 3200x2400 |
| Lateral Chromatic Aberration Correction Already Applied | True |
| Lens | OLYMPUS M.12-40mm F2.8 |
| Lens Info | 12-40mm f/2.8 |
| Lens Manual Distortion Amount | 0 |
| Lens Model | OLYMPUS M.12-40mm F2.8 |
| Lens Profile Enable | 0 |
| Lens Profile Setup | LensDefaults |
| Light Source | Unknown |
| Light Value | 11.3 |
| Luminance Adjustment Aqua | 0 |
| Luminance Adjustment Blue | 0 |
| Luminance Adjustment Green | 0 |
| Luminance Adjustment Magenta | 0 |
| Luminance Adjustment Orange | 0 |
| Luminance Adjustment Purple | 0 |
| Luminance Adjustment Red | 0 |
| Luminance Adjustment Yellow | 0 |
| Luminance Smoothing | 0 |
| Metering Mode | Multi-segment |
| Parametric Darks | 0 |
| Parametric Highlight Split | 75 |
| Parametric Highlights | 0 |
| Parametric Lights | 0 |
| Parametric Midtone Split | 50 |
| Parametric Shadow Split | 25 |
| Parametric Shadows | 0 |
| Perspective Aspect | 0 |
| Perspective Horizontal | 0 |
| Perspective Rotate | 0.0 |
| Perspective Scale | 100 |
| Perspective Upright | 0 |
| Perspective Vertical | 0 |
| Photometric Interpretation | RGB |
| Post Crop Vignette Amount | 0 |
| Process Version | 6.7 |
| Rating | 5 |
| Raw File Name | PA290127.ORF |
| Red Hue | 0 |
| Red Saturation | 0 |
| Rights | Andre Szymczyk |
| Samples Per Pixel | 3 |
| Saturation | Normal |
| Saturation Adjustment Aqua | 0 |
| Saturation Adjustment Blue | 0 |
| Saturation Adjustment Green | 0 |
| Saturation Adjustment Magenta | 0 |
| Saturation Adjustment Orange | 0 |
| Saturation Adjustment Purple | 0 |
| Saturation Adjustment Red | 0 |
| Saturation Adjustment Yellow | 0 |
| Scale Factor To 35 mm Equivalent | 2.0 |
| Scene Capture Type | Standard |
| Sensitivity Type | Standard Output Sensitivity |
| Shadow Tint | 0 |
| Shadows 2012 | +39 |
| Sharpen Detail | 25 |
| Sharpen Edge Masking | 0 |
| Sharpen Radius | +1.0 |
| Sharpness | Normal |
| Split Toning Balance | 0 |
| Split Toning Highlight Hue | 0 |
| Split Toning Highlight Saturation | 0 |
| Split Toning Shadow Hue | 0 |
| Split Toning Shadow Saturation | 0 |
| Tint | +9 |
| Tone Curve | 0, 0, 32, 22, 64, 56, 128, 128, 192, 196, 255, 255 |
| Tone Curve Blue | 0, 0, 255, 255 |
| Tone Curve Green | 0, 0, 255, 255 |
| Tone Curve Name | Medium Contrast |
| Tone Curve Name 2012 | Linear |
| Tone Curve PV2012 | 0, 0, 255, 255 |
| Tone Curve PV2012 Blue | 0, 0, 255, 255 |
| Tone Curve PV2012 Green | 0, 0, 255, 255 |
| Tone Curve PV2012 Red | 0, 0, 255, 255 |
| Tone Curve Red | 0, 0, 255, 255 |
| Tone Map Strength | 0 |
| Version | 9.1.1 |
| Vibrance | +33 |
| Vignette Amount | 0 |
| White Balance | Auto |
| Whites 2012 | +9 |
X