Shooting information for this photo
| Camera: | Canon EOS 7D |
| Exposure: | 0.03333 sec. (1/30) |
| Aperture: | f/8.0 |
| Focal Length: | 170.0 mm (35 mm equivalent: 267.0 mm) |
| Flash: | Off, Did not fire |
| Exposure mode: | Aperture-priority AE |
| Max Aperture: | 2.8 |
| Resolution: | 300 x 300 dpi |
| Dimension: | 2048 x 1368 pixels |
| Original Date: | 2025:09:07 20:14:14.35 |
| Created on: | 2025:09:07 20:14:14.35 |
| Modified on: | 2025:09:08 09:23:35.35 |
| Software: | Adobe Photoshop 26.10 (Windows) |
| Allow Filters | 1 |
| Already Applied | True |
| Approximate Focus Distance | 4294967295 |
| Artist | ABS Photos |
| Auto Lateral CA | 1 |
| Blacks 2012 | -72 |
| Blue Hue | 0 |
| Blue Saturation | 0 |
| Camera Profile | Adobe Standard |
| Circle Of Confusion | 0.019 mm |
| Clarity 2012 | 0 |
| Color Grade Blending | 50 |
| Color Grade Global Hue | 0 |
| Color Grade Global Lum | 0 |
| Color Grade Global Sat | 0 |
| Color Grade Highlight Lum | 0 |
| Color Grade Midtone Hue | 0 |
| Color Grade Midtone Lum | 0 |
| Color Grade Midtone Sat | 0 |
| Color Grade Shadow Lum | 0 |
| Color Mode | RGB |
| Color Noise Reduction | 0 |
| Color Space | Uncalibrated |
| Color Temperature | 7450 |
| Color Variance | -50.000000 |
| Compatible Version | 285212672 |
| Contrast 2012 | +7 |
| Creator | ABS Photos |
| Custom Rendered | Normal |
| Date Created | 2025:09:07 20:14:14.035 |
| Defringe Green Amount | 0 |
| Defringe Green Hue Hi | 60 |
| Defringe Green Hue Lo | 40 |
| Defringe Purple Amount | 0 |
| Defringe Purple Hue Hi | 70 |
| Defringe Purple Hue Lo | 30 |
| Dehaze | 0 |
| Distortion Correction Already Applied | True |
| Exposure 2012 | +0.55 |
| Exposure Compensation | 0 |
| Exposure Mode | Auto |
| Field Of View | 7.7 deg |
| Filter List Filters Compressed Settings | D6C9926354E1D04F9B3EF5A5CA287F 11 |
| Filter List Filters Dst Bounds Bottom | 3465 |
| Filter List Filters Dst Bounds Left | 0 |
| Filter List Filters Dst Bounds Right | 5202 |
| Filter List Filters Dst Bounds Top | 0 |
| Filter List Filters Dst Default Crop Area Bottom | 3461 |
| Filter List Filters Dst Default Crop Area Left | 10 |
| Filter List Filters Dst Default Crop Area Right | 5194 |
| Filter List Filters Dst Default Crop Area Top | 5 |
| Filter List Filters Filter ID | 1 |
| Filter List Filters Images Blend Params | 0.665289255790412, 0.71875, 1, 1 |
| Filter List Filters Images Blend Type | 1 |
| Filter List Filters Images Blend White Balance Mode | 2 |
| Filter List Filters Images Color Variations Black Levels Black | 0,1 |
| Filter List Filters Images Color Variations Image Group Pixel Type | 3 |
| Filter List Filters Images Color Variations Image Group Planes | 3 |
| Filter List Filters Images Color Variations Image Group Size X | 5202 |
| Filter List Filters Images Color Variations Image Group Size Y | 3465 |
| Filter List Filters Images Color Variations Image Group Stage 3X | 5184 |
| Filter List Filters Images Color Variations Image Group Stage 3Y | 3456 |
| Filter List Filters Images Color Variations Linearization Map Polynomial | 0.00149595178663731, 0.0624065026640892, 0, 0.936097544617951, 0.0053150299936533, 0.0621678102761507, 0, 0.932517159730196, 0.00522703304886818, 0.0621733106672764, 0, 0.932599657215178 |
| Filter List Filters Images Matrix Params A | 0.25, 0.25 |
| Filter List Filters Images Matrix Params B | 0.25, 0.25 |
| Filter List Filters Images Matrix Type A | 1 |
| Filter List Filters Images Matrix Type B | 1 |
| Filter List Filters Images Matrix Type C | 4 |
| Filter List Filters Images Opacity | 1,1 |
| Filter List Filters Images Reference Default Crop Area Bottom | 3461 |
| Filter List Filters Images Reference Default Crop Area Left | 10 |
| Filter List Filters Images Reference Default Crop Area Right | 5194 |
| Filter List Filters Images Reference Default Crop Area Top | 5 |
| Filter List Filters Images Reference Image Area Bottom | 3465 |
| Filter List Filters Images Reference Image Area Left | 0 |
| Filter List Filters Images Reference Image Area Right | 5202 |
| Filter List Filters Images Reference Image Area Top | 0 |
| Filter List Filters Min Display Version | 285212672 |
| Filter List Filters Min Edit Version | 285212672 |
| Filter List Filters Name | Enhance |
| Filter List Filters Order Index D | 1 |
| Filter List Filters Order Index N | 100000 |
| Filter List Filters Should Delete Images Due To Upstream | true |
| Filter List Filters Src Bounds Bottom | 3465 |
| Filter List Filters Src Bounds Left | 0 |
| Filter List Filters Src Bounds Right | 5202 |
| Filter List Filters Src Bounds Top | 0 |
| Filter List Filters Src Default Crop Area Bottom | 3461 |
| Filter List Filters Src Default Crop Area Left | 10 |
| Filter List Filters Src Default Crop Area Right | 5194 |
| Filter List Filters Src Default Crop Area Top | 5 |
| Filter List Filters Title | $$$/CRaw/Filter/Title/Denoise= Denoise |
| Firmware | 2.0.6 |
| Flash Compensation | 0 |
| Format | image/jpeg |
| Grain Amount | 0 |
| Green Hue | 0 |
| Green Saturation | 0 |
| HDR Edit Mode | 0 |
| Has Crop | False |
| Has Settings | True |
| Highlights 2012 | -60 |
| Hue Adjustment Aqua | 0 |
| Hue Adjustment Blue | 0 |
| Hue Adjustment Green | 0 |
| Hue Adjustment Magenta | 0 |
| Hue Adjustment Orange | 0 |
| Hue Adjustment Purple | 0 |
| Hue Adjustment Red | 0 |
| Hue Adjustment Yellow | 0 |
| Hyperfocal Distance | 188.80 m |
| ICC Profile Name | Adobe RGB (1998) |
| ISO | 3200 |
| Image Number | 0 |
| Image Size | 2048x1368 |
| Lateral Chromatic Aberration Correction Already Applied | True |
| Lens | EF70-200mm f/2.8L USM |
| Lens ID | Canon EF 70-200mm f/2.8 L |
| Lens Info | 70-200mm f/? |
| Lens Manual Distortion Amount | 0 |
| Lens Model | EF70-200mm f/2.8L USM |
| Lens Profile Distortion Scale | 100 |
| Lens Profile Enable | 1 |
| Lens Profile Filename | Canon EOS-1Ds Mark III (Canon EF 70-200mm f2.8 L USM) - RAW.lcp |
| Lens Profile Is Embedded | False |
| Lens Profile Name | Adobe (Canon EF 70-200mm f/2.8 L USM) |
| Lens Profile Setup | LensDefaults |
| Lens Profile Vignetting Scale | 100 |
| Light Value | 5.9 |
| Look Amount | 1 |
| Look Copyright | © 2018 Adobe Systems, Inc. |
| Look Group | Profiles |
| Look Name | Adobe Color |
| Look Parameters Camera Profile | Adobe Standard |
| Look Parameters Convert To Grayscale | False |
| Look Parameters Look Table | E1095149FDB39D7A057BAB208837E2 E1 |
| Look Parameters Process Version | 15.4 |
| Look Parameters Tone Curve PV2012 | 0, 0, 22, 16, 40, 35, 127, 127, 224, 230, 240, 246, 255, 255 |
| Look Parameters Tone Curve PV2012 Blue | 0, 0, 255, 255 |
| Look Parameters Tone Curve PV2012 Green | 0, 0, 255, 255 |
| Look Parameters Tone Curve PV2012 Red | 0, 0, 255, 255 |
| Look Parameters Version | 17.5 |
| Look Supports Amount | false |
| Look Supports Monochrome | false |
| Look Supports Output Referred | false |
| Luminance Adjustment Aqua | 0 |
| Luminance Adjustment Blue | 0 |
| Luminance Adjustment Green | 0 |
| Luminance Adjustment Magenta | 0 |
| Luminance Adjustment Orange | 0 |
| Luminance Adjustment Purple | 0 |
| Luminance Adjustment Red | 0 |
| Luminance Adjustment Yellow | 0 |
| Luminance Smoothing | 0 |
| Metering Mode | Partial |
| Override Look Vignette | False |
| Parametric Darks | 0 |
| Parametric Highlight Split | 75 |
| Parametric Highlights | 0 |
| Parametric Lights | 0 |
| Parametric Midtone Split | 50 |
| Parametric Shadow Split | 25 |
| Parametric Shadows | 0 |
| Perspective Aspect | 0 |
| Perspective Horizontal | 0 |
| Perspective Rotate | 0.0 |
| Perspective Scale | 100 |
| Perspective Upright | 1 |
| Perspective Vertical | 0 |
| Perspective X | 0.00 |
| Perspective Y | 0.00 |
| Point Colors | -1.000000, -1.000000, -1.000000, -1.000000, -1.000000, -1.000000, -1.000000, -1.000000, -1.000000, -1.000000, -1.000000, -1.000000, -1.000000, -1.000000, -1.000000, -1.000000, -1.000000, -1.000000, -1.000000 |
| Post Crop Vignette Amount | 0 |
| Process Version | 15.4 |
| Rating | 0 |
| Recommended Exposure Index | 3200 |
| Red Hue | 0 |
| Red Saturation | 0 |
| Saturation | -5 |
| Saturation Adjustment Aqua | 0 |
| Saturation Adjustment Blue | 0 |
| Saturation Adjustment Green | 0 |
| Saturation Adjustment Magenta | 0 |
| Saturation Adjustment Orange | 0 |
| Saturation Adjustment Purple | 0 |
| Saturation Adjustment Red | 0 |
| Saturation Adjustment Yellow | 0 |
| Scale Factor To 35 mm Equivalent | 1.6 |
| Scene Capture Type | Standard |
| Sensitivity Type | Recommended Exposure Index |
| Shadow Tint | 0 |
| Shadows 2012 | +100 |
| Sharpen Detail | 25 |
| Sharpen Edge Masking | 0 |
| Sharpen Radius | +1.0 |
| Sharpness | 40 |
| Split Toning Balance | 0 |
| Split Toning Highlight Hue | 0 |
| Split Toning Highlight Saturation | 0 |
| Split Toning Shadow Hue | 0 |
| Split Toning Shadow Saturation | 0 |
| Texture | 0 |
| Tint | +5 |
| Tone Curve Name 2012 | Linear |
| Tone Curve PV2012 | 0, 0, 255, 255 |
| Tone Curve PV2012 Blue | 0, 0, 255, 255 |
| Tone Curve PV2012 Green | 0, 0, 255, 255 |
| Tone Curve PV2012 Red | 0, 0, 255, 255 |
| Version | 17.5 |
| Vibrance | +11 |
| Vignette Amount | 0 |
| Vignette Correction Already Applied | True |
| White Balance | Auto |
| Whites 2012 | -7 |
X