Shooting information for this photo
| Camera: | Canon EOS 5D Mark IV |
| Exposure: | 0.00156 sec. (1/640) |
| Aperture: | f/7.1 |
| Focal Length: | 32.0 mm (35 mm equivalent: 104.8 mm) |
| Flash: | Off, Did not fire |
| Exposure mode: | Aperture-priority AE |
| Max Aperture: | 4.0 |
| Resolution: | 300 x 300 dpi |
| Dimension: | 2048 x 1373 pixels |
| Original Date: | 2025:03:04 16:36:26.51 |
| Created on: | 2025:03:04 16:36:26.51 |
| Modified on: | 2025:05:17 17:30:45.51 |
| Software: | Adobe Photoshop 26.6 (Windows) |
| Already Applied | True |
| Approximate Focus Distance | 3.72 |
| Artist | ABSutter |
| Auto Lateral CA | 1 |
| Blacks 2012 | -9 |
| Blue Hue | 0 |
| Blue Saturation | 0 |
| Camera Profile | Adobe Standard |
| Circle Of Confusion | 0.009 mm |
| Clarity 2012 | +23 |
| Color Grade Blending | 50 |
| Color Grade Global Hue | 0 |
| Color Grade Global Lum | 0 |
| Color Grade Global Sat | 0 |
| Color Grade Highlight Lum | 0 |
| Color Grade Midtone Hue | 0 |
| Color Grade Midtone Lum | 0 |
| Color Grade Midtone Sat | 0 |
| Color Grade Shadow Lum | 0 |
| Color Mode | RGB |
| Color Noise Reduction | 25 |
| Color Noise Reduction Detail | 50 |
| Color Noise Reduction Smoothness | 50 |
| Color Space | Uncalibrated |
| Color Temperature | 5050 |
| Contrast 2012 | +7 |
| Creator | ABSutter |
| Custom Rendered | Normal |
| Date Created | 2025:03:04 16:36:26.051+02:00 |
| Defringe Green Amount | 0 |
| Defringe Green Hue Hi | 60 |
| Defringe Green Hue Lo | 40 |
| Defringe Purple Amount | 0 |
| Defringe Purple Hue Hi | 70 |
| Defringe Purple Hue Lo | 30 |
| Dehaze | +12 |
| Distortion Correction Already Applied | True |
| Exposure 2012 | +0.74 |
| Exposure Compensation | -1 |
| Exposure Mode | Auto |
| Field Of View | 19.5 deg |
| Firmware | 1.3.3 |
| Flash Compensation | 0 |
| Format | image/jpeg |
| Grain Amount | 0 |
| Green Hue | 0 |
| Green Saturation | 0 |
| HDR Edit Mode | 0 |
| Has Crop | False |
| Has Settings | True |
| Highlights 2012 | -65 |
| Hue Adjustment Aqua | 0 |
| Hue Adjustment Blue | 0 |
| Hue Adjustment Green | 0 |
| Hue Adjustment Magenta | 0 |
| Hue Adjustment Orange | 0 |
| Hue Adjustment Purple | 0 |
| Hue Adjustment Red | 0 |
| Hue Adjustment Yellow | 0 |
| Hyperfocal Distance | 15.72 m |
| ICC Profile Name | Adobe RGB (1998) |
| ISO | 320 |
| Image Number | 0 |
| Image Size | 2048x1373 |
| Lateral Chromatic Aberration Correction Already Applied | True |
| Lens | EF17-40mm f/4L USM |
| Lens ID | Canon EF 17-40mm f/4L |
| Lens Info | 17-40mm f/? |
| Lens Manual Distortion Amount | 0 |
| Lens Model | EF17-40mm f/4L USM |
| Lens Profile Distortion Scale | 100 |
| Lens Profile Enable | 1 |
| Lens Profile Filename | Canon EOS-1Ds Mark III (Canon EF 17-40mm f4 L USM) - RAW.lcp |
| Lens Profile Is Embedded | False |
| Lens Profile Name | Adobe (Canon EF 17-40mm f/4 L USM) |
| Lens Profile Setup | LensDefaults |
| Lens Profile Vignetting Scale | 100 |
| Light Value | 13.3 |
| Look Amount | 1 |
| Look Copyright | © 2018 Adobe Systems, Inc. |
| Look Group | Profiles |
| Look Name | Adobe Color |
| Look Parameters Camera Profile | Adobe Standard |
| Look Parameters Convert To Grayscale | False |
| Look Parameters Look Table | E1095149FDB39D7A057BAB208837E2 E1 |
| Look Parameters Process Version | 15.4 |
| Look Parameters Tone Curve PV2012 | 0, 0, 22, 16, 40, 35, 127, 127, 224, 230, 240, 246, 255, 255 |
| Look Parameters Tone Curve PV2012 Blue | 0, 0, 255, 255 |
| Look Parameters Tone Curve PV2012 Green | 0, 0, 255, 255 |
| Look Parameters Tone Curve PV2012 Red | 0, 0, 255, 255 |
| Look Parameters Version | 17.2 |
| Look Supports Amount | false |
| Look Supports Monochrome | false |
| Look Supports Output Referred | false |
| Luminance Adjustment Aqua | 0 |
| Luminance Adjustment Blue | 0 |
| Luminance Adjustment Green | 0 |
| Luminance Adjustment Magenta | 0 |
| Luminance Adjustment Orange | 0 |
| Luminance Adjustment Purple | 0 |
| Luminance Adjustment Red | 0 |
| Luminance Adjustment Yellow | 0 |
| Luminance Smoothing | 0 |
| Metering Mode | Multi-segment |
| Override Look Vignette | False |
| Parametric Darks | 0 |
| Parametric Highlight Split | 75 |
| Parametric Highlights | 0 |
| Parametric Lights | 0 |
| Parametric Midtone Split | 50 |
| Parametric Shadow Split | 25 |
| Parametric Shadows | 0 |
| Perspective Aspect | 0 |
| Perspective Horizontal | 0 |
| Perspective Rotate | 0.0 |
| Perspective Scale | 100 |
| Perspective Upright | 1 |
| Perspective Vertical | 0 |
| Perspective X | 0.00 |
| Perspective Y | 0.00 |
| Photometric Interpretation | RGB |
| Point Colors | -1.000000, -1.000000, -1.000000, -1.000000, -1.000000, -1.000000, -1.000000, -1.000000, -1.000000, -1.000000, -1.000000, -1.000000, -1.000000, -1.000000, -1.000000, -1.000000, -1.000000, -1.000000, -1.000000 |
| Post Crop Vignette Amount | 0 |
| Process Version | 15.4 |
| Rating | 0 |
| Recommended Exposure Index | 320 |
| Red Hue | 0 |
| Red Saturation | 0 |
| Samples Per Pixel | 3 |
| Saturation | 0 |
| Saturation Adjustment Aqua | 0 |
| Saturation Adjustment Blue | 0 |
| Saturation Adjustment Green | 0 |
| Saturation Adjustment Magenta | 0 |
| Saturation Adjustment Orange | 0 |
| Saturation Adjustment Purple | 0 |
| Saturation Adjustment Red | 0 |
| Saturation Adjustment Yellow | 0 |
| Scale Factor To 35 mm Equivalent | 3.3 |
| Scene Capture Type | Standard |
| Sensitivity Type | Recommended Exposure Index |
| Shadow Tint | 0 |
| Shadows 2012 | +51 |
| Sharpen Detail | 25 |
| Sharpen Edge Masking | 0 |
| Sharpen Radius | +1.0 |
| Sharpness | 40 |
| Split Toning Balance | 0 |
| Split Toning Highlight Hue | 0 |
| Split Toning Highlight Saturation | 0 |
| Split Toning Shadow Hue | 0 |
| Split Toning Shadow Saturation | 0 |
| Texture | 0 |
| Tint | +6 |
| Tone Curve Name 2012 | Linear |
| Tone Curve PV2012 | 0, 0, 255, 255 |
| Tone Curve PV2012 Blue | 0, 0, 255, 255 |
| Tone Curve PV2012 Green | 0, 0, 255, 255 |
| Tone Curve PV2012 Red | 0, 0, 255, 255 |
| Version | 17.2 |
| Vibrance | +14 |
| Vignette Amount | 0 |
| Vignette Correction Already Applied | True |
| White Balance | Manual |
| Whites 2012 | +28 |
X