Shooting information for this photo
Camera: | OLYMPUS CORPORATION C5060WZ |
Exposure: | 0.00156 sec. (1/640) |
Aperture: | f/4.8 |
Focal Length: | 9.8 mm |
Flash: | Off, Did not fire |
Exposure mode: | Program AE |
Max Aperture: | 3.1 |
Resolution: | 240 x 240 dpi |
Dimension: | 800 x 600 pixels |
Original Date: | 2005:04:24 14:49:23 |
Digitized Date: | 2005:04:24 14:49:23+02:00 |
Created on: | 2005:04:24 14:49:23 |
Modified on: | 2009:11:14 00:33:05 |
Software: | v756-83 |
Already Applied | True |
Blue Hue | 0 |
Blue Saturation | 0 |
Brightness | +2 |
Camera Profile | ACR 4.4 |
Chromatic Aberration B | 0 |
Chromatic Aberration R | 0 |
Clarity | 0 |
Color Noise Reduction | 0 |
Contrast | +86 |
Convert To Grayscale | True |
Crop Angle | 0 |
Crop Bottom | 0.897611 |
Crop Height | 600 |
Crop Left | 0.204778 |
Crop Right | 1 |
Crop Top | 0.102389 |
Crop Unit | pixels |
Crop Width | 800 |
Custom Rendered | Normal |
Defringe | 0 |
Description | OLYMPUS DIGITAL CAMERA |
Digital Zoom Ratio | 0 |
Exposure | -0.06 |
Exposure Compensation | 0 |
Exposure Mode | Auto |
Fill Light | 61 |
Flash Fired | False |
Flash Function | False |
Flash Mode | Off |
Flash Red Eye Mode | False |
Flash Return | No return detection |
Gain Control | None |
Gradient Based Corr Active | true |
Gradient Based Corr Amount | 1.000000 |
Gradient Based Corr Brightness | 0.000000 |
Gradient Based Corr Clarity | -1.000000 |
Gradient Based Corr Contrast | 0.000000 |
Gradient Based Corr Exposure | 0.000000 |
Gradient Based Corr Hue | 240.000000 |
Gradient Based Corr Mask Full X | 0.066359 |
Gradient Based Corr Mask Full Y | 1.001160 |
Gradient Based Corr Mask Value | 1.000000 |
Gradient Based Corr Mask What | Mask/Gradient |
Gradient Based Corr Mask Zero X | 0.194053 |
Gradient Based Corr Mask Zero Y | 0.691496 |
Gradient Based Corr Saturation | 0.000000 |
Gradient Based Corr Sharpness | 0.250000 |
Gradient Based Corr What | Correction |
Gray Mixer Aqua | -19 |
Gray Mixer Blue | +9 |
Gray Mixer Green | -27 |
Gray Mixer Magenta | +4 |
Gray Mixer Orange | -18 |
Gray Mixer Purple | +15 |
Gray Mixer Red | -9 |
Gray Mixer Yellow | -22 |
Green Hue | 0 |
Green Saturation | 0 |
Has Crop | True |
Has Settings | True |
Highlight Recovery | 0 |
ISO | 80 |
Image Description | OLYMPUS DIGITAL CAMERA |
Image Size | 800x600 |
Incremental Temperature | +24 |
Incremental Tint | -28 |
Light Source | Unknown |
Light Value | 14.2 |
Luminance Smoothing | 0 |
Metering Mode | Multi-segment |
Parametric Darks | -45 |
Parametric Highlight Split | 75 |
Parametric Highlights | -24 |
Parametric Lights | -26 |
Parametric Midtone Split | 50 |
Parametric Shadow Split | 25 |
Parametric Shadows | +42 |
Post Crop Vignette Amount | 0 |
Red Hue | 0 |
Red Saturation | 0 |
Saturation | Normal |
Scene Capture Type | Standard |
Scene Type | Directly photographed |
Shadow Tint | 0 |
Shadows | 7 |
Sharpen Detail | 25 |
Sharpen Edge Masking | 0 |
Sharpen Radius | +1.0 |
Sharpness | 25 |
Split Toning Balance | 0 |
Split Toning Highlight Hue | 53 |
Split Toning Highlight Saturation | 8 |
Split Toning Shadow Hue | 46 |
Split Toning Shadow Saturation | 5 |
Tone Curve | 0, 0, 32, 22, 64, 56, 128, 128, 192, 196, 255, 255 |
Tone Curve Name | Medium Contrast |
Version | 4.5 |
Vignette Amount | -92 |
Vignette Midpoint | 17 |
White Balance | Custom |