Shooting information for this photo
Camera: | Canon EOS 350D DIGITAL |
Exposure: | 0.01667 sec. (1/60) |
Aperture: | f/10.0 |
Focal Length: | 50.0 mm (35 mm equivalent: 350.5 mm) |
Flash: | Off, Did not fire |
Exposure mode: | Aperture-priority AE |
Resolution: | 240 x 240 dpi |
Dimension: | 800 x 533 pixels |
Original Date: | 2008:07:26 18:04:26 |
Digitized Date: | 2008:07:26 18:04:26+02:00 |
Created on: | 2008:07:26 18:04:26 |
Modified on: | 2009:09:19 22:39:11 |
Already Applied | True |
Artist | unknown |
Blue Hue | 0 |
Blue Saturation | +8 |
Brightness | -100 |
Camera Profile | Beta |
Chromatic Aberration B | 0 |
Chromatic Aberration R | 0 |
Circle Of Confusion | 0.004 mm |
Clarity | +36 |
Color Noise Reduction | 25 |
Contrast | +45 |
Convert To Grayscale | False |
Creator | unknown |
Crop Angle | 2.17447 |
Crop Bottom | 0.999148 |
Crop Height | 533 |
Crop Left | 0.039703 |
Crop Right | 0.960297 |
Crop Top | 0.000852 |
Crop Unit | pixels |
Crop Width | 800 |
Custom Rendered | Normal |
Defringe | 0 |
Exposure | -0.12 |
Exposure Compensation | 0 |
Exposure Mode | Auto |
Field Of View | 5.9 deg |
Fill Light | 89 |
Firmware | 1.0.3 |
Flash Compensation | 0 |
Flash Fired | False |
Flash Function | False |
Flash Mode | Off |
Flash Red Eye Mode | False |
Flash Return | No return detection |
Green Hue | 0 |
Green Saturation | +6 |
Has Crop | True |
Has Settings | True |
Highlight Recovery | 86 |
Hue Adjustment Aqua | 0 |
Hue Adjustment Blue | 0 |
Hue Adjustment Green | 0 |
Hue Adjustment Magenta | 0 |
Hue Adjustment Orange | 0 |
Hue Adjustment Purple | 0 |
Hue Adjustment Red | 0 |
Hue Adjustment Yellow | 0 |
Hyperfocal Distance | 58.32 m |
ISO | 100 |
Image Number | 229 |
Image Size | 800x533 |
Incremental Temperature | 0 |
Incremental Tint | -14 |
Lens | 50.0 mm |
Lens Info | 50mm f/? |
Light Value | 12.6 |
Luminance Adjustment Aqua | 0 |
Luminance Adjustment Blue | 0 |
Luminance Adjustment Green | 0 |
Luminance Adjustment Magenta | 0 |
Luminance Adjustment Orange | 0 |
Luminance Adjustment Purple | 0 |
Luminance Adjustment Red | 0 |
Luminance Adjustment Yellow | 0 |
Luminance Smoothing | 8 |
Metering Mode | Partial |
Owner Name | unknown |
Parametric Darks | 0 |
Parametric Highlight Split | 75 |
Parametric Highlights | -23 |
Parametric Lights | -10 |
Parametric Midtone Split | 50 |
Parametric Shadow Split | 25 |
Parametric Shadows | 0 |
Post Crop Vignette Amount | 0 |
Red Hue | 0 |
Red Saturation | -6 |
Saturation | -15 |
Saturation Adjustment Aqua | 0 |
Saturation Adjustment Blue | 0 |
Saturation Adjustment Green | 0 |
Saturation Adjustment Magenta | 0 |
Saturation Adjustment Orange | 0 |
Saturation Adjustment Purple | 0 |
Saturation Adjustment Red | 0 |
Saturation Adjustment Yellow | 0 |
Scale Factor To 35 mm Equivalent | 7.0 |
Scene Capture Type | Standard |
Shadow Tint | +5 |
Shadows | 15 |
Sharpen Detail | 25 |
Sharpen Edge Masking | 0 |
Sharpen Radius | +1.0 |
Sharpness | 34 |
Split Toning Balance | 0 |
Split Toning Highlight Hue | 0 |
Split Toning Highlight Saturation | 0 |
Split Toning Shadow Hue | 0 |
Split Toning Shadow Saturation | 0 |
Tone Curve | 0, 0, 32, 16, 64, 50, 128, 128, 192, 202, 255, 255 |
Tone Curve Name | Strong Contrast |
Version | 4.5 |
Vibrance | 0 |
Vignette Amount | -58 |
Vignette Midpoint | 5 |
White Balance | Custom |