Shooting information for this photo
| Camera: | Canon PowerShot S95 |
| Exposure: | 0.07692 sec. (1/13) |
| Aperture: | f/4.0 |
| Focal Length: | 6.0 mm (35 mm equivalent: 28.0 mm) |
| Flash: | Off, Did not fire |
| Max Aperture: | 2.0 |
| Resolution: | 72 x 72 dpi |
| Original Date: | 2014:07:19 20:54:51 |
| Created on: | 2014:07:19 20:54:51 |
| Modified on: | 2014:07:20 15:57:37 |
| Software: | Adobe Photoshop Lightroom 4.4 (Macintosh) |
| Already Applied | True |
| Approximate Focus Distance | 1.48 |
| Auto Lateral CA | 0 |
| Blacks 2012 | 0 |
| Blue Hue | 0 |
| Blue Saturation | 0 |
| Camera Profile | Adobe Standard |
| Circle Of Confusion | 0.006 mm |
| Clarity 2012 | +32 |
| Color Noise Reduction | 25 |
| Color Noise Reduction Detail | 50 |
| Color Temperature | 2950 |
| Contrast 2012 | 0 |
| Convert To Grayscale | True |
| Crop Angle | 0 |
| Crop Bottom | 1 |
| Crop Constrain To Warp | 0 |
| Crop Height | 768 |
| Crop Left | 0.109714 |
| Crop Right | 1 |
| Crop Top | 0 |
| Crop Unit | pixels |
| Crop Width | 912 |
| Custom Rendered | Normal |
| Date Created | 2014:07:19 20:54:51 |
| Digital Zoom Ratio | 1 |
| Exposure 2012 | -1.45 |
| Exposure Compensation | 0 |
| Exposure Mode | Auto |
| Field Of View | 65.5 deg |
| Firmware | 1.00 |
| Flash Compensation | 0 |
| Format | image/jpeg |
| Grain Amount | 0 |
| Gray Mixer Aqua | -35 |
| Gray Mixer Blue | -9 |
| Gray Mixer Green | -21 |
| Gray Mixer Magenta | +40 |
| Gray Mixer Orange | +19 |
| Gray Mixer Purple | +27 |
| Gray Mixer Red | +40 |
| Gray Mixer Yellow | +2 |
| Green Hue | 0 |
| Green Saturation | 0 |
| Has Crop | True |
| Has Settings | True |
| Highlights 2012 | -39 |
| Hyperfocal Distance | 1.40 m |
| ISO | 1600 |
| Image Size | 912x768 |
| Lens | 6.0-22.5 mm |
| Lens Info | 6-22.5mm f/? |
| Lens Manual Distortion Amount | 0 |
| Lens Model | 6.0-22.5 mm |
| Lens Profile Enable | 0 |
| Lens Profile Setup | LensDefaults |
| Light Value | 3.7 |
| Luminance Smoothing | 0 |
| Metering Mode | Multi-segment |
| Parametric Darks | 0 |
| Parametric Highlight Split | 75 |
| Parametric Highlights | 0 |
| Parametric Lights | 0 |
| Parametric Midtone Split | 50 |
| Parametric Shadow Split | 25 |
| Parametric Shadows | 0 |
| Perspective Horizontal | 0 |
| Perspective Rotate | 0.0 |
| Perspective Scale | 100 |
| Perspective Vertical | 0 |
| Post Crop Vignette Amount | 0 |
| Process Version | 6.7 |
| Red Hue | 0 |
| Red Saturation | 0 |
| Scale Factor To 35 mm Equivalent | 4.7 |
| Scene Capture Type | Standard |
| Sensing Method | One-chip color area |
| Sensitivity Type | Standard Output Sensitivity and Recommended Exposure Index |
| Shadow Tint | 0 |
| Shadows 2012 | -1 |
| Sharpen Detail | 25 |
| Sharpen Edge Masking | 0 |
| Sharpen Radius | +1.0 |
| Sharpness | 25 |
| Split Toning Balance | 0 |
| Split Toning Highlight Hue | 0 |
| Split Toning Highlight Saturation | 0 |
| Split Toning Shadow Hue | 0 |
| Split Toning Shadow Saturation | 0 |
| Subject | bw |
| Tint | +3 |
| Tone Curve Name 2012 | Linear |
| Tone Curve PV2012 | 0, 0, 255, 255 |
| Tone Curve PV2012 Blue | 0, 0, 255, 255 |
| Tone Curve PV2012 Green | 0, 0, 255, 255 |
| Tone Curve PV2012 Red | 0, 0, 255, 255 |
| Version | 7.4 |
| Vignette Amount | 0 |
| White Balance | Auto |
| Whites 2012 | 0 |
X