Shooting information for this photo
| Camera: | Panasonic DMC-GX1 |
| Exposure: | 0.07692 sec. (1/13) |
| Aperture: | f/3.5 |
| Focal Length: | 14.0 mm (35 mm equivalent: 29.0 mm) |
| Flash: | Off, Did not fire |
| Exposure mode: | Aperture-priority AE |
| Max Aperture: | 3.5 |
| Resolution: | 240 x 240 dpi |
| Dimension: | 900 x 601 pixels |
| Original Date: | 2015:09:25 19:29:33 |
| Created on: | 2015:09:25 19:29:33 |
| Modified on: | 2015:10:05 21:53:13 |
| Software: | Adobe Photoshop CS6 (Windows) |
| Already Applied | True |
| Auto Lateral CA | 0 |
| Blacks 2012 | 0 |
| Blue Hue | 0 |
| Blue Saturation | 0 |
| Brightness | +50 |
| Camera Profile | Adobe Standard |
| Circle Of Confusion | 0.015 mm |
| Clarity | 0 |
| Clarity 2012 | +61 |
| Color Mode | RGB |
| Color Noise Reduction | 25 |
| Color Noise Reduction Detail | 50 |
| Color Space | Uncalibrated |
| Color Temperature | 6650 |
| Contrast | Normal |
| Contrast 2012 | +49 |
| Convert To Grayscale | False |
| Crop Angle | 0 |
| Crop Bottom | 0.97959 |
| Crop Constrain To Warp | 1 |
| Crop Height | 3 |
| Crop Left | 0.009669 |
| Crop Right | 0.970536 |
| Crop Top | 0.020399 |
| Crop Unit | Unknown (3) |
| Crop Width | 2 |
| Custom Rendered | Normal |
| Date Created | 2015:09:25 19:29:33 |
| Defringe | 0 |
| Digital Zoom Ratio | 0 |
| Exposure | 0.00 |
| Exposure 2012 | +0.20 |
| Exposure Compensation | 0 |
| Exposure Mode | Auto |
| Field Of View | 63.7 deg |
| Fill Light | 0 |
| Focal Length In 35mm Format | 29 mm |
| Format | image/jpeg |
| Gain Control | Low gain up |
| Grain Amount | 0 |
| Green Hue | 0 |
| Green Saturation | 0 |
| Has Crop | True |
| Has Settings | True |
| Highlight Recovery | 0 |
| Highlights 2012 | -63 |
| Hue Adjustment Aqua | 0 |
| Hue Adjustment Blue | 0 |
| Hue Adjustment Green | 0 |
| Hue Adjustment Magenta | 0 |
| Hue Adjustment Orange | 0 |
| Hue Adjustment Purple | 0 |
| Hue Adjustment Red | 0 |
| Hue Adjustment Yellow | 0 |
| Hyperfocal Distance | 3.86 m |
| ICC Profile Name | Adobe RGB (1998) |
| ISO | 200 |
| Image Size | 900x601 |
| Lens | LUMIX G VARIO PZ 14-42/F3.5-5.6 |
| Lens Manual Distortion Amount | +14 |
| Lens Model | LUMIX G VARIO PZ 14-42/F3.5-5.6 |
| Lens Profile Enable | 0 |
| Lens Profile Setup | LensDefaults |
| Light Source | Fine Weather |
| Light Value | 6.3 |
| Luminance Adjustment Aqua | 0 |
| Luminance Adjustment Blue | -14 |
| Luminance Adjustment Green | +7 |
| Luminance Adjustment Magenta | 0 |
| Luminance Adjustment Orange | -13 |
| Luminance Adjustment Purple | -2 |
| Luminance Adjustment Red | -24 |
| Luminance Adjustment Yellow | +53 |
| Luminance Smoothing | 0 |
| Metering Mode | Multi-segment |
| Parametric Darks | 0 |
| Parametric Highlight Split | 75 |
| Parametric Highlights | 0 |
| Parametric Lights | 0 |
| Parametric Midtone Split | 50 |
| Parametric Shadow Split | 25 |
| Parametric Shadows | 0 |
| Perspective Horizontal | 0 |
| Perspective Rotate | +0.7 |
| Perspective Scale | 100 |
| Perspective Vertical | 0 |
| Photometric Interpretation | RGB |
| Planar Configuration | Chunky |
| Post Crop Vignette Amount | -11 |
| Post Crop Vignette Feather | 100 |
| Post Crop Vignette Highlight Contrast | 0 |
| Post Crop Vignette Midpoint | 22 |
| Post Crop Vignette Roundness | 0 |
| Post Crop Vignette Style | 2 |
| Process Version | 6.7 |
| Rating | 0 |
| Raw File Name | P1080213.RW2 |
| Red Hue | 0 |
| Red Saturation | 0 |
| Samples Per Pixel | 3 |
| Saturation | Normal |
| Saturation Adjustment Aqua | -59 |
| Saturation Adjustment Blue | -13 |
| Saturation Adjustment Green | -66 |
| Saturation Adjustment Magenta | -100 |
| Saturation Adjustment Orange | 0 |
| Saturation Adjustment Purple | -100 |
| Saturation Adjustment Red | -19 |
| Saturation Adjustment Yellow | +1 |
| Scale Factor To 35 mm Equivalent | 2.1 |
| Scene Capture Type | Standard |
| Scene Type | Directly photographed |
| Sensing Method | One-chip color area |
| Shadow Tint | 0 |
| Shadows | 5 |
| Shadows 2012 | 0 |
| Sharpen Detail | 25 |
| Sharpen Edge Masking | 0 |
| Sharpen Radius | +1.0 |
| Sharpness | Normal |
| Split Toning Balance | 0 |
| Split Toning Highlight Hue | 0 |
| Split Toning Highlight Saturation | 0 |
| Split Toning Shadow Hue | 0 |
| Split Toning Shadow Saturation | 0 |
| Tint | +11 |
| Tone Curve | 0, 0, 32, 22, 64, 56, 128, 128, 192, 196, 255, 255 |
| Tone Curve Blue | 0, 0, 255, 255 |
| Tone Curve Green | 0, 0, 255, 255 |
| Tone Curve Name | Medium Contrast |
| Tone Curve Name 2012 | Linear |
| Tone Curve PV2012 | 0, 0, 255, 255 |
| Tone Curve PV2012 Blue | 0, 0, 255, 255 |
| Tone Curve PV2012 Green | 0, 0, 255, 255 |
| Tone Curve PV2012 Red | 0, 0, 255, 255 |
| Tone Curve Red | 0, 0, 255, 255 |
| Version | 7.0 |
| Vibrance | 0 |
| Vignette Amount | 0 |
| White Balance | Manual |
| Whites 2012 | 0 |
X