Shooting information for this photo
Camera: | FUJIFILM X-Pro2 |
Exposure: | 0.002 sec. (1/500) |
Aperture: | f/6.4 |
Focal Length: | 10.0 mm (35 mm equivalent: 15.0 mm) |
Flash: | No Flash |
Exposure mode: | Manual |
Max Aperture: | 4.0 |
Resolution: | 300 x 300 dpi |
Dimension: | 10630 x 7087 pixels |
Original Date: | 2023:04:16 13:25:00 |
Created on: | 2023:04:16 13:25:00 |
Modified on: | 2024:02:29 08:23:49 |
Software: | Adobe Photoshop 25.6 (20240222.m.2515 7d8319b) (Windows) |
Copyright: | Luc Marie MARTIN. |
Adobe White Level | 30728 |
Already Applied | True |
Artist | diagonalhorizon |
Auto Lateral CA | 1 |
Auto presets applied | 1 |
Blacks 2012 | -59 |
Blue Hue | 0 |
Blue Saturation | 0 |
Brightness Value | 8.3 |
Camera Profile | Adobe Standard |
Change timestamp | 63817624555022789 |
Circle Of Confusion | 0.020 mm |
Clarity 2012 | 0 |
Color Grade Blending | 50 |
Color Grade Global Hue | 0 |
Color Grade Global Lum | 0 |
Color Grade Global Sat | 0 |
Color Grade Highlight Lum | 0 |
Color Grade Midtone Hue | 0 |
Color Grade Midtone Lum | 0 |
Color Grade Midtone Sat | 0 |
Color Grade Shadow Lum | 0 |
Color Mode | RGB |
Color Noise Reduction | 0 |
Color Space | sRGB |
Color Temperature | 5350 |
Compatible Version | 234881024 |
Contrast 2012 | +61 |
Creator | diagonalhorizon |
Custom Rendered | Normal |
Date Created | 2023:04:16 13:25:00 |
Dehaze | 0 |
Export timestamp | 63817624561267746 |
Exposure 2012 | -0.10 |
Exposure Compensation | 0 |
Exposure Mode | Manual |
Field Of View | 100.4 deg |
Focal Length In 35mm Format | 15 mm |
Format | image/jpeg |
Fuji Rating Already Applied | True |
Grain Amount | 0 |
Gray Mixer Aqua | 0 |
Gray Mixer Blue | 0 |
Gray Mixer Green | 0 |
Gray Mixer Magenta | 0 |
Gray Mixer Orange | 0 |
Gray Mixer Purple | 0 |
Gray Mixer Red | 0 |
Gray Mixer Yellow | 0 |
Green Hue | 0 |
Green Saturation | 0 |
HDR Edit Mode | 0 |
Has Crop | False |
Has Extended XMP | B0D34DD78FD4203B07B5195A64F9B2 D5 |
Has Settings | True |
Highlights 2012 | -78 |
Hyperfocal Distance | 0.78 m |
ICC Profile Name | sRGB IEC61966-2.1 |
ISO | 200 |
Image Size | 10630x7087 |
Import timestamp | 63817598120144785 |
Iop order version | 2 |
Lateral Chromatic Aberration Correction Already Applied | True |
Lens | XF10-24mmF4 R OIS WR |
Lens Info | 10-24mm f/4 |
Lens Manual Distortion Amount | 0 |
Lens Model | XF10-24mmF4 R OIS WR |
Lens Profile Enable | 0 |
Light Source | Unknown |
Light Value | 13.3 |
Look Amount | 1 |
Look Cluster | Adobe |
Look Copyright | © 2018 Adobe Systems, Inc. |
Look Group | B&W |
Look Name | B&W 01 |
Look Parameters Blacks 2012 | -10 |
Look Parameters Clarity 2012 | +8 |
Look Parameters Contrast 2012 | +33 |
Look Parameters Convert To Grayscale | True |
Look Parameters Highlights 2012 | -40 |
Look Parameters Look Table | 62CE423BDCA099FE0B786CA01EB606 B0 |
Look Parameters Process Version | 15.4 |
Look Parameters Shadows 2012 | +45 |
Look Parameters Tone Curve PV2012 | 0, 0, 17, 17, 34, 36, 51, 55, 68, 75, 85, 96, 102, 116, 119, 136, 136, 154, 153, 171, 170, 187, 187, 202, 204, 216, 221, 230, 238, 242, 255, 255 |
Look Parameters Tone Curve PV2012 Blue | 0, 0, 255, 255 |
Look Parameters Tone Curve PV2012 Green | 0, 0, 255, 255 |
Look Parameters Tone Curve PV2012 Red | 0, 0, 255, 255 |
Look Parameters Version | 16.2 |
Look Sort Name | B&W 01 |
Look Supports Monochrome | false |
Luminance Smoothing | 0 |
Metering Mode | Multi-segment |
Override Look Vignette | False |
Parametric Darks | 0 |
Parametric Highlight Split | 75 |
Parametric Highlights | 0 |
Parametric Lights | 0 |
Parametric Midtone Split | 50 |
Parametric Shadow Split | 25 |
Parametric Shadows | 0 |
Perspective Aspect | 0 |
Perspective Horizontal | 0 |
Perspective Rotate | 0.0 |
Perspective Scale | 100 |
Perspective Upright | 0 |
Perspective Vertical | 0 |
Perspective X | 0.00 |
Perspective Y | 0.00 |
Point Colors | -1.000000, -1.000000, -1.000000, -1.000000, -1.000000, -1.000000, -1.000000, -1.000000, -1.000000, -1.000000, -1.000000, -1.000000, -1.000000, -1.000000, -1.000000, -1.000000, -1.000000, -1.000000, -1.000000 |
Post Crop Vignette Amount | 0 |
Process Version | 15.4 |
Rating | 3 |
Raw params | 0 |
Red Hue | 0 |
Red Saturation | 0 |
Rights | Luc Marie MARTIN. |
Saturation | +5 |
Scale Factor To 35 mm Equivalent | 1.5 |
Scene Capture Type | Standard |
Scene Type | Directly photographed |
Sensing Method | One-chip color area |
Sensitivity Type | Standard Output Sensitivity |
Shadow Tint | 0 |
Shadows 2012 | +28 |
Sharpness | Normal |
Split Toning Balance | 0 |
Split Toning Highlight Hue | 0 |
Split Toning Highlight Saturation | 0 |
Split Toning Shadow Hue | 0 |
Split Toning Shadow Saturation | 0 |
Subject Distance Range | Unknown |
Texture | 0 |
Tint | +4 |
Tone Curve Name 2012 | Linear |
Tone Curve PV2012 | 0, 0, 255, 255 |
Tone Curve PV2012 Blue | 0, 0, 255, 255 |
Tone Curve PV2012 Green | 0, 0, 255, 255 |
Tone Curve PV2012 Red | 0, 0, 255, 255 |
Version | 16.2 |
Vibrance | +20 |
Vignette Amount | 0 |
White Balance | Auto |
White Level | 30713 |
Whites 2012 | -100 |
Xmp version | 5 |
w | 0.5 |