Shooting information for this photo
| Camera: | OLYMPUS CORPORATION E-M1MarkII |
| Exposure: | 0.01667 sec. (1/60) |
| Aperture: | f/3.5 |
| Focal Length: | 40.0 mm (35 mm equivalent: 80.0 mm) |
| Flash: | Off, Did not fire |
| Exposure mode: | Manual |
| Max Aperture: | 2.8 |
| Resolution: | 300 x 300 dpi |
| Dimension: | 3799 x 3799 pixels |
| Original Date: | 2021:06:19 16:38:45 |
| Created on: | 2021:06:19 16:38:45 |
| Modified on: | 2021:06:25 23:58:20 |
| Software: | Adobe Photoshop 22.0 (Windows) |
| Copyright: | Luc Marie MARTIN |
| Already Applied | True |
| Artist | DiagonalHorizon@yahoo.fr |
| Auto Lateral CA | 0 |
| Blacks 2012 | +70 |
| Blue Hue | 0 |
| Blue Saturation | 0 |
| CFA Pattern | [Red,Green][Green,Blue] |
| Camera Profile | Adobe Standard |
| Circle Of Confusion | 0.015 mm |
| Clarity 2012 | -57 |
| Color Grade Blending | 50 |
| Color Grade Global Hue | 0 |
| Color Grade Global Lum | 0 |
| Color Grade Global Sat | 0 |
| Color Grade Highlight Lum | 0 |
| Color Grade Midtone Hue | 0 |
| Color Grade Midtone Lum | 0 |
| Color Grade Midtone Sat | 0 |
| Color Grade Shadow Lum | 0 |
| Color Mode | RGB |
| Color Noise Reduction | 25 |
| Color Noise Reduction Detail | 50 |
| Color Noise Reduction Smoothness | 50 |
| Color Space | Uncalibrated |
| Color Temperature | 5450 |
| Contrast | Normal |
| Contrast 2012 | -1 |
| Creator | DiagonalHorizon@yahoo.fr |
| Crop Angle | 1.086805 |
| Crop Bottom | 0.997747 |
| Crop Constrain To Warp | 0 |
| Crop Height | 1 |
| Crop Left | 0.26559 |
| Crop Right | 0.98441 |
| Crop Top | 0.002253 |
| Crop Unit | Unknown (3) |
| Crop Width | 1 |
| Custom Rendered | Normal |
| Date Created | 2021:06:19 16:38:45 |
| Defringe Green Amount | 0 |
| Defringe Green Hue Hi | 60 |
| Defringe Green Hue Lo | 40 |
| Defringe Purple Amount | 0 |
| Defringe Purple Hue Hi | 70 |
| Defringe Purple Hue Lo | 30 |
| Dehaze | +23 |
| Description | OLYMPUS DIGITAL CAMERA |
| Digital Zoom Ratio | 1 |
| Distortion Correction Already Applied | True |
| Exposure 2012 | -0.70 |
| Exposure Compensation | 0 |
| Exposure Mode | Manual |
| Field Of View | 25.4 deg |
| Flash Compensation | 0 |
| Focal Length In 35mm Format | 80 mm |
| Format | image/jpeg |
| Gain Control | None |
| Grain Amount | 0 |
| Green Hue | 0 |
| Green Saturation | 0 |
| Has Crop | True |
| Has Extended XMP | 191CC9EE5CA059BC3688A1A3AC8E8A 1E |
| Has Settings | True |
| Highlights 2012 | -100 |
| Hue Adjustment Aqua | 0 |
| Hue Adjustment Blue | 0 |
| Hue Adjustment Green | 0 |
| Hue Adjustment Magenta | 0 |
| Hue Adjustment Orange | 0 |
| Hue Adjustment Purple | 0 |
| Hue Adjustment Red | 0 |
| Hue Adjustment Yellow | 0 |
| Hyperfocal Distance | 30.43 m |
| ICC Profile Name | Adobe RGB (1998) |
| ISO | 64 |
| Image Description | OLYMPUS DIGITAL CAMERA |
| Image Size | 3799x3799 |
| Lateral Chromatic Aberration Correction Already Applied | True |
| Lens | OLYMPUS M.40-150mm F2.8 |
| Lens Info | 40-150mm f/2.8 |
| Lens Manual Distortion Amount | 0 |
| Lens Model | OLYMPUS M.40-150mm F2.8 |
| Lens Profile Enable | 0 |
| Light Source | Unknown |
| Light Value | 10.2 |
| Look Amount | 1.000000 |
| Look Copyright | © 2018 Adobe Systems, Inc. |
| Look Group | Profiles |
| Look Name | Adobe Portrait |
| Look Parameters Camera Profile | Adobe Standard |
| Look Parameters Convert To Grayscale | False |
| Look Parameters Look Table | E5A76DBB8B3F132A04C01AF45DC2EF 1B |
| Look Parameters Process Version | 11.0 |
| Look Parameters Tone Curve PV2012 | 0, 0, 66, 64, 190, 192, 255, 255 |
| Look Parameters Version | 13.0 |
| Look Supports Amount | false |
| Look Supports Monochrome | false |
| Look Supports Output Referred | false |
| Luminance Adjustment Aqua | 0 |
| Luminance Adjustment Blue | 0 |
| Luminance Adjustment Green | 0 |
| Luminance Adjustment Magenta | 0 |
| Luminance Adjustment Orange | 0 |
| Luminance Adjustment Purple | 0 |
| Luminance Adjustment Red | 0 |
| Luminance Adjustment Yellow | 0 |
| Luminance Smoothing | 0 |
| Metering Mode | Center-weighted average |
| Override Look Vignette | False |
| Paint Correction Active | true |
| Paint Correction Amount | 1.000000 |
| Paint Correction Brightness | 0.000000 |
| Paint Correction Clarity | 0.000000 |
| Paint Correction Clarity 2012 | 0.110000 |
| Paint Correction Contrast | 0.000000 |
| Paint Correction Contrast 2012 | 1.000000 |
| Paint Correction Correction Range Mask Color Amount | 0.500000 |
| Paint Correction Correction Range Mask Depth Feather | 0.500000 |
| Paint Correction Correction Range Mask Depth Max | 1.000000 |
| Paint Correction Correction Range Mask Depth Min | 0.000000 |
| Paint Correction Correction Range Mask Lum Feather | 0.500000 |
| Paint Correction Correction Range Mask Lum Max | 1.000000 |
| Paint Correction Correction Range Mask Lum Min | 0.000000 |
| Paint Correction Correction Range Mask Type | 0 |
| Paint Correction Correction Range Mask Version | +2 |
| Paint Correction Defringe | 0.000000 |
| Paint Correction Exposure | 0.000000 |
| Paint Correction Exposure 2012 | -0.200000 |
| Paint Correction Highlights 2012 | 0.480000 |
| Paint Correction Hue | 0.000000 |
| Paint Correction Local Blacks 2012 | 0.050000 |
| Paint Correction Local Dehaze | 0.030000 |
| Paint Correction Local Hue | -0.051111 |
| Paint Correction Local Texture | 0.720000 |
| Paint Correction Local Whites 2012 | 0.050000 |
| Paint Correction Luminance Noise | -1.000000 |
| Paint Correction Mask Center Weight | 1.000000 |
| Paint Correction Mask Flow | 0.830601 |
| Paint Correction Mask Radius | 0.000741 |
| Paint Correction Mask Value | 0.950000 |
| Paint Correction Mask What | Mask/Paint |
| Paint Correction Moire | 0.000000 |
| Paint Correction Saturation | 0.000000 |
| Paint Correction Shadows 2012 | 0.060000 |
| Paint Correction Sharpness | 0.760000 |
| Paint Correction Temperature | 0.070000 |
| Paint Correction Tint | 0.130000 |
| Paint Correction What | Correction |
| Parametric Darks | 0 |
| Parametric Highlight Split | 75 |
| Parametric Highlights | 0 |
| Parametric Lights | 0 |
| Parametric Midtone Split | 50 |
| Parametric Shadow Split | 25 |
| Parametric Shadows | 0 |
| Perspective Aspect | 0 |
| Perspective Horizontal | 0 |
| Perspective Rotate | 0.0 |
| Perspective Scale | 100 |
| Perspective Upright | 0 |
| Perspective Vertical | 0 |
| Perspective X | 0.00 |
| Perspective Y | 0.00 |
| Post Crop Vignette Amount | 0 |
| Process Version | 11.0 |
| Rating | 0 |
| Red Hue | 0 |
| Red Saturation | 0 |
| Rights | Luc Marie MARTIN |
| Saturation | Normal |
| Saturation Adjustment Aqua | 0 |
| Saturation Adjustment Blue | 0 |
| Saturation Adjustment Green | 0 |
| Saturation Adjustment Magenta | 0 |
| Saturation Adjustment Orange | 0 |
| Saturation Adjustment Purple | 0 |
| Saturation Adjustment Red | 0 |
| Saturation Adjustment Yellow | 0 |
| Scale Factor To 35 mm Equivalent | 2.0 |
| Scene Capture Type | Standard |
| Sensitivity Type | Standard Output Sensitivity |
| Shadow Tint | 0 |
| Shadows 2012 | +100 |
| Sharpen Detail | 25 |
| Sharpen Edge Masking | 0 |
| Sharpen Radius | +1.0 |
| Sharpness | Normal |
| Split Toning Balance | 0 |
| Split Toning Highlight Hue | 0 |
| Split Toning Highlight Saturation | 0 |
| Split Toning Shadow Hue | 0 |
| Split Toning Shadow Saturation | 0 |
| Texture | -26 |
| Tint | +18 |
| Tone Curve Name 2012 | Linear |
| Tone Curve PV2012 | 0, 0, 255, 255 |
| Tone Curve PV2012 Blue | 0, 0, 255, 255 |
| Tone Curve PV2012 Green | 0, 0, 255, 255 |
| Tone Curve PV2012 Red | 0, 0, 255, 255 |
| Version | 13.0 |
| Vibrance | 0 |
| Vignette Amount | 0 |
| White Balance | Auto |
| Whites 2012 | +76 |
X