Shooting information for this photo
| Camera: | OLYMPUS CORPORATION E-M1MarkII |
| Exposure: | 0.01667 sec. (1/60) |
| Aperture: | f/4.0 |
| Focal Length: | 40.0 mm (35 mm equivalent: 80.0 mm) |
| Flash: | Off, Did not fire |
| Exposure mode: | Manual |
| Max Aperture: | 2.8 |
| Resolution: | 300 x 300 dpi |
| Dimension: | 3888 x 3888 pixels |
| Original Date: | 2021:05:29 11:06:48 |
| Created on: | 2021:05:29 11:06:48 |
| Modified on: | 2021:06:06 23:46:45 |
| Software: | Adobe Photoshop 22.0 (Windows) |
| Copyright: | Luc Marie MARTIN |
| Already Applied | True |
| Artist | DiagonalHorizon@yahoo.fr |
| Auto Lateral CA | 0 |
| Blacks 2012 | +61 |
| Blue Hue | 0 |
| Blue Saturation | 0 |
| CFA Pattern | [Red,Green][Green,Blue] |
| Camera Profile | Adobe Standard |
| Circle Of Confusion | 0.015 mm |
| Clarity 2012 | +80 |
| Color Grade Blending | 50 |
| Color Grade Global Hue | 0 |
| Color Grade Global Lum | 0 |
| Color Grade Global Sat | 0 |
| Color Grade Highlight Lum | 0 |
| Color Grade Midtone Hue | 0 |
| Color Grade Midtone Lum | 0 |
| Color Grade Midtone Sat | 0 |
| Color Grade Shadow Lum | 0 |
| Color Mode | Grayscale |
| Color Noise Reduction | 40 |
| Color Noise Reduction Detail | 50 |
| Color Noise Reduction Smoothness | 50 |
| Color Space | Uncalibrated |
| Color Temperature | 3800 |
| Contrast | Normal |
| Contrast 2012 | +25 |
| Creator | DiagonalHorizon@yahoo.fr |
| Crop Angle | 0 |
| Crop Bottom | 1 |
| Crop Constrain To Warp | 0 |
| Crop Height | 1 |
| Crop Left | 0.139048 |
| Crop Right | 0.889048 |
| Crop Top | 0 |
| Crop Unit | Unknown (3) |
| Crop Width | 1 |
| Custom Rendered | Normal |
| Date Created | 2021:05:29 11:06:48 |
| Dehaze | +86 |
| Description | OLYMPUS DIGITAL CAMERA |
| Digital Zoom Ratio | 1 |
| Distortion Correction Already Applied | True |
| Exposure 2012 | +2.70 |
| Exposure Compensation | 0 |
| Exposure Mode | Manual |
| Field Of View | 25.4 deg |
| Flash Compensation | 0 |
| Focal Length In 35mm Format | 80 mm |
| Format | image/jpeg |
| Gain Control | Low gain up |
| Grain Amount | 0 |
| Gray Mixer Aqua | 0 |
| Gray Mixer Blue | 0 |
| Gray Mixer Green | 0 |
| Gray Mixer Magenta | 0 |
| Gray Mixer Orange | 0 |
| Gray Mixer Purple | 0 |
| Gray Mixer Red | 0 |
| Gray Mixer Yellow | 0 |
| Green Hue | 0 |
| Green Saturation | 0 |
| Has Crop | True |
| Has Settings | True |
| Highlights 2012 | +5 |
| Hyperfocal Distance | 26.63 m |
| ICC Profile Name | Gray Gamma 2.2 |
| ISO | 400 |
| Image Description | OLYMPUS DIGITAL CAMERA |
| Image Size | 3888x3888 |
| Lateral Chromatic Aberration Correction Already Applied | True |
| Lens | OLYMPUS M.40-150mm F2.8 |
| Lens Info | 40-150mm f/2.8 |
| Lens Manual Distortion Amount | 0 |
| Lens Model | OLYMPUS M.40-150mm F2.8 |
| Lens Profile Enable | 0 |
| Light Source | Unknown |
| Light Value | 7.9 |
| Look Amount | 1.000000 |
| Look Cluster | Adobe |
| Look Copyright | © 2018 Adobe Systems, Inc. |
| Look Group | B&W |
| Look Name | B&W 09 |
| Look Parameters Clarity 2012 | +8 |
| Look Parameters Contrast 2012 | +55 |
| Look Parameters Convert To Grayscale | True |
| Look Parameters Look Table | 117C9F46F99CE5FB0DAA115654DF89 AB |
| Look Parameters Process Version | 11.0 |
| Look Parameters Version | 13.0 |
| Look Sort Name | B&W 09 |
| Look Supports Monochrome | false |
| Luminance Noise Reduction Contrast | 0 |
| Luminance Noise Reduction Detail | 50 |
| Luminance Smoothing | 84 |
| Metering Mode | Multi-segment |
| Override Look Vignette | False |
| Paint Correction Active | true |
| Paint Correction Amount | 1.000000 |
| Paint Correction Brightness | 0.000000 |
| Paint Correction Clarity | 0.000000 |
| Paint Correction Clarity 2012 | 0.660000 |
| Paint Correction Contrast | 0.000000 |
| Paint Correction Contrast 2012 | -0.280000 |
| Paint Correction Correction Range Mask Color Amount | 0.500000 |
| Paint Correction Correction Range Mask Depth Feather | 0.500000 |
| Paint Correction Correction Range Mask Depth Max | 1.000000 |
| Paint Correction Correction Range Mask Depth Min | 0.000000 |
| Paint Correction Correction Range Mask Lum Feather | 0.500000 |
| Paint Correction Correction Range Mask Lum Max | 1.000000 |
| Paint Correction Correction Range Mask Lum Min | 0.000000 |
| Paint Correction Correction Range Mask Type | 0 |
| Paint Correction Correction Range Mask Version | +2 |
| Paint Correction Defringe | 0.000000 |
| Paint Correction Exposure | 0.000000 |
| Paint Correction Exposure 2012 | -0.400000 |
| Paint Correction Highlights 2012 | 0.000000 |
| Paint Correction Hue | 0.000000 |
| Paint Correction Local Blacks 2012 | 0.000000 |
| Paint Correction Local Dehaze | 0.070000 |
| Paint Correction Local Hue | 0.000000 |
| Paint Correction Local Texture | 0.870000 |
| Paint Correction Local Whites 2012 | 0.000000 |
| Paint Correction Luminance Noise | 0.000000 |
| Paint Correction Mask Center Weight | 0.000000 |
| Paint Correction Mask Flow | 0.830601 |
| Paint Correction Mask Radius | 0.619206 |
| Paint Correction Mask Value | 0.950000 |
| Paint Correction Mask What | Mask/Paint |
| Paint Correction Moire | 0.000000 |
| Paint Correction Saturation | 0.000000 |
| Paint Correction Shadows 2012 | 0.000000 |
| Paint Correction Sharpness | -0.020000 |
| Paint Correction Temperature | 0.000000 |
| Paint Correction Tint | 0.000000 |
| Paint Correction What | Correction |
| Parametric Darks | 0 |
| Parametric Highlight Split | 75 |
| Parametric Highlights | 0 |
| Parametric Lights | 0 |
| Parametric Midtone Split | 50 |
| Parametric Shadow Split | 25 |
| Parametric Shadows | 0 |
| Perspective Aspect | 0 |
| Perspective Horizontal | 0 |
| Perspective Rotate | 0.0 |
| Perspective Scale | 100 |
| Perspective Upright | 0 |
| Perspective Vertical | 0 |
| Perspective X | 0.00 |
| Perspective Y | 0.00 |
| Post Crop Vignette Amount | -19 |
| Post Crop Vignette Feather | 100 |
| Post Crop Vignette Highlight Contrast | 0 |
| Post Crop Vignette Midpoint | 22 |
| Post Crop Vignette Roundness | +59 |
| Post Crop Vignette Style | 1 |
| Process Version | 11.0 |
| Red Hue | 0 |
| Red Saturation | 0 |
| Rights | Luc Marie MARTIN |
| Saturation | High |
| Scale Factor To 35 mm Equivalent | 2.0 |
| Scene Capture Type | Standard |
| Sensitivity Type | Standard Output Sensitivity |
| Shadow Tint | 0 |
| Shadows 2012 | +100 |
| Sharpen Detail | 44 |
| Sharpen Edge Masking | 57 |
| Sharpen Radius | +0.7 |
| Sharpness | Normal |
| Split Toning Balance | 0 |
| Split Toning Highlight Hue | 0 |
| Split Toning Highlight Saturation | 0 |
| Split Toning Shadow Hue | 0 |
| Split Toning Shadow Saturation | 0 |
| Texture | +84 |
| Tint | +21 |
| Tone Curve Name 2012 | Linear |
| Tone Curve PV2012 | 0, 0, 255, 255 |
| Tone Curve PV2012 Blue | 0, 0, 255, 255 |
| Tone Curve PV2012 Green | 0, 0, 255, 255 |
| Tone Curve PV2012 Red | 0, 0, 255, 255 |
| Version | 13.0 |
| Vibrance | +41 |
| Vignette Amount | 0 |
| White Balance | Auto |
| Whites 2012 | -100 |
X