Shooting information for this photo
| Camera: | Canon EOS 750D |
| Exposure: | 0.07692 sec. (1/13) |
| Aperture: | f/5.0 |
| Focal Length: | 50.0 mm (35 mm equivalent: 79.4 mm) |
| Flash: | Off, Did not fire |
| Exposure mode: | Action (High speed) |
| Max Aperture: | 5.0 |
| Resolution: | 300 x 300 dpi |
| Dimension: | 4584 x 3932 pixels |
| Original Date: | 2018:02:28 19:37 |
| Created on: | 2018:02:28 19:37 |
| Modified on: | 2018:02:28 21:15:12+01:00 |
| Already Applied | True |
| Approximate Focus Distance | 0.89 |
| Auto Lateral CA | 0 |
| Auto White Version | 134348800 |
| Blacks 2012 | +35 |
| Blue Hue | 0 |
| Blue Saturation | 0 |
| Camera Profile | Adobe Standard |
| Circle Of Confusion | 0.019 mm |
| Clarity 2012 | -100 |
| Color Mode | RGB |
| Color Noise Reduction | 72 |
| Color Noise Reduction Detail | 50 |
| Color Noise Reduction Smoothness | 50 |
| Color Space | Uncalibrated |
| Color Temperature | 7600 |
| Contrast 2012 | +53 |
| Convert To Grayscale | False |
| Crop Angle | 0.855097 |
| Crop Bottom | 1 |
| Crop Constrain To Warp | 1 |
| Crop Left | 0.234359 |
| Crop Right | 0.988464 |
| Crop Top | 0 |
| Custom Rendered | Normal |
| Date Created | 2018:02:28 19:37:00.071 |
| Defringe Green Amount | 0 |
| Defringe Green Hue Hi | 60 |
| Defringe Green Hue Lo | 40 |
| Defringe Purple Amount | 0 |
| Defringe Purple Hue Hi | 70 |
| Defringe Purple Hue Lo | 30 |
| Dehaze | 0 |
| Exposure 2012 | +0.15 |
| Exposure Compensation | 0 |
| Exposure Mode | Auto |
| Field Of View | 25.5 deg |
| Firmware | 1.0.0 |
| Flash Compensation | 0 |
| Flash Fired | False |
| Flash Function | False |
| Flash Mode | Off |
| Flash Red Eye Mode | False |
| Flash Return | No return detection |
| Format | image/png |
| Grain Amount | 0 |
| Green Hue | 0 |
| Green Saturation | 0 |
| Has Crop | True |
| Has Settings | True |
| Highlights 2012 | +17 |
| Hue Adjustment Aqua | 0 |
| Hue Adjustment Blue | 0 |
| Hue Adjustment Green | 0 |
| Hue Adjustment Magenta | 0 |
| Hue Adjustment Orange | 0 |
| Hue Adjustment Purple | 0 |
| Hue Adjustment Red | 0 |
| Hue Adjustment Yellow | 0 |
| Hyperfocal Distance | 26.43 m |
| ICC Profile Name | Adobe RGB (1998) |
| ISO | 6400 |
| Image Number | 0 |
| Image Size | 4584x3932 |
| Lens | EF-S18-135mm f/3.5-5.6 IS |
| Lens ID | Canon EF-S 18-135mm f/3.5-5.6 IS |
| Lens Info | 18-135mm f/? |
| Lens Manual Distortion Amount | 0 |
| Lens Profile Enable | 0 |
| Lens Profile Setup | LensDefaults |
| Light Value | 2.3 |
| Luminance Adjustment Aqua | 0 |
| Luminance Adjustment Blue | 0 |
| Luminance Adjustment Green | 0 |
| Luminance Adjustment Magenta | 0 |
| Luminance Adjustment Orange | 0 |
| Luminance Adjustment Purple | 0 |
| Luminance Adjustment Red | 0 |
| Luminance Adjustment Yellow | 0 |
| Luminance Noise Reduction Contrast | 49 |
| Luminance Noise Reduction Detail | 50 |
| Luminance Smoothing | 82 |
| Metering Mode | Multi-segment |
| Parametric Darks | 0 |
| Parametric Highlight Split | 75 |
| Parametric Highlights | 0 |
| Parametric Lights | 0 |
| Parametric Midtone Split | 50 |
| Parametric Shadow Split | 25 |
| Parametric Shadows | 0 |
| Perspective Aspect | 0 |
| Perspective Horizontal | 0 |
| Perspective Rotate | 0.0 |
| Perspective Scale | 100 |
| Perspective Upright | 0 |
| Perspective Vertical | 0 |
| Post Crop Vignette Amount | 0 |
| Process Version | 6.7 |
| Rating | 0 |
| Raw File Name | IMG_5808.CR2 |
| Recommended Exposure Index | 6400 |
| Red Hue | 0 |
| Red Saturation | 0 |
| Saturation | +100 |
| Saturation Adjustment Aqua | +100 |
| Saturation Adjustment Blue | -100 |
| Saturation Adjustment Green | 0 |
| Saturation Adjustment Magenta | 0 |
| Saturation Adjustment Orange | +100 |
| Saturation Adjustment Purple | +3 |
| Saturation Adjustment Red | 0 |
| Saturation Adjustment Yellow | +100 |
| Scale Factor To 35 mm Equivalent | 1.6 |
| Scene Capture Type | Standard |
| Sensitivity Type | 2 |
| Shadow Tint | 0 |
| Shadows 2012 | -100 |
| Sharpen Detail | 25 |
| Sharpen Edge Masking | 79 |
| Sharpen Radius | +1.0 |
| Sharpness | 25 |
| Split Toning Balance | 0 |
| Split Toning Highlight Hue | 0 |
| Split Toning Highlight Saturation | 0 |
| Split Toning Shadow Hue | 0 |
| Split Toning Shadow Saturation | 0 |
| Tint | -37 |
| Tone Curve | 0, 0, 32, 22, 64, 56, 128, 128, 192, 196, 255, 255 |
| Tone Curve Blue | 0, 0, 255, 255 |
| Tone Curve Green | 0, 0, 255, 255 |
| Tone Curve Name | Medium Contrast |
| Tone Curve Name 2012 | Strong Contrast |
| Tone Curve PV2012 | 0, 0, 32, 16, 64, 50, 128, 128, 192, 202, 255, 255 |
| Tone Curve PV2012 Blue | 0, 0, 255, 255 |
| Tone Curve PV2012 Green | 0, 0, 255, 255 |
| Tone Curve PV2012 Red | 0, 0, 255, 255 |
| Tone Curve Red | 0, 0, 255, 255 |
| Tone Map Strength | 0 |
| Version | 9.4 |
| Vibrance | +100 |
| Vignette Amount | 0 |
| White Balance | Custom |
| Whites 2012 | +68 |
X