Shooting information for this photo
| Camera: | Panasonic DMC-GM5 |
| Resolution: | 240 x 240 dpi |
| Dimension: | 3173 x 2128 pixels |
| Original Date: | 2025:11:22 15:04:10+00:00 |
| Created on: | 2025:11:22 15:04:10.631 |
| Modified on: | 2025:11:22 14:14:21 |
| Software: | Adobe Photoshop Lightroom 6.0 (Windows) |
| Already Applied | True |
| Artist | Picasa |
| Auto Lateral CA | 0 |
| Auto White Version | 134348800 |
| Blacks 2012 | 0 |
| Blue Hue | 0 |
| Blue Saturation | 0 |
| Camera Profile | Embedded |
| Clarity 2012 | +25 |
| Color Noise Reduction | 0 |
| Contrast 2012 | +17 |
| Convert To Grayscale | False |
| Creator | Picasa |
| Crop Angle | 0 |
| Crop Bottom | 0.962341 |
| Crop Constrain To Warp | 0 |
| Crop Left | 0 |
| Crop Right | 0.684021 |
| Crop Top | 0.27832 |
| Defringe Green Amount | 0 |
| Defringe Green Hue Hi | 60 |
| Defringe Green Hue Lo | 40 |
| Defringe Purple Amount | 0 |
| Defringe Purple Hue Hi | 70 |
| Defringe Purple Hue Lo | 30 |
| Exposure 2012 | +0.47 |
| Format | image/jpeg |
| Grain Amount | 0 |
| Green Hue | 0 |
| Green Saturation | 0 |
| Has Crop | True |
| Has Settings | True |
| Highlights 2012 | 0 |
| Hue Adjustment Aqua | 0 |
| Hue Adjustment Blue | 0 |
| Hue Adjustment Green | 0 |
| Hue Adjustment Magenta | 0 |
| Hue Adjustment Orange | 0 |
| Hue Adjustment Purple | 0 |
| Hue Adjustment Red | 0 |
| Hue Adjustment Yellow | 0 |
| Image Size | 3173x2128 |
| Incremental Temperature | 0 |
| Incremental Tint | 0 |
| Lens | LUMIX G VARIO 12-32/F3.5-5.6 |
| Lens Manual Distortion Amount | 0 |
| Lens Profile Enable | 0 |
| Lens Profile Setup | LensDefaults |
| Luminance Adjustment Aqua | 0 |
| Luminance Adjustment Blue | 0 |
| Luminance Adjustment Green | 0 |
| Luminance Adjustment Magenta | 0 |
| Luminance Adjustment Orange | 0 |
| Luminance Adjustment Purple | 0 |
| Luminance Adjustment Red | 0 |
| Luminance Adjustment Yellow | 0 |
| Luminance Smoothing | 0 |
| Parametric Darks | 0 |
| Parametric Highlight Split | 75 |
| Parametric Highlights | 0 |
| Parametric Lights | 0 |
| Parametric Midtone Split | 50 |
| Parametric Shadow Split | 25 |
| Parametric Shadows | 0 |
| Perspective Aspect | 0 |
| Perspective Horizontal | 0 |
| Perspective Rotate | 0.0 |
| Perspective Scale | 100 |
| Perspective Upright | 0 |
| Perspective Vertical | 0 |
| Post Crop Vignette Amount | 0 |
| Process Version | 6.7 |
| Raw File Name | P1950477.jpg |
| Red Hue | 0 |
| Red Saturation | 0 |
| Related Image Height | 2096 |
| Related Image Width | 3141 |
| Saturation | 0 |
| Saturation Adjustment Aqua | 0 |
| Saturation Adjustment Blue | 0 |
| Saturation Adjustment Green | 0 |
| Saturation Adjustment Magenta | 0 |
| Saturation Adjustment Orange | 0 |
| Saturation Adjustment Purple | 0 |
| Saturation Adjustment Red | 0 |
| Saturation Adjustment Yellow | 0 |
| Shadow Tint | 0 |
| Shadows 2012 | -15 |
| Sharpen Detail | 25 |
| Sharpen Edge Masking | 0 |
| Sharpen Radius | +1.0 |
| Sharpness | 0 |
| Split Toning Balance | 0 |
| Split Toning Highlight Hue | 0 |
| Split Toning Highlight Saturation | 0 |
| Split Toning Shadow Hue | 0 |
| Split Toning Shadow Saturation | 0 |
| Tone Curve | 0, 0, 255, 255 |
| Tone Curve Blue | 0, 0, 255, 255 |
| Tone Curve Green | 0, 0, 255, 255 |
| Tone Curve Name | Linear |
| Tone Curve Name 2012 | Linear |
| Tone Curve PV2012 | 0, 0, 255, 255 |
| Tone Curve PV2012 Blue | 0, 0, 255, 255 |
| Tone Curve PV2012 Green | 0, 0, 255, 255 |
| Tone Curve PV2012 Red | 0, 0, 255, 255 |
| Tone Curve Red | 0, 0, 255, 255 |
| Version | 9.0 |
| Vibrance | 0 |
| Vignette Amount | 0 |
| White Balance | As Shot |
| Whites 2012 | +12 |
X