Shooting information for this photo
| Camera: | FUJIFILM X100V |
| Exposure: | 0.01667 sec. (1/60) |
| Aperture: | f/2.0 |
| Focal Length: | 23.0 mm (35 mm equivalent: 38.0 mm) |
| Flash: | No Flash |
| Exposure mode: | Program AE |
| Max Aperture: | 2.0 |
| Resolution: | 240 x 240 dpi |
| Original Date: | 2025:10:16 16:34:02 |
| Created on: | 2025:10:16 16:34:02 |
| Modified on: | 2025:10:18 12:49:12 |
| Software: | Adobe Photoshop Lightroom 6.0 (Windows) |
| Copyright: | s7 |
| Already Applied | True |
| Artist | s7 |
| Auto Lateral CA | 0 |
| Auto White Version | 134348800 |
| Blacks 2012 | 0 |
| Blue Hue | 0 |
| Blue Saturation | 0 |
| Brightness Value | 4.22 |
| Camera Profile | Adobe Standard |
| Circle Of Confusion | 0.018 mm |
| Clarity 2012 | +30 |
| Color Noise Reduction | 25 |
| Color Noise Reduction Detail | 50 |
| Color Noise Reduction Smoothness | 50 |
| Color Space | sRGB |
| Contrast 2012 | -39 |
| Convert To Grayscale | True |
| Creator | s7 |
| Crop Angle | 0 |
| Crop Bottom | 0.968973 |
| Crop Constrain To Warp | 0 |
| Crop Left | 0.006359 |
| Crop Right | 0.93476 |
| Crop Top | 0.040572 |
| Custom Rendered | Normal |
| Exposure 2012 | 0.00 |
| Exposure Compensation | 0 |
| Exposure Mode | Auto |
| Field Of View | 50.7 deg |
| Format | image/jpeg |
| Grain Amount | 40 |
| Grain Frequency | 50 |
| Grain Size | 25 |
| Gray Mixer Aqua | -18 |
| Gray Mixer Blue | +9 |
| Gray Mixer Green | -27 |
| Gray Mixer Magenta | +4 |
| Gray Mixer Orange | -19 |
| Gray Mixer Purple | +15 |
| Gray Mixer Red | -10 |
| Gray Mixer Yellow | -23 |
| Green Hue | 0 |
| Green Saturation | 0 |
| Has Crop | True |
| Has Settings | True |
| Highlights 2012 | -40 |
| Hyperfocal Distance | 14.55 m |
| ISO | 400 |
| Image Size | 3862x5793 |
| Incremental Temperature | 0 |
| Incremental Tint | 0 |
| Lens Manual Distortion Amount | 0 |
| Lens Profile Enable | 0 |
| Lens Profile Setup | LensDefaults |
| Light Source | Unknown |
| Light Value | 5.9 |
| Luminance Smoothing | 0 |
| Metering Mode | Multi-segment |
| Parametric Darks | 0 |
| Parametric Highlight Split | 75 |
| Parametric Highlights | 0 |
| Parametric Lights | 0 |
| Parametric Midtone Split | 50 |
| Parametric Shadow Split | 25 |
| Parametric Shadows | 0 |
| Perspective Aspect | 0 |
| Perspective Horizontal | -11 |
| Perspective Rotate | 0.0 |
| Perspective Scale | 100 |
| Perspective Upright | 0 |
| Perspective Vertical | 0 |
| Post Crop Vignette Amount | -18 |
| Post Crop Vignette Feather | 50 |
| Post Crop Vignette Highlight Contrast | 0 |
| Post Crop Vignette Midpoint | 50 |
| Post Crop Vignette Roundness | 0 |
| Post Crop Vignette Style | 1 |
| Process Version | 6.7 |
| Raw File Name | DSCF3233.jpg |
| Red Hue | 0 |
| Red Saturation | 0 |
| Rights | s7 |
| Scale Factor To 35 mm Equivalent | 1.7 |
| Scene Capture Type | Standard |
| Scene Type | Directly photographed |
| Sensing Method | One-chip color area |
| Sensitivity Type | Standard Output Sensitivity |
| Shadow Tint | 0 |
| Shadows 2012 | -20 |
| Sharpen Detail | 25 |
| Sharpen Edge Masking | 0 |
| Sharpen Radius | +1.0 |
| Sharpness | Normal |
| Split Toning Balance | 0 |
| Split Toning Highlight Hue | 0 |
| Split Toning Highlight Saturation | 0 |
| Split Toning Shadow Hue | 0 |
| Split Toning Shadow Saturation | 0 |
| Subject Distance Range | Unknown |
| Tone Curve | 0, 0, 255, 255 |
| Tone Curve Blue | 0, 0, 255, 255 |
| Tone Curve Green | 0, 0, 255, 255 |
| Tone Curve Name | Linear |
| Tone Curve Name 2012 | Medium Contrast |
| Tone Curve PV2012 | 0, 0, 32, 22, 64, 56, 128, 128, 192, 196, 255, 255 |
| Tone Curve PV2012 Blue | 0, 0, 255, 255 |
| Tone Curve PV2012 Green | 0, 0, 255, 255 |
| Tone Curve PV2012 Red | 0, 0, 255, 255 |
| Tone Curve Red | 0, 0, 255, 255 |
| Version | 9.0 |
| Vignette Amount | 0 |
| White Balance | Auto |
| Whites 2012 | -30 |
X