Shooting information for this photo
| Camera: | FUJIFILM X100V |
| Exposure: | 0.002 sec. (1/500) |
| Aperture: | f/13.0 |
| Focal Length: | 23.0 mm (35 mm equivalent: 80.1 mm) |
| Flash: | No Flash |
| Exposure mode: | Manual |
| Max Aperture: | 2.0 |
| Resolution: | 240 x 240 dpi |
| Original Date: | 2025:04:17 11:12:32 |
| Created on: | 2025:04:17 11:12:32 |
| Modified on: | 2025:04:20 13:45:05 |
| Software: | Adobe Photoshop Lightroom 6.0 (Windows) |
| Copyright: | s7 |
| Already Applied | True |
| Artist | s7 |
| Auto Lateral CA | 0 |
| Auto White Version | 134348800 |
| Blacks 2012 | 0 |
| Blue Hue | 0 |
| Blue Saturation | 0 |
| Brightness Value | 10.32 |
| Camera Profile | Embedded |
| Circle Of Confusion | 0.009 mm |
| Clarity 2012 | 0 |
| Color Noise Reduction | 0 |
| Color Space | sRGB |
| Contrast 2012 | +15 |
| Convert To Grayscale | False |
| Creator | s7 |
| Crop Angle | 0.001414 |
| Crop Bottom | 0.972497 |
| Crop Constrain To Warp | 0 |
| Crop Left | 0.010711 |
| Crop Right | 0.933414 |
| Crop Top | 0.04974 |
| Custom Rendered | Normal |
| Defringe Green Amount | 0 |
| Defringe Green Hue Hi | 60 |
| Defringe Green Hue Lo | 40 |
| Defringe Purple Amount | 0 |
| Defringe Purple Hue Hi | 70 |
| Defringe Purple Hue Lo | 30 |
| Exposure 2012 | +0.20 |
| Exposure Compensation | 0 |
| Exposure Mode | Manual |
| Field Of View | 25.3 deg |
| Format | image/jpeg |
| Grain Amount | 0 |
| Green Hue | 0 |
| Green Saturation | 0 |
| Has Crop | True |
| Has Settings | True |
| Highlights 2012 | 0 |
| Hue Adjustment Aqua | 0 |
| Hue Adjustment Blue | 0 |
| Hue Adjustment Green | 0 |
| Hue Adjustment Magenta | 0 |
| Hue Adjustment Orange | 0 |
| Hue Adjustment Purple | 0 |
| Hue Adjustment Red | 0 |
| Hue Adjustment Yellow | 0 |
| Hyperfocal Distance | 4.72 m |
| ISO | 250 |
| Image Size | 5758x3241 |
| Incremental Temperature | 0 |
| Incremental Tint | 0 |
| Lens Manual Distortion Amount | 0 |
| Lens Profile Enable | 0 |
| Lens Profile Setup | LensDefaults |
| Light Source | Unknown |
| Light Value | 15.0 |
| Luminance Adjustment Aqua | 0 |
| Luminance Adjustment Blue | 0 |
| Luminance Adjustment Green | 0 |
| Luminance Adjustment Magenta | 0 |
| Luminance Adjustment Orange | 0 |
| Luminance Adjustment Purple | 0 |
| Luminance Adjustment Red | 0 |
| Luminance Adjustment Yellow | +11 |
| Luminance Smoothing | 0 |
| Metering Mode | Multi-segment |
| Parametric Darks | 0 |
| Parametric Highlight Split | 75 |
| Parametric Highlights | 0 |
| Parametric Lights | 0 |
| Parametric Midtone Split | 50 |
| Parametric Shadow Split | 25 |
| Parametric Shadows | 0 |
| Perspective Aspect | 0 |
| Perspective Horizontal | 0 |
| Perspective Rotate | 0.0 |
| Perspective Scale | 100 |
| Perspective Upright | 0 |
| Perspective Vertical | 0 |
| Post Crop Vignette Amount | 0 |
| Process Version | 6.7 |
| Raw File Name | DSCF7137.jpg |
| Red Hue | 0 |
| Red Saturation | 0 |
| Rights | s7 |
| Saturation | 0 |
| Saturation Adjustment Aqua | 0 |
| Saturation Adjustment Blue | 0 |
| Saturation Adjustment Green | 0 |
| Saturation Adjustment Magenta | 0 |
| Saturation Adjustment Orange | +22 |
| Saturation Adjustment Purple | 0 |
| Saturation Adjustment Red | 0 |
| Saturation Adjustment Yellow | +11 |
| Scale Factor To 35 mm Equivalent | 3.5 |
| Scene Capture Type | Standard |
| Scene Type | Directly photographed |
| Sensing Method | One-chip color area |
| Sensitivity Type | Standard Output Sensitivity |
| Shadow Tint | 0 |
| Shadows 2012 | 0 |
| Sharpen Detail | 25 |
| Sharpen Edge Masking | 0 |
| Sharpen Radius | +1.0 |
| Sharpness | Normal |
| Split Toning Balance | 0 |
| Split Toning Highlight Hue | 0 |
| Split Toning Highlight Saturation | 0 |
| Split Toning Shadow Hue | 0 |
| Split Toning Shadow Saturation | 0 |
| Subject Distance Range | Unknown |
| Tone Curve | 0, 0, 255, 255 |
| Tone Curve Blue | 0, 0, 255, 255 |
| Tone Curve Green | 0, 0, 255, 255 |
| Tone Curve Name | Linear |
| Tone Curve Name 2012 | Linear |
| Tone Curve PV2012 | 0, 0, 255, 255 |
| Tone Curve PV2012 Blue | 0, 0, 255, 255 |
| Tone Curve PV2012 Green | 0, 0, 255, 255 |
| Tone Curve PV2012 Red | 0, 0, 255, 255 |
| Tone Curve Red | 0, 0, 255, 255 |
| Version | 9.0 |
| Vibrance | 0 |
| Vignette Amount | 0 |
| White Balance | Auto |
| Whites 2012 | 0 |
X