Shooting information for this photo
| Camera: | samsung SM-A127F |
| Resolution: | 240 x 240 dpi |
| Dimension: | 2552 x 2552 pixels |
| Original Date: | 2025:03:06 12:19:17+00:00 |
| Created on: | 2025:03:06 12:19:17.084 |
| Modified on: | 2025:03:06 13:31:01 |
| Software: | Adobe Photoshop Lightroom 6.0 (Windows) |
| Already Applied | True |
| Artist | Picasa |
| Auto Lateral CA | 0 |
| Auto White Version | 134348800 |
| Blacks 2012 | -12 |
| Blue Hue | 0 |
| Blue Saturation | 0 |
| Camera Profile | Adobe Standard |
| Clarity 2012 | +31 |
| Color Noise Reduction | 25 |
| Color Noise Reduction Detail | 50 |
| Color Noise Reduction Smoothness | 50 |
| Contrast 2012 | +23 |
| Convert To Grayscale | True |
| Creator | Picasa |
| Crop Angle | -1.10778 |
| Crop Bottom | 0.863886 |
| Crop Constrain To Warp | 0 |
| Crop Left | 0.246121 |
| Crop Right | 0.90262 |
| Crop Top | 0.021907 |
| Exposure 2012 | 0.00 |
| Format | image/jpeg |
| Grain Amount | 0 |
| Gray Mixer Aqua | +25 |
| Gray Mixer Blue | 0 |
| Gray Mixer Green | -5 |
| Gray Mixer Magenta | -40 |
| Gray Mixer Orange | +38 |
| Gray Mixer Purple | -30 |
| Gray Mixer Red | +50 |
| Gray Mixer Yellow | +36 |
| Green Hue | 0 |
| Green Saturation | 0 |
| Has Crop | True |
| Has Settings | True |
| Highlights 2012 | 0 |
| Image Size | 2552x2552 |
| Incremental Temperature | 0 |
| Incremental Tint | 0 |
| Lens Manual Distortion Amount | 0 |
| Lens Profile Enable | 0 |
| Lens Profile Setup | LensDefaults |
| Luminance Smoothing | 0 |
| Parametric Darks | +18 |
| Parametric Highlight Split | 75 |
| Parametric Highlights | +50 |
| Parametric Lights | +40 |
| Parametric Midtone Split | 50 |
| Parametric Shadow Split | 25 |
| Parametric Shadows | 0 |
| Perspective Aspect | 0 |
| Perspective Horizontal | 0 |
| Perspective Rotate | 0.0 |
| Perspective Scale | 100 |
| Perspective Upright | 0 |
| Perspective Vertical | 0 |
| Post Crop Vignette Amount | 0 |
| Process Version | 6.7 |
| Raw File Name | 20250306_121916.jpg |
| Red Hue | 0 |
| Red Saturation | 0 |
| Related Image Height | 2524 |
| Related Image Width | 2524 |
| Shadow Tint | 0 |
| Shadows 2012 | -7 |
| Sharpen Detail | 25 |
| Sharpen Edge Masking | 0 |
| Sharpen Radius | +1.0 |
| Sharpness | 25 |
| Split Toning Balance | 0 |
| Split Toning Highlight Hue | 0 |
| Split Toning Highlight Saturation | 0 |
| Split Toning Shadow Hue | 0 |
| Split Toning Shadow Saturation | 0 |
| Tone Curve | 0, 0, 255, 255 |
| Tone Curve Blue | 0, 0, 255, 255 |
| Tone Curve Green | 0, 0, 255, 255 |
| Tone Curve Name | Linear |
| Tone Curve Name 2012 | Strong Contrast |
| Tone Curve PV2012 | 0, 0, 32, 16, 64, 50, 128, 128, 192, 202, 255, 255 |
| Tone Curve PV2012 Blue | 0, 0, 255, 255 |
| Tone Curve PV2012 Green | 0, 0, 255, 255 |
| Tone Curve PV2012 Red | 0, 0, 255, 255 |
| Tone Curve Red | 0, 0, 255, 255 |
| Version | 9.0 |
| Vignette Amount | 0 |
| White Balance | As Shot |
| Whites 2012 | 0 |
X