Shooting information for this photo
| Camera: | FUJIFILM X100V |
| Exposure: | 0.004 sec. (1/250) |
| Aperture: | f/2.0 |
| Focal Length: | 23.0 mm (35 mm equivalent: 56.1 mm) |
| Flash: | No Flash |
| Exposure mode: | Manual |
| Max Aperture: | 2.0 |
| Resolution: | 240 x 240 dpi |
| Original Date: | 2022:12:09 21:27:22 |
| Created on: | 2022:12:09 21:27:22 |
| Modified on: | 2022:12:11 18:07:44 |
| Software: | Adobe Photoshop Lightroom 6.0 (Windows) |
| Already Applied | True |
| Auto Lateral CA | 0 |
| Auto White Version | 134348800 |
| Blacks 2012 | -7 |
| Blue Hue | 0 |
| Blue Saturation | 0 |
| Brightness Value | 2.99 |
| Camera Profile | Adobe Standard |
| Circle Of Confusion | 0.012 mm |
| Clarity 2012 | +24 |
| Color Noise Reduction | 25 |
| Color Noise Reduction Detail | 50 |
| Color Noise Reduction Smoothness | 50 |
| Color Space | sRGB |
| Contrast 2012 | 0 |
| Convert To Grayscale | True |
| Crop Angle | 0 |
| Crop Bottom | 0.957614 |
| Crop Constrain To Warp | 0 |
| Crop Left | 0.258785 |
| Crop Right | 0.793584 |
| Crop Top | 0.155416 |
| Custom Rendered | Normal |
| Exposure 2012 | 0.00 |
| Exposure Compensation | 0 |
| Exposure Mode | Manual |
| Field Of View | 35.6 deg |
| Format | image/jpeg |
| Grain Amount | 0 |
| Gray Mixer Aqua | +38 |
| Gray Mixer Blue | 0 |
| Gray Mixer Green | +30 |
| Gray Mixer Magenta | 0 |
| Gray Mixer Orange | +38 |
| Gray Mixer Purple | 0 |
| Gray Mixer Red | +25 |
| Gray Mixer Yellow | +40 |
| Green Hue | 0 |
| Green Saturation | 0 |
| Has Crop | True |
| Has Settings | True |
| Highlights 2012 | -50 |
| Hyperfocal Distance | 21.46 m |
| ISO | 640 |
| Image Size | 2362x2362 |
| Incremental Temperature | -5 |
| Incremental Tint | -36 |
| Lens Manual Distortion Amount | 0 |
| Lens Profile Enable | 0 |
| Lens Profile Setup | LensDefaults |
| Light Source | Unknown |
| Light Value | 7.3 |
| Luminance Smoothing | 0 |
| Metering Mode | Center-weighted average |
| Parametric Darks | 0 |
| Parametric Highlight Split | 75 |
| Parametric Highlights | 0 |
| Parametric Lights | 0 |
| Parametric Midtone Split | 50 |
| Parametric Shadow Split | 25 |
| Parametric Shadows | 0 |
| Perspective Aspect | 0 |
| Perspective Horizontal | 0 |
| Perspective Rotate | 0.0 |
| Perspective Scale | 100 |
| Perspective Upright | 0 |
| Perspective Vertical | 0 |
| Post Crop Vignette Amount | 0 |
| Process Version | 6.7 |
| Raw File Name | DSCF7597-2.JPG |
| Red Hue | 0 |
| Red Saturation | 0 |
| Scale Factor To 35 mm Equivalent | 2.4 |
| Scene Capture Type | Standard |
| Scene Type | Directly photographed |
| Sensing Method | One-chip color area |
| Sensitivity Type | Standard Output Sensitivity |
| Shadow Tint | 0 |
| Shadows 2012 | 0 |
| Sharpen Detail | 25 |
| Sharpen Edge Masking | 0 |
| Sharpen Radius | +1.0 |
| Sharpness | Normal |
| Split Toning Balance | 0 |
| Split Toning Highlight Hue | 0 |
| Split Toning Highlight Saturation | 0 |
| Split Toning Shadow Hue | 0 |
| Split Toning Shadow Saturation | 0 |
| Subject Distance Range | Unknown |
| Tone Curve | 0, 0, 255, 255 |
| Tone Curve Blue | 0, 0, 255, 255 |
| Tone Curve Green | 0, 0, 255, 255 |
| Tone Curve Name | Linear |
| Tone Curve Name 2012 | Linear |
| Tone Curve PV2012 | 0, 0, 255, 255 |
| Tone Curve PV2012 Blue | 0, 0, 255, 255 |
| Tone Curve PV2012 Green | 0, 0, 255, 255 |
| Tone Curve PV2012 Red | 0, 0, 255, 255 |
| Tone Curve Red | 0, 0, 255, 255 |
| Version | 9.0 |
| Vignette Amount | 0 |
| White Balance | Auto |
| Whites 2012 | 0 |
X