Shooting information for this photo
| Camera: | NIKON COOLPIX A900 |
| Exposure: | 0.0025 sec. (1/400) |
| Aperture: | f/4.5 |
| Focal Length: | 12.5 mm (35 mm equivalent: 70.0 mm) |
| Flash: | Off, Did not fire |
| Exposure mode: | Program AE |
| Max Aperture: | 3.4 |
| Resolution: | 240 x 240 dpi |
| Original Date: | 2019:09:01 11:27:01 |
| Created on: | 2019:09:01 11:27:01 |
| Modified on: | 2019:10:05 16:44:52 |
| Software: | Adobe Photoshop Lightroom 6.0 (Windows) |
| Already Applied | True |
| Auto Lateral CA | 0 |
| Auto White Version | 134348800 |
| Blacks 2012 | -7 |
| Blue Hue | 0 |
| Blue Saturation | 0 |
| Camera Profile | Adobe Standard |
| Circle Of Confusion | 0.005 mm |
| Clarity 2012 | +24 |
| Color Noise Reduction | 25 |
| Color Noise Reduction Detail | 50 |
| Color Noise Reduction Smoothness | 50 |
| Color Space | sRGB |
| Contrast | Normal |
| Contrast 2012 | 0 |
| Convert To Grayscale | True |
| Crop Angle | -0.023047 |
| Crop Bottom | 0.792734 |
| Crop Constrain To Warp | 0 |
| Crop Left | 0.295471 |
| Crop Right | 0.846492 |
| Crop Top | 0.058631 |
| Custom Rendered | Normal |
| Digital Zoom Ratio | 0 |
| Exposure 2012 | 0.00 |
| Exposure Compensation | 0 |
| Exposure Mode | Auto |
| Field Of View | 28.8 deg |
| Focal Length In 35mm Format | 70 mm |
| Format | image/jpeg |
| Gain Control | None |
| Grain Amount | 0 |
| Gray Mixer Aqua | +38 |
| Gray Mixer Blue | 0 |
| Gray Mixer Green | +30 |
| Gray Mixer Magenta | 0 |
| Gray Mixer Orange | +38 |
| Gray Mixer Purple | 0 |
| Gray Mixer Red | +25 |
| Gray Mixer Yellow | +40 |
| Green Hue | 0 |
| Green Saturation | 0 |
| Has Crop | True |
| Has Settings | True |
| Highlights 2012 | -50 |
| Hyperfocal Distance | 6.47 m |
| ISO | 80 |
| Image Size | 2855x2855 |
| Incremental Temperature | -5 |
| Incremental Tint | -36 |
| Lens Manual Distortion Amount | 0 |
| Lens Profile Enable | 0 |
| Lens Profile Setup | LensDefaults |
| Light Source | Unknown |
| Light Value | 13.3 |
| Luminance Smoothing | 0 |
| Metering Mode | Multi-segment |
| Parametric Darks | 0 |
| Parametric Highlight Split | 75 |
| Parametric Highlights | 0 |
| Parametric Lights | 0 |
| Parametric Midtone Split | 50 |
| Parametric Shadow Split | 25 |
| Parametric Shadows | 0 |
| Perspective Aspect | 0 |
| Perspective Horizontal | 0 |
| Perspective Rotate | 0.0 |
| Perspective Scale | 100 |
| Perspective Upright | 0 |
| Perspective Vertical | 0 |
| Post Crop Vignette Amount | 0 |
| Process Version | 6.7 |
| Raw File Name | DSCN0746-2.jpg |
| Red Hue | 0 |
| Red Saturation | 0 |
| Saturation | Normal |
| Scale Factor To 35 mm Equivalent | 5.6 |
| Scene Capture Type | Standard |
| Scene Type | Directly photographed |
| Sensitivity Type | Standard Output Sensitivity |
| Shadow Tint | 0 |
| Shadows 2012 | 0 |
| Sharpen Detail | 25 |
| Sharpen Edge Masking | 0 |
| Sharpen Radius | +1.0 |
| Sharpness | Normal |
| Split Toning Balance | 0 |
| Split Toning Highlight Hue | 0 |
| Split Toning Highlight Saturation | 0 |
| Split Toning Shadow Hue | 0 |
| Split Toning Shadow Saturation | 0 |
| Subject Distance Range | Unknown |
| Tone Curve | 0, 0, 255, 255 |
| Tone Curve Blue | 0, 0, 255, 255 |
| Tone Curve Green | 0, 0, 255, 255 |
| Tone Curve Name | Linear |
| Tone Curve Name 2012 | Custom |
| Tone Curve PV2012 | 0, 0, 136, 128, 255, 255 |
| Tone Curve PV2012 Blue | 0, 0, 255, 255 |
| Tone Curve PV2012 Green | 0, 0, 255, 255 |
| Tone Curve PV2012 Red | 0, 0, 255, 255 |
| Tone Curve Red | 0, 0, 255, 255 |
| Version | 9.0 |
| Vignette Amount | 0 |
| White Balance | Auto |
| Whites 2012 | 0 |
X